Workbook
Name FechasRetiroPunta: Retiros!$G$8:INDEX(Retiros!$G$8:$G$127,MAX(1,Retiros!$F$6))

Sheet Turno
A1: Carrasco / Lista del turno
A2: Elegí la fecha de elaboración en amarillo. Al terminar, avisá cuánto hiciste para cada retiro. Si juntás dos tandas del mismo producto, confirmá los retiros con el encargado y rotulá los envases por separado.
A3: Día de elaboración | B3: 46335
A4: =IF(NOT(ISNUMBER(B3)),"Elegí una fecha.",IF(MAX(Encargado!$V$9:$V$128)=0,"No hay tareas asignadas para el "&DAY(B3)&"/"&MONTH(B3)&". Si buscás otro día, cambiá la fecha amarilla.","La cantidad indica lo que falta hacer.")) -> No hay tareas asignadas para el 9/11. Si buscás otro día, cambiá la fecha amarilla.
A5: =IF(AND(ISNUMBER(B3),B3<=criterio!$B$26),Encargado!$AH$5,IF(AND(ISNUMBER(B3),B3>=criterio!$B$5,B3<=criterio!$B$6),"Temporada alta hasta el 17/01. Revisá el próximo retiro antes de reponer.","Previsión = referencia del verano pasado. El encargado confirma pedido, stock y capacidad antes de dar la orden.")) -> Apertura 30/11 pendiente: confirmar si hay servicio y con qué stock o pedido se cubre.
A6: =IF(Encargado!$AH$4<>"",Encargado!$AH$4,"Al terminar, avisá cuánto salió. El encargado lo anota en la fila de esa tanda.") -> Al terminar, avisá cuánto salió. El encargado lo anota en la fila de esa tanda.
A7: Qué hacer | B7: Producto y días de uso | C7: Cantidad | D7: Retiro | E7: Guardar y rotular
A8: =IF($F8=0,"",INDEX(Encargado!$AL$9:$AL$128,$F8)) | B8: =IF($F8=0,"",INDEX(Encargado!$A$9:$A$128,$F8)&IF(INDEX(Encargado!$L$9:$L$128,$F8)="Adelanto"," · Adelanto para stock","")&IF(AND(ISNUMBER(INDEX(Encargado!$D$9:$D$128,$F8)),ISNUMBER(INDEX(Encargado!$E$9:$E$128,$F8))),CHAR(10)&TEXT(INDEX(Encargado!$D$9:$D$128,$F8),"dd/mm")&" al "&TEXT(INDEX(Encargado!$E$9:$E$128,$F8),"dd/mm"),"")) | C8: =IF($F8=0,"",ROUND(INDEX(Encargado!$J$9:$J$128,$F8),3)&" "&INDEX(Encargado!$F$9:$F$128,$F8)) | D8: =IF($F8=0,"",IF(INDEX(Encargado!$L$9:$L$128,$F8)="Adelanto","Prev. "&TEXT(INDEX(Encargado!$C$9:$C$128,$F8),"dd/mm"),INDEX(Encargado!$C$9:$C$128,$F8))) | E8: =IF($F8=0,"",INDEX(Encargado!$Y$9:$Y$128,$F8)&CHAR(10)&"Vto. previsto: "&TEXT(INDEX(Encargado!$Q$9:$Q$128,$F8),"dd/mm/yy")) | F8: =IFERROR(MATCH(1,Encargado!$V$9:$V$128,0),0) -> 0
A9: =IF($F9=0,"",INDEX(Encargado!$AL$9:$AL$128,$F9)) | B9: =IF($F9=0,"",INDEX(Encargado!$A$9:$A$128,$F9)&IF(INDEX(Encargado!$L$9:$L$128,$F9)="Adelanto"," · Adelanto para stock","")&IF(AND(ISNUMBER(INDEX(Encargado!$D$9:$D$128,$F9)),ISNUMBER(INDEX(Encargado!$E$9:$E$128,$F9))),CHAR(10)&TEXT(INDEX(Encargado!$D$9:$D$128,$F9),"dd/mm")&" al "&TEXT(INDEX(Encargado!$E$9:$E$128,$F9),"dd/mm"),"")) | C9: =IF($F9=0,"",ROUND(INDEX(Encargado!$J$9:$J$128,$F9),3)&" "&INDEX(Encargado!$F$9:$F$128,$F9)) | D9: =IF($F9=0,"",IF(INDEX(Encargado!$L$9:$L$128,$F9)="Adelanto","Prev. "&TEXT(INDEX(Encargado!$C$9:$C$128,$F9),"dd/mm"),INDEX(Encargado!$C$9:$C$128,$F9))) | E9: =IF($F9=0,"",INDEX(Encargado!$Y$9:$Y$128,$F9)&CHAR(10)&"Vto. previsto: "&TEXT(INDEX(Encargado!$Q$9:$Q$128,$F9),"dd/mm/yy")) | F9: =IFERROR(MATCH(2,Encargado!$V$9:$V$128,0),0) -> 0
A10: =IF($F10=0,"",INDEX(Encargado!$AL$9:$AL$128,$F10)) | B10: =IF($F10=0,"",INDEX(Encargado!$A$9:$A$128,$F10)&IF(INDEX(Encargado!$L$9:$L$128,$F10)="Adelanto"," · Adelanto para stock","")&IF(AND(ISNUMBER(INDEX(Encargado!$D$9:$D$128,$F10)),ISNUMBER(INDEX(Encargado!$E$9:$E$128,$F10))),CHAR(10)&TEXT(INDEX(Encargado!$D$9:$D$128,$F10),"dd/mm")&" al "&TEXT(INDEX(Encargado!$E$9:$E$128,$F10),"dd/mm"),"")) | C10: =IF($F10=0,"",ROUND(INDEX(Encargado!$J$9:$J$128,$F10),3)&" "&INDEX(Encargado!$F$9:$F$128,$F10)) | D10: =IF($F10=0,"",IF(INDEX(Encargado!$L$9:$L$128,$F10)="Adelanto","Prev. "&TEXT(INDEX(Encargado!$C$9:$C$128,$F10),"dd/mm"),INDEX(Encargado!$C$9:$C$128,$F10))) | E10: =IF($F10=0,"",INDEX(Encargado!$Y$9:$Y$128,$F10)&CHAR(10)&"Vto. previsto: "&TEXT(INDEX(Encargado!$Q$9:$Q$128,$F10),"dd/mm/yy")) | F10: =IFERROR(MATCH(3,Encargado!$V$9:$V$128,0),0) -> 0
A11: =IF($F11=0,"",INDEX(Encargado!$AL$9:$AL$128,$F11)) | B11: =IF($F11=0,"",INDEX(Encargado!$A$9:$A$128,$F11)&IF(INDEX(Encargado!$L$9:$L$128,$F11)="Adelanto"," · Adelanto para stock","")&IF(AND(ISNUMBER(INDEX(Encargado!$D$9:$D$128,$F11)),ISNUMBER(INDEX(Encargado!$E$9:$E$128,$F11))),CHAR(10)&TEXT(INDEX(Encargado!$D$9:$D$128,$F11),"dd/mm")&" al "&TEXT(INDEX(Encargado!$E$9:$E$128,$F11),"dd/mm"),"")) | C11: =IF($F11=0,"",ROUND(INDEX(Encargado!$J$9:$J$128,$F11),3)&" "&INDEX(Encargado!$F$9:$F$128,$F11)) | D11: =IF($F11=0,"",IF(INDEX(Encargado!$L$9:$L$128,$F11)="Adelanto","Prev. "&TEXT(INDEX(Encargado!$C$9:$C$128,$F11),"dd/mm"),INDEX(Encargado!$C$9:$C$128,$F11))) | E11: =IF($F11=0,"",INDEX(Encargado!$Y$9:$Y$128,$F11)&CHAR(10)&"Vto. previsto: "&TEXT(INDEX(Encargado!$Q$9:$Q$128,$F11),"dd/mm/yy")) | F11: =IFERROR(MATCH(4,Encargado!$V$9:$V$128,0),0) -> 0
A12: =IF($F12=0,"",INDEX(Encargado!$AL$9:$AL$128,$F12)) | B12: =IF($F12=0,"",INDEX(Encargado!$A$9:$A$128,$F12)&IF(INDEX(Encargado!$L$9:$L$128,$F12)="Adelanto"," · Adelanto para stock","")&IF(AND(ISNUMBER(INDEX(Encargado!$D$9:$D$128,$F12)),ISNUMBER(INDEX(Encargado!$E$9:$E$128,$F12))),CHAR(10)&TEXT(INDEX(Encargado!$D$9:$D$128,$F12),"dd/mm")&" al "&TEXT(INDEX(Encargado!$E$9:$E$128,$F12),"dd/mm"),"")) | C12: =IF($F12=0,"",ROUND(INDEX(Encargado!$J$9:$J$128,$F12),3)&" "&INDEX(Encargado!$F$9:$F$128,$F12)) | D12: =IF($F12=0,"",IF(INDEX(Encargado!$L$9:$L$128,$F12)="Adelanto","Prev. "&TEXT(INDEX(Encargado!$C$9:$C$128,$F12),"dd/mm"),INDEX(Encargado!$C$9:$C$128,$F12))) | E12: =IF($F12=0,"",INDEX(Encargado!$Y$9:$Y$128,$F12)&CHAR(10)&"Vto. previsto: "&TEXT(INDEX(Encargado!$Q$9:$Q$128,$F12),"dd/mm/yy")) | F12: =IFERROR(MATCH(5,Encargado!$V$9:$V$128,0),0) -> 0
A13: =IF($F13=0,"",INDEX(Encargado!$AL$9:$AL$128,$F13)) | B13: =IF($F13=0,"",INDEX(Encargado!$A$9:$A$128,$F13)&IF(INDEX(Encargado!$L$9:$L$128,$F13)="Adelanto"," · Adelanto para stock","")&IF(AND(ISNUMBER(INDEX(Encargado!$D$9:$D$128,$F13)),ISNUMBER(INDEX(Encargado!$E$9:$E$128,$F13))),CHAR(10)&TEXT(INDEX(Encargado!$D$9:$D$128,$F13),"dd/mm")&" al "&TEXT(INDEX(Encargado!$E$9:$E$128,$F13),"dd/mm"),"")) | C13: =IF($F13=0,"",ROUND(INDEX(Encargado!$J$9:$J$128,$F13),3)&" "&INDEX(Encargado!$F$9:$F$128,$F13)) | D13: =IF($F13=0,"",IF(INDEX(Encargado!$L$9:$L$128,$F13)="Adelanto","Prev. "&TEXT(INDEX(Encargado!$C$9:$C$128,$F13),"dd/mm"),INDEX(Encargado!$C$9:$C$128,$F13))) | E13: =IF($F13=0,"",INDEX(Encargado!$Y$9:$Y$128,$F13)&CHAR(10)&"Vto. previsto: "&TEXT(INDEX(Encargado!$Q$9:$Q$128,$F13),"dd/mm/yy")) | F13: =IFERROR(MATCH(6,Encargado!$V$9:$V$128,0),0) -> 0
A14: =IF($F14=0,"",INDEX(Encargado!$AL$9:$AL$128,$F14)) | B14: =IF($F14=0,"",INDEX(Encargado!$A$9:$A$128,$F14)&IF(INDEX(Encargado!$L$9:$L$128,$F14)="Adelanto"," · Adelanto para stock","")&IF(AND(ISNUMBER(INDEX(Encargado!$D$9:$D$128,$F14)),ISNUMBER(INDEX(Encargado!$E$9:$E$128,$F14))),CHAR(10)&TEXT(INDEX(Encargado!$D$9:$D$128,$F14),"dd/mm")&" al "&TEXT(INDEX(Encargado!$E$9:$E$128,$F14),"dd/mm"),"")) | C14: =IF($F14=0,"",ROUND(INDEX(Encargado!$J$9:$J$128,$F14),3)&" "&INDEX(Encargado!$F$9:$F$128,$F14)) | D14: =IF($F14=0,"",IF(INDEX(Encargado!$L$9:$L$128,$F14)="Adelanto","Prev. "&TEXT(INDEX(Encargado!$C$9:$C$128,$F14),"dd/mm"),INDEX(Encargado!$C$9:$C$128,$F14))) | E14: =IF($F14=0,"",INDEX(Encargado!$Y$9:$Y$128,$F14)&CHAR(10)&"Vto. previsto: "&TEXT(INDEX(Encargado!$Q$9:$Q$128,$F14),"dd/mm/yy")) | F14: =IFERROR(MATCH(7,Encargado!$V$9:$V$128,0),0) -> 0
A15: =IF($F15=0,"",INDEX(Encargado!$AL$9:$AL$128,$F15)) | B15: =IF($F15=0,"",INDEX(Encargado!$A$9:$A$128,$F15)&IF(INDEX(Encargado!$L$9:$L$128,$F15)="Adelanto"," · Adelanto para stock","")&IF(AND(ISNUMBER(INDEX(Encargado!$D$9:$D$128,$F15)),ISNUMBER(INDEX(Encargado!$E$9:$E$128,$F15))),CHAR(10)&TEXT(INDEX(Encargado!$D$9:$D$128,$F15),"dd/mm")&" al "&TEXT(INDEX(Encargado!$E$9:$E$128,$F15),"dd/mm"),"")) | C15: =IF($F15=0,"",ROUND(INDEX(Encargado!$J$9:$J$128,$F15),3)&" "&INDEX(Encargado!$F$9:$F$128,$F15)) | D15: =IF($F15=0,"",IF(INDEX(Encargado!$L$9:$L$128,$F15)="Adelanto","Prev. "&TEXT(INDEX(Encargado!$C$9:$C$128,$F15),"dd/mm"),INDEX(Encargado!$C$9:$C$128,$F15))) | E15: =IF($F15=0,"",INDEX(Encargado!$Y$9:$Y$128,$F15)&CHAR(10)&"Vto. previsto: "&TEXT(INDEX(Encargado!$Q$9:$Q$128,$F15),"dd/mm/yy")) | F15: =IFERROR(MATCH(8,Encargado!$V$9:$V$128,0),0) -> 0
A16: =IF($F16=0,"",INDEX(Encargado!$AL$9:$AL$128,$F16)) | B16: =IF($F16=0,"",INDEX(Encargado!$A$9:$A$128,$F16)&IF(INDEX(Encargado!$L$9:$L$128,$F16)="Adelanto"," · Adelanto para stock","")&IF(AND(ISNUMBER(INDEX(Encargado!$D$9:$D$128,$F16)),ISNUMBER(INDEX(Encargado!$E$9:$E$128,$F16))),CHAR(10)&TEXT(INDEX(Encargado!$D$9:$D$128,$F16),"dd/mm")&" al "&TEXT(INDEX(Encargado!$E$9:$E$128,$F16),"dd/mm"),"")) | C16: =IF($F16=0,"",ROUND(INDEX(Encargado!$J$9:$J$128,$F16),3)&" "&INDEX(Encargado!$F$9:$F$128,$F16)) | D16: =IF($F16=0,"",IF(INDEX(Encargado!$L$9:$L$128,$F16)="Adelanto","Prev. "&TEXT(INDEX(Encargado!$C$9:$C$128,$F16),"dd/mm"),INDEX(Encargado!$C$9:$C$128,$F16))) | E16: =IF($F16=0,"",INDEX(Encargado!$Y$9:$Y$128,$F16)&CHAR(10)&"Vto. previsto: "&TEXT(INDEX(Encargado!$Q$9:$Q$128,$F16),"dd/mm/yy")) | F16: =IFERROR(MATCH(9,Encargado!$V$9:$V$128,0),0) -> 0
A17: =IF($F17=0,"",INDEX(Encargado!$AL$9:$AL$128,$F17)) | B17: =IF($F17=0,"",INDEX(Encargado!$A$9:$A$128,$F17)&IF(INDEX(Encargado!$L$9:$L$128,$F17)="Adelanto"," · Adelanto para stock","")&IF(AND(ISNUMBER(INDEX(Encargado!$D$9:$D$128,$F17)),ISNUMBER(INDEX(Encargado!$E$9:$E$128,$F17))),CHAR(10)&TEXT(INDEX(Encargado!$D$9:$D$128,$F17),"dd/mm")&" al "&TEXT(INDEX(Encargado!$E$9:$E$128,$F17),"dd/mm"),"")) | C17: =IF($F17=0,"",ROUND(INDEX(Encargado!$J$9:$J$128,$F17),3)&" "&INDEX(Encargado!$F$9:$F$128,$F17)) | D17: =IF($F17=0,"",IF(INDEX(Encargado!$L$9:$L$128,$F17)="Adelanto","Prev. "&TEXT(INDEX(Encargado!$C$9:$C$128,$F17),"dd/mm"),INDEX(Encargado!$C$9:$C$128,$F17))) | E17: =IF($F17=0,"",INDEX(Encargado!$Y$9:$Y$128,$F17)&CHAR(10)&"Vto. previsto: "&TEXT(INDEX(Encargado!$Q$9:$Q$128,$F17),"dd/mm/yy")) | F17: =IFERROR(MATCH(10,Encargado!$V$9:$V$128,0),0) -> 0
A18: =IF($F18=0,"",INDEX(Encargado!$AL$9:$AL$128,$F18)) | B18: =IF($F18=0,"",INDEX(Encargado!$A$9:$A$128,$F18)&IF(INDEX(Encargado!$L$9:$L$128,$F18)="Adelanto"," · Adelanto para stock","")&IF(AND(ISNUMBER(INDEX(Encargado!$D$9:$D$128,$F18)),ISNUMBER(INDEX(Encargado!$E$9:$E$128,$F18))),CHAR(10)&TEXT(INDEX(Encargado!$D$9:$D$128,$F18),"dd/mm")&" al "&TEXT(INDEX(Encargado!$E$9:$E$128,$F18),"dd/mm"),"")) | C18: =IF($F18=0,"",ROUND(INDEX(Encargado!$J$9:$J$128,$F18),3)&" "&INDEX(Encargado!$F$9:$F$128,$F18)) | D18: =IF($F18=0,"",IF(INDEX(Encargado!$L$9:$L$128,$F18)="Adelanto","Prev. "&TEXT(INDEX(Encargado!$C$9:$C$128,$F18),"dd/mm"),INDEX(Encargado!$C$9:$C$128,$F18))) | E18: =IF($F18=0,"",INDEX(Encargado!$Y$9:$Y$128,$F18)&CHAR(10)&"Vto. previsto: "&TEXT(INDEX(Encargado!$Q$9:$Q$128,$F18),"dd/mm/yy")) | F18: =IFERROR(MATCH(11,Encargado!$V$9:$V$128,0),0) -> 0
A19: =IF($F19=0,"",INDEX(Encargado!$AL$9:$AL$128,$F19)) | B19: =IF($F19=0,"",INDEX(Encargado!$A$9:$A$128,$F19)&IF(INDEX(Encargado!$L$9:$L$128,$F19)="Adelanto"," · Adelanto para stock","")&IF(AND(ISNUMBER(INDEX(Encargado!$D$9:$D$128,$F19)),ISNUMBER(INDEX(Encargado!$E$9:$E$128,$F19))),CHAR(10)&TEXT(INDEX(Encargado!$D$9:$D$128,$F19),"dd/mm")&" al "&TEXT(INDEX(Encargado!$E$9:$E$128,$F19),"dd/mm"),"")) | C19: =IF($F19=0,"",ROUND(INDEX(Encargado!$J$9:$J$128,$F19),3)&" "&INDEX(Encargado!$F$9:$F$128,$F19)) | D19: =IF($F19=0,"",IF(INDEX(Encargado!$L$9:$L$128,$F19)="Adelanto","Prev. "&TEXT(INDEX(Encargado!$C$9:$C$128,$F19),"dd/mm"),INDEX(Encargado!$C$9:$C$128,$F19))) | E19: =IF($F19=0,"",INDEX(Encargado!$Y$9:$Y$128,$F19)&CHAR(10)&"Vto. previsto: "&TEXT(INDEX(Encargado!$Q$9:$Q$128,$F19),"dd/mm/yy")) | F19: =IFERROR(MATCH(12,Encargado!$V$9:$V$128,0),0) -> 0
A20: =IF($F20=0,"",INDEX(Encargado!$AL$9:$AL$128,$F20)) | B20: =IF($F20=0,"",INDEX(Encargado!$A$9:$A$128,$F20)&IF(INDEX(Encargado!$L$9:$L$128,$F20)="Adelanto"," · Adelanto para stock","")&IF(AND(ISNUMBER(INDEX(Encargado!$D$9:$D$128,$F20)),ISNUMBER(INDEX(Encargado!$E$9:$E$128,$F20))),CHAR(10)&TEXT(INDEX(Encargado!$D$9:$D$128,$F20),"dd/mm")&" al "&TEXT(INDEX(Encargado!$E$9:$E$128,$F20),"dd/mm"),"")) | C20: =IF($F20=0,"",ROUND(INDEX(Encargado!$J$9:$J$128,$F20),3)&" "&INDEX(Encargado!$F$9:$F$128,$F20)) | D20: =IF($F20=0,"",IF(INDEX(Encargado!$L$9:$L$128,$F20)="Adelanto","Prev. "&TEXT(INDEX(Encargado!$C$9:$C$128,$F20),"dd/mm"),INDEX(Encargado!$C$9:$C$128,$F20))) | E20: =IF($F20=0,"",INDEX(Encargado!$Y$9:$Y$128,$F20)&CHAR(10)&"Vto. previsto: "&TEXT(INDEX(Encargado!$Q$9:$Q$128,$F20),"dd/mm/yy")) | F20: =IFERROR(MATCH(13,Encargado!$V$9:$V$128,0),0) -> 0
A21: =IF($F21=0,"",INDEX(Encargado!$AL$9:$AL$128,$F21)) | B21: =IF($F21=0,"",INDEX(Encargado!$A$9:$A$128,$F21)&IF(INDEX(Encargado!$L$9:$L$128,$F21)="Adelanto"," · Adelanto para stock","")&IF(AND(ISNUMBER(INDEX(Encargado!$D$9:$D$128,$F21)),ISNUMBER(INDEX(Encargado!$E$9:$E$128,$F21))),CHAR(10)&TEXT(INDEX(Encargado!$D$9:$D$128,$F21),"dd/mm")&" al "&TEXT(INDEX(Encargado!$E$9:$E$128,$F21),"dd/mm"),"")) | C21: =IF($F21=0,"",ROUND(INDEX(Encargado!$J$9:$J$128,$F21),3)&" "&INDEX(Encargado!$F$9:$F$128,$F21)) | D21: =IF($F21=0,"",IF(INDEX(Encargado!$L$9:$L$128,$F21)="Adelanto","Prev. "&TEXT(INDEX(Encargado!$C$9:$C$128,$F21),"dd/mm"),INDEX(Encargado!$C$9:$C$128,$F21))) | E21: =IF($F21=0,"",INDEX(Encargado!$Y$9:$Y$128,$F21)&CHAR(10)&"Vto. previsto: "&TEXT(INDEX(Encargado!$Q$9:$Q$128,$F21),"dd/mm/yy")) | F21: =IFERROR(MATCH(14,Encargado!$V$9:$V$128,0),0) -> 0
A22: =IF($F22=0,"",INDEX(Encargado!$AL$9:$AL$128,$F22)) | B22: =IF($F22=0,"",INDEX(Encargado!$A$9:$A$128,$F22)&IF(INDEX(Encargado!$L$9:$L$128,$F22)="Adelanto"," · Adelanto para stock","")&IF(AND(ISNUMBER(INDEX(Encargado!$D$9:$D$128,$F22)),ISNUMBER(INDEX(Encargado!$E$9:$E$128,$F22))),CHAR(10)&TEXT(INDEX(Encargado!$D$9:$D$128,$F22),"dd/mm")&" al "&TEXT(INDEX(Encargado!$E$9:$E$128,$F22),"dd/mm"),"")) | C22: =IF($F22=0,"",ROUND(INDEX(Encargado!$J$9:$J$128,$F22),3)&" "&INDEX(Encargado!$F$9:$F$128,$F22)) | D22: =IF($F22=0,"",IF(INDEX(Encargado!$L$9:$L$128,$F22)="Adelanto","Prev. "&TEXT(INDEX(Encargado!$C$9:$C$128,$F22),"dd/mm"),INDEX(Encargado!$C$9:$C$128,$F22))) | E22: =IF($F22=0,"",INDEX(Encargado!$Y$9:$Y$128,$F22)&CHAR(10)&"Vto. previsto: "&TEXT(INDEX(Encargado!$Q$9:$Q$128,$F22),"dd/mm/yy")) | F22: =IFERROR(MATCH(15,Encargado!$V$9:$V$128,0),0) -> 0
A23: =IF($F23=0,"",INDEX(Encargado!$AL$9:$AL$128,$F23)) | B23: =IF($F23=0,"",INDEX(Encargado!$A$9:$A$128,$F23)&IF(INDEX(Encargado!$L$9:$L$128,$F23)="Adelanto"," · Adelanto para stock","")&IF(AND(ISNUMBER(INDEX(Encargado!$D$9:$D$128,$F23)),ISNUMBER(INDEX(Encargado!$E$9:$E$128,$F23))),CHAR(10)&TEXT(INDEX(Encargado!$D$9:$D$128,$F23),"dd/mm")&" al "&TEXT(INDEX(Encargado!$E$9:$E$128,$F23),"dd/mm"),"")) | C23: =IF($F23=0,"",ROUND(INDEX(Encargado!$J$9:$J$128,$F23),3)&" "&INDEX(Encargado!$F$9:$F$128,$F23)) | D23: =IF($F23=0,"",IF(INDEX(Encargado!$L$9:$L$128,$F23)="Adelanto","Prev. "&TEXT(INDEX(Encargado!$C$9:$C$128,$F23),"dd/mm"),INDEX(Encargado!$C$9:$C$128,$F23))) | E23: =IF($F23=0,"",INDEX(Encargado!$Y$9:$Y$128,$F23)&CHAR(10)&"Vto. previsto: "&TEXT(INDEX(Encargado!$Q$9:$Q$128,$F23),"dd/mm/yy")) | F23: =IFERROR(MATCH(16,Encargado!$V$9:$V$128,0),0) -> 0
A24: =IF($F24=0,"",INDEX(Encargado!$AL$9:$AL$128,$F24)) | B24: =IF($F24=0,"",INDEX(Encargado!$A$9:$A$128,$F24)&IF(INDEX(Encargado!$L$9:$L$128,$F24)="Adelanto"," · Adelanto para stock","")&IF(AND(ISNUMBER(INDEX(Encargado!$D$9:$D$128,$F24)),ISNUMBER(INDEX(Encargado!$E$9:$E$128,$F24))),CHAR(10)&TEXT(INDEX(Encargado!$D$9:$D$128,$F24),"dd/mm")&" al "&TEXT(INDEX(Encargado!$E$9:$E$128,$F24),"dd/mm"),"")) | C24: =IF($F24=0,"",ROUND(INDEX(Encargado!$J$9:$J$128,$F24),3)&" "&INDEX(Encargado!$F$9:$F$128,$F24)) | D24: =IF($F24=0,"",IF(INDEX(Encargado!$L$9:$L$128,$F24)="Adelanto","Prev. "&TEXT(INDEX(Encargado!$C$9:$C$128,$F24),"dd/mm"),INDEX(Encargado!$C$9:$C$128,$F24))) | E24: =IF($F24=0,"",INDEX(Encargado!$Y$9:$Y$128,$F24)&CHAR(10)&"Vto. previsto: "&TEXT(INDEX(Encargado!$Q$9:$Q$128,$F24),"dd/mm/yy")) | F24: =IFERROR(MATCH(17,Encargado!$V$9:$V$128,0),0) -> 0
A25: =IF($F25=0,"",INDEX(Encargado!$AL$9:$AL$128,$F25)) | B25: =IF($F25=0,"",INDEX(Encargado!$A$9:$A$128,$F25)&IF(INDEX(Encargado!$L$9:$L$128,$F25)="Adelanto"," · Adelanto para stock","")&IF(AND(ISNUMBER(INDEX(Encargado!$D$9:$D$128,$F25)),ISNUMBER(INDEX(Encargado!$E$9:$E$128,$F25))),CHAR(10)&TEXT(INDEX(Encargado!$D$9:$D$128,$F25),"dd/mm")&" al "&TEXT(INDEX(Encargado!$E$9:$E$128,$F25),"dd/mm"),"")) | C25: =IF($F25=0,"",ROUND(INDEX(Encargado!$J$9:$J$128,$F25),3)&" "&INDEX(Encargado!$F$9:$F$128,$F25)) | D25: =IF($F25=0,"",IF(INDEX(Encargado!$L$9:$L$128,$F25)="Adelanto","Prev. "&TEXT(INDEX(Encargado!$C$9:$C$128,$F25),"dd/mm"),INDEX(Encargado!$C$9:$C$128,$F25))) | E25: =IF($F25=0,"",INDEX(Encargado!$Y$9:$Y$128,$F25)&CHAR(10)&"Vto. previsto: "&TEXT(INDEX(Encargado!$Q$9:$Q$128,$F25),"dd/mm/yy")) | F25: =IFERROR(MATCH(18,Encargado!$V$9:$V$128,0),0) -> 0
A26: =IF($F26=0,"",INDEX(Encargado!$AL$9:$AL$128,$F26)) | B26: =IF($F26=0,"",INDEX(Encargado!$A$9:$A$128,$F26)&IF(INDEX(Encargado!$L$9:$L$128,$F26)="Adelanto"," · Adelanto para stock","")&IF(AND(ISNUMBER(INDEX(Encargado!$D$9:$D$128,$F26)),ISNUMBER(INDEX(Encargado!$E$9:$E$128,$F26))),CHAR(10)&TEXT(INDEX(Encargado!$D$9:$D$128,$F26),"dd/mm")&" al "&TEXT(INDEX(Encargado!$E$9:$E$128,$F26),"dd/mm"),"")) | C26: =IF($F26=0,"",ROUND(INDEX(Encargado!$J$9:$J$128,$F26),3)&" "&INDEX(Encargado!$F$9:$F$128,$F26)) | D26: =IF($F26=0,"",IF(INDEX(Encargado!$L$9:$L$128,$F26)="Adelanto","Prev. "&TEXT(INDEX(Encargado!$C$9:$C$128,$F26),"dd/mm"),INDEX(Encargado!$C$9:$C$128,$F26))) | E26: =IF($F26=0,"",INDEX(Encargado!$Y$9:$Y$128,$F26)&CHAR(10)&"Vto. previsto: "&TEXT(INDEX(Encargado!$Q$9:$Q$128,$F26),"dd/mm/yy")) | F26: =IFERROR(MATCH(19,Encargado!$V$9:$V$128,0),0) -> 0
A27: =IF($F27=0,"",INDEX(Encargado!$AL$9:$AL$128,$F27)) | B27: =IF($F27=0,"",INDEX(Encargado!$A$9:$A$128,$F27)&IF(INDEX(Encargado!$L$9:$L$128,$F27)="Adelanto"," · Adelanto para stock","")&IF(AND(ISNUMBER(INDEX(Encargado!$D$9:$D$128,$F27)),ISNUMBER(INDEX(Encargado!$E$9:$E$128,$F27))),CHAR(10)&TEXT(INDEX(Encargado!$D$9:$D$128,$F27),"dd/mm")&" al "&TEXT(INDEX(Encargado!$E$9:$E$128,$F27),"dd/mm"),"")) | C27: =IF($F27=0,"",ROUND(INDEX(Encargado!$J$9:$J$128,$F27),3)&" "&INDEX(Encargado!$F$9:$F$128,$F27)) | D27: =IF($F27=0,"",IF(INDEX(Encargado!$L$9:$L$128,$F27)="Adelanto","Prev. "&TEXT(INDEX(Encargado!$C$9:$C$128,$F27),"dd/mm"),INDEX(Encargado!$C$9:$C$128,$F27))) | E27: =IF($F27=0,"",INDEX(Encargado!$Y$9:$Y$128,$F27)&CHAR(10)&"Vto. previsto: "&TEXT(INDEX(Encargado!$Q$9:$Q$128,$F27),"dd/mm/yy")) | F27: =IFERROR(MATCH(20,Encargado!$V$9:$V$128,0),0) -> 0
A28: =IF($F28=0,"",INDEX(Encargado!$AL$9:$AL$128,$F28)) | B28: =IF($F28=0,"",INDEX(Encargado!$A$9:$A$128,$F28)&IF(INDEX(Encargado!$L$9:$L$128,$F28)="Adelanto"," · Adelanto para stock","")&IF(AND(ISNUMBER(INDEX(Encargado!$D$9:$D$128,$F28)),ISNUMBER(INDEX(Encargado!$E$9:$E$128,$F28))),CHAR(10)&TEXT(INDEX(Encargado!$D$9:$D$128,$F28),"dd/mm")&" al "&TEXT(INDEX(Encargado!$E$9:$E$128,$F28),"dd/mm"),"")) | C28: =IF($F28=0,"",ROUND(INDEX(Encargado!$J$9:$J$128,$F28),3)&" "&INDEX(Encargado!$F$9:$F$128,$F28)) | D28: =IF($F28=0,"",IF(INDEX(Encargado!$L$9:$L$128,$F28)="Adelanto","Prev. "&TEXT(INDEX(Encargado!$C$9:$C$128,$F28),"dd/mm"),INDEX(Encargado!$C$9:$C$128,$F28))) | E28: =IF($F28=0,"",INDEX(Encargado!$Y$9:$Y$128,$F28)&CHAR(10)&"Vto. previsto: "&TEXT(INDEX(Encargado!$Q$9:$Q$128,$F28),"dd/mm/yy")) | F28: =IFERROR(MATCH(21,Encargado!$V$9:$V$128,0),0) -> 0
A29: =IF($F29=0,"",INDEX(Encargado!$AL$9:$AL$128,$F29)) | B29: =IF($F29=0,"",INDEX(Encargado!$A$9:$A$128,$F29)&IF(INDEX(Encargado!$L$9:$L$128,$F29)="Adelanto"," · Adelanto para stock","")&IF(AND(ISNUMBER(INDEX(Encargado!$D$9:$D$128,$F29)),ISNUMBER(INDEX(Encargado!$E$9:$E$128,$F29))),CHAR(10)&TEXT(INDEX(Encargado!$D$9:$D$128,$F29),"dd/mm")&" al "&TEXT(INDEX(Encargado!$E$9:$E$128,$F29),"dd/mm"),"")) | C29: =IF($F29=0,"",ROUND(INDEX(Encargado!$J$9:$J$128,$F29),3)&" "&INDEX(Encargado!$F$9:$F$128,$F29)) | D29: =IF($F29=0,"",IF(INDEX(Encargado!$L$9:$L$128,$F29)="Adelanto","Prev. "&TEXT(INDEX(Encargado!$C$9:$C$128,$F29),"dd/mm"),INDEX(Encargado!$C$9:$C$128,$F29))) | E29: =IF($F29=0,"",INDEX(Encargado!$Y$9:$Y$128,$F29)&CHAR(10)&"Vto. previsto: "&TEXT(INDEX(Encargado!$Q$9:$Q$128,$F29),"dd/mm/yy")) | F29: =IFERROR(MATCH(22,Encargado!$V$9:$V$128,0),0) -> 0
A30: =IF($F30=0,"",INDEX(Encargado!$AL$9:$AL$128,$F30)) | B30: =IF($F30=0,"",INDEX(Encargado!$A$9:$A$128,$F30)&IF(INDEX(Encargado!$L$9:$L$128,$F30)="Adelanto"," · Adelanto para stock","")&IF(AND(ISNUMBER(INDEX(Encargado!$D$9:$D$128,$F30)),ISNUMBER(INDEX(Encargado!$E$9:$E$128,$F30))),CHAR(10)&TEXT(INDEX(Encargado!$D$9:$D$128,$F30),"dd/mm")&" al "&TEXT(INDEX(Encargado!$E$9:$E$128,$F30),"dd/mm"),"")) | C30: =IF($F30=0,"",ROUND(INDEX(Encargado!$J$9:$J$128,$F30),3)&" "&INDEX(Encargado!$F$9:$F$128,$F30)) | D30: =IF($F30=0,"",IF(INDEX(Encargado!$L$9:$L$128,$F30)="Adelanto","Prev. "&TEXT(INDEX(Encargado!$C$9:$C$128,$F30),"dd/mm"),INDEX(Encargado!$C$9:$C$128,$F30))) | E30: =IF($F30=0,"",INDEX(Encargado!$Y$9:$Y$128,$F30)&CHAR(10)&"Vto. previsto: "&TEXT(INDEX(Encargado!$Q$9:$Q$128,$F30),"dd/mm/yy")) | F30: =IFERROR(MATCH(23,Encargado!$V$9:$V$128,0),0) -> 0
A31: =IF($F31=0,"",INDEX(Encargado!$AL$9:$AL$128,$F31)) | B31: =IF($F31=0,"",INDEX(Encargado!$A$9:$A$128,$F31)&IF(INDEX(Encargado!$L$9:$L$128,$F31)="Adelanto"," · Adelanto para stock","")&IF(AND(ISNUMBER(INDEX(Encargado!$D$9:$D$128,$F31)),ISNUMBER(INDEX(Encargado!$E$9:$E$128,$F31))),CHAR(10)&TEXT(INDEX(Encargado!$D$9:$D$128,$F31),"dd/mm")&" al "&TEXT(INDEX(Encargado!$E$9:$E$128,$F31),"dd/mm"),"")) | C31: =IF($F31=0,"",ROUND(INDEX(Encargado!$J$9:$J$128,$F31),3)&" "&INDEX(Encargado!$F$9:$F$128,$F31)) | D31: =IF($F31=0,"",IF(INDEX(Encargado!$L$9:$L$128,$F31)="Adelanto","Prev. "&TEXT(INDEX(Encargado!$C$9:$C$128,$F31),"dd/mm"),INDEX(Encargado!$C$9:$C$128,$F31))) | E31: =IF($F31=0,"",INDEX(Encargado!$Y$9:$Y$128,$F31)&CHAR(10)&"Vto. previsto: "&TEXT(INDEX(Encargado!$Q$9:$Q$128,$F31),"dd/mm/yy")) | F31: =IFERROR(MATCH(24,Encargado!$V$9:$V$128,0),0) -> 0
A32: =IF($F32=0,"",INDEX(Encargado!$AL$9:$AL$128,$F32)) | B32: =IF($F32=0,"",INDEX(Encargado!$A$9:$A$128,$F32)&IF(INDEX(Encargado!$L$9:$L$128,$F32)="Adelanto"," · Adelanto para stock","")&IF(AND(ISNUMBER(INDEX(Encargado!$D$9:$D$128,$F32)),ISNUMBER(INDEX(Encargado!$E$9:$E$128,$F32))),CHAR(10)&TEXT(INDEX(Encargado!$D$9:$D$128,$F32),"dd/mm")&" al "&TEXT(INDEX(Encargado!$E$9:$E$128,$F32),"dd/mm"),"")) | C32: =IF($F32=0,"",ROUND(INDEX(Encargado!$J$9:$J$128,$F32),3)&" "&INDEX(Encargado!$F$9:$F$128,$F32)) | D32: =IF($F32=0,"",IF(INDEX(Encargado!$L$9:$L$128,$F32)="Adelanto","Prev. "&TEXT(INDEX(Encargado!$C$9:$C$128,$F32),"dd/mm"),INDEX(Encargado!$C$9:$C$128,$F32))) | E32: =IF($F32=0,"",INDEX(Encargado!$Y$9:$Y$128,$F32)&CHAR(10)&"Vto. previsto: "&TEXT(INDEX(Encargado!$Q$9:$Q$128,$F32),"dd/mm/yy")) | F32: =IFERROR(MATCH(25,Encargado!$V$9:$V$128,0),0) -> 0
A33: =IF($F33=0,"",INDEX(Encargado!$AL$9:$AL$128,$F33)) | B33: =IF($F33=0,"",INDEX(Encargado!$A$9:$A$128,$F33)&IF(INDEX(Encargado!$L$9:$L$128,$F33)="Adelanto"," · Adelanto para stock","")&IF(AND(ISNUMBER(INDEX(Encargado!$D$9:$D$128,$F33)),ISNUMBER(INDEX(Encargado!$E$9:$E$128,$F33))),CHAR(10)&TEXT(INDEX(Encargado!$D$9:$D$128,$F33),"dd/mm")&" al "&TEXT(INDEX(Encargado!$E$9:$E$128,$F33),"dd/mm"),"")) | C33: =IF($F33=0,"",ROUND(INDEX(Encargado!$J$9:$J$128,$F33),3)&" "&INDEX(Encargado!$F$9:$F$128,$F33)) | D33: =IF($F33=0,"",IF(INDEX(Encargado!$L$9:$L$128,$F33)="Adelanto","Prev. "&TEXT(INDEX(Encargado!$C$9:$C$128,$F33),"dd/mm"),INDEX(Encargado!$C$9:$C$128,$F33))) | E33: =IF($F33=0,"",INDEX(Encargado!$Y$9:$Y$128,$F33)&CHAR(10)&"Vto. previsto: "&TEXT(INDEX(Encargado!$Q$9:$Q$128,$F33),"dd/mm/yy")) | F33: =IFERROR(MATCH(26,Encargado!$V$9:$V$128,0),0) -> 0
A34: =IF($F34=0,"",INDEX(Encargado!$AL$9:$AL$128,$F34)) | B34: =IF($F34=0,"",INDEX(Encargado!$A$9:$A$128,$F34)&IF(INDEX(Encargado!$L$9:$L$128,$F34)="Adelanto"," · Adelanto para stock","")&IF(AND(ISNUMBER(INDEX(Encargado!$D$9:$D$128,$F34)),ISNUMBER(INDEX(Encargado!$E$9:$E$128,$F34))),CHAR(10)&TEXT(INDEX(Encargado!$D$9:$D$128,$F34),"dd/mm")&" al "&TEXT(INDEX(Encargado!$E$9:$E$128,$F34),"dd/mm"),"")) | C34: =IF($F34=0,"",ROUND(INDEX(Encargado!$J$9:$J$128,$F34),3)&" "&INDEX(Encargado!$F$9:$F$128,$F34)) | D34: =IF($F34=0,"",IF(INDEX(Encargado!$L$9:$L$128,$F34)="Adelanto","Prev. "&TEXT(INDEX(Encargado!$C$9:$C$128,$F34),"dd/mm"),INDEX(Encargado!$C$9:$C$128,$F34))) | E34: =IF($F34=0,"",INDEX(Encargado!$Y$9:$Y$128,$F34)&CHAR(10)&"Vto. previsto: "&TEXT(INDEX(Encargado!$Q$9:$Q$128,$F34),"dd/mm/yy")) | F34: =IFERROR(MATCH(27,Encargado!$V$9:$V$128,0),0) -> 0
A35: =IF($F35=0,"",INDEX(Encargado!$AL$9:$AL$128,$F35)) | B35: =IF($F35=0,"",INDEX(Encargado!$A$9:$A$128,$F35)&IF(INDEX(Encargado!$L$9:$L$128,$F35)="Adelanto"," · Adelanto para stock","")&IF(AND(ISNUMBER(INDEX(Encargado!$D$9:$D$128,$F35)),ISNUMBER(INDEX(Encargado!$E$9:$E$128,$F35))),CHAR(10)&TEXT(INDEX(Encargado!$D$9:$D$128,$F35),"dd/mm")&" al "&TEXT(INDEX(Encargado!$E$9:$E$128,$F35),"dd/mm"),"")) | C35: =IF($F35=0,"",ROUND(INDEX(Encargado!$J$9:$J$128,$F35),3)&" "&INDEX(Encargado!$F$9:$F$128,$F35)) | D35: =IF($F35=0,"",IF(INDEX(Encargado!$L$9:$L$128,$F35)="Adelanto","Prev. "&TEXT(INDEX(Encargado!$C$9:$C$128,$F35),"dd/mm"),INDEX(Encargado!$C$9:$C$128,$F35))) | E35: =IF($F35=0,"",INDEX(Encargado!$Y$9:$Y$128,$F35)&CHAR(10)&"Vto. previsto: "&TEXT(INDEX(Encargado!$Q$9:$Q$128,$F35),"dd/mm/yy")) | F35: =IFERROR(MATCH(28,Encargado!$V$9:$V$128,0),0) -> 0
A36: =IF($F36=0,"",INDEX(Encargado!$AL$9:$AL$128,$F36)) | B36: =IF($F36=0,"",INDEX(Encargado!$A$9:$A$128,$F36)&IF(INDEX(Encargado!$L$9:$L$128,$F36)="Adelanto"," · Adelanto para stock","")&IF(AND(ISNUMBER(INDEX(Encargado!$D$9:$D$128,$F36)),ISNUMBER(INDEX(Encargado!$E$9:$E$128,$F36))),CHAR(10)&TEXT(INDEX(Encargado!$D$9:$D$128,$F36),"dd/mm")&" al "&TEXT(INDEX(Encargado!$E$9:$E$128,$F36),"dd/mm"),"")) | C36: =IF($F36=0,"",ROUND(INDEX(Encargado!$J$9:$J$128,$F36),3)&" "&INDEX(Encargado!$F$9:$F$128,$F36)) | D36: =IF($F36=0,"",IF(INDEX(Encargado!$L$9:$L$128,$F36)="Adelanto","Prev. "&TEXT(INDEX(Encargado!$C$9:$C$128,$F36),"dd/mm"),INDEX(Encargado!$C$9:$C$128,$F36))) | E36: =IF($F36=0,"",INDEX(Encargado!$Y$9:$Y$128,$F36)&CHAR(10)&"Vto. previsto: "&TEXT(INDEX(Encargado!$Q$9:$Q$128,$F36),"dd/mm/yy")) | F36: =IFERROR(MATCH(29,Encargado!$V$9:$V$128,0),0) -> 0
A37: =IF($F37=0,"",INDEX(Encargado!$AL$9:$AL$128,$F37)) | B37: =IF($F37=0,"",INDEX(Encargado!$A$9:$A$128,$F37)&IF(INDEX(Encargado!$L$9:$L$128,$F37)="Adelanto"," · Adelanto para stock","")&IF(AND(ISNUMBER(INDEX(Encargado!$D$9:$D$128,$F37)),ISNUMBER(INDEX(Encargado!$E$9:$E$128,$F37))),CHAR(10)&TEXT(INDEX(Encargado!$D$9:$D$128,$F37),"dd/mm")&" al "&TEXT(INDEX(Encargado!$E$9:$E$128,$F37),"dd/mm"),"")) | C37: =IF($F37=0,"",ROUND(INDEX(Encargado!$J$9:$J$128,$F37),3)&" "&INDEX(Encargado!$F$9:$F$128,$F37)) | D37: =IF($F37=0,"",IF(INDEX(Encargado!$L$9:$L$128,$F37)="Adelanto","Prev. "&TEXT(INDEX(Encargado!$C$9:$C$128,$F37),"dd/mm"),INDEX(Encargado!$C$9:$C$128,$F37))) | E37: =IF($F37=0,"",INDEX(Encargado!$Y$9:$Y$128,$F37)&CHAR(10)&"Vto. previsto: "&TEXT(INDEX(Encargado!$Q$9:$Q$128,$F37),"dd/mm/yy")) | F37: =IFERROR(MATCH(30,Encargado!$V$9:$V$128,0),0) -> 0
A38: =IF($F38=0,"",INDEX(Encargado!$AL$9:$AL$128,$F38)) | B38: =IF($F38=0,"",INDEX(Encargado!$A$9:$A$128,$F38)&IF(INDEX(Encargado!$L$9:$L$128,$F38)="Adelanto"," · Adelanto para stock","")&IF(AND(ISNUMBER(INDEX(Encargado!$D$9:$D$128,$F38)),ISNUMBER(INDEX(Encargado!$E$9:$E$128,$F38))),CHAR(10)&TEXT(INDEX(Encargado!$D$9:$D$128,$F38),"dd/mm")&" al "&TEXT(INDEX(Encargado!$E$9:$E$128,$F38),"dd/mm"),"")) | C38: =IF($F38=0,"",ROUND(INDEX(Encargado!$J$9:$J$128,$F38),3)&" "&INDEX(Encargado!$F$9:$F$128,$F38)) | D38: =IF($F38=0,"",IF(INDEX(Encargado!$L$9:$L$128,$F38)="Adelanto","Prev. "&TEXT(INDEX(Encargado!$C$9:$C$128,$F38),"dd/mm"),INDEX(Encargado!$C$9:$C$128,$F38))) | E38: =IF($F38=0,"",INDEX(Encargado!$Y$9:$Y$128,$F38)&CHAR(10)&"Vto. previsto: "&TEXT(INDEX(Encargado!$Q$9:$Q$128,$F38),"dd/mm/yy")) | F38: =IFERROR(MATCH(31,Encargado!$V$9:$V$128,0),0) -> 0
A39: =IF($F39=0,"",INDEX(Encargado!$AL$9:$AL$128,$F39)) | B39: =IF($F39=0,"",INDEX(Encargado!$A$9:$A$128,$F39)&IF(INDEX(Encargado!$L$9:$L$128,$F39)="Adelanto"," · Adelanto para stock","")&IF(AND(ISNUMBER(INDEX(Encargado!$D$9:$D$128,$F39)),ISNUMBER(INDEX(Encargado!$E$9:$E$128,$F39))),CHAR(10)&TEXT(INDEX(Encargado!$D$9:$D$128,$F39),"dd/mm")&" al "&TEXT(INDEX(Encargado!$E$9:$E$128,$F39),"dd/mm"),"")) | C39: =IF($F39=0,"",ROUND(INDEX(Encargado!$J$9:$J$128,$F39),3)&" "&INDEX(Encargado!$F$9:$F$128,$F39)) | D39: =IF($F39=0,"",IF(INDEX(Encargado!$L$9:$L$128,$F39)="Adelanto","Prev. "&TEXT(INDEX(Encargado!$C$9:$C$128,$F39),"dd/mm"),INDEX(Encargado!$C$9:$C$128,$F39))) | E39: =IF($F39=0,"",INDEX(Encargado!$Y$9:$Y$128,$F39)&CHAR(10)&"Vto. previsto: "&TEXT(INDEX(Encargado!$Q$9:$Q$128,$F39),"dd/mm/yy")) | F39: =IFERROR(MATCH(32,Encargado!$V$9:$V$128,0),0) -> 0
A40: =IF($F40=0,"",INDEX(Encargado!$AL$9:$AL$128,$F40)) | B40: =IF($F40=0,"",INDEX(Encargado!$A$9:$A$128,$F40)&IF(INDEX(Encargado!$L$9:$L$128,$F40)="Adelanto"," · Adelanto para stock","")&IF(AND(ISNUMBER(INDEX(Encargado!$D$9:$D$128,$F40)),ISNUMBER(INDEX(Encargado!$E$9:$E$128,$F40))),CHAR(10)&TEXT(INDEX(Encargado!$D$9:$D$128,$F40),"dd/mm")&" al "&TEXT(INDEX(Encargado!$E$9:$E$128,$F40),"dd/mm"),"")) | C40: =IF($F40=0,"",ROUND(INDEX(Encargado!$J$9:$J$128,$F40),3)&" "&INDEX(Encargado!$F$9:$F$128,$F40)) | D40: =IF($F40=0,"",IF(INDEX(Encargado!$L$9:$L$128,$F40)="Adelanto","Prev. "&TEXT(INDEX(Encargado!$C$9:$C$128,$F40),"dd/mm"),INDEX(Encargado!$C$9:$C$128,$F40))) | E40: =IF($F40=0,"",INDEX(Encargado!$Y$9:$Y$128,$F40)&CHAR(10)&"Vto. previsto: "&TEXT(INDEX(Encargado!$Q$9:$Q$128,$F40),"dd/mm/yy")) | F40: =IFERROR(MATCH(33,Encargado!$V$9:$V$128,0),0) -> 0
...

Sheet Encargado
A1: Carrasco / Pedidos y producción
A2: «Previsto» parte de los pedidos por quincena del verano pasado. «Retiro» es orientativo hasta que Punta y Carrasco confirmen la fecha. Buscá la fila por producto y retiro. Actualizá «Retiro» con el día acordado y cargá «Pedido real» y «Stock reservado» (0 si no hay). | P2: Kg / jornada PDE | Q2: 25
A3: Sin pedido de Punta: dejá «Pedido real» vacío. Elegí «Adelanto» en «¿Mandar a preparar?» y, en la celda de al lado, anotá la cantidad. Con pedido confirmado, usá «Sí». | P3: L / jornada PDE | Q3: 40
A4: Amarillo = completar. En «Hecho», anotá el total elaborado en esa fila. En «Stock reservado», cargá solo otros lotes y su vencimiento. Los botones + muestran más detalle. | P4: Apertura 30/11 | Q4: Pendiente | AH4: =IF(SUM($AH$9:$AH$128)=0,"","Calendario incompleto: "&SUM($AH$9:$AH$128)&" tanda(s) sin fecha válida dentro del calendario. Revisá Encargado desde la fila "&(MATCH(1,$AH$9:$AH$128,0)+8)&".")
A5: Si hay varias tandas para un pedido, repartí el total entre ellas. Usá una fila libre solo para un producto y días de uso que no estén previstos. | AH5: =IF(Q4="Sin servicio","30/11: Punta confirmó que no hay servicio.",IF(Q4="Cubierta","30/11: el encargado confirmó que la apertura está cubierta.","Apertura 30/11 pendiente: confirmar si hay servicio y con qué stock o pedido se cubre.")) -> Apertura 30/11 pendiente: confirmar si hay servicio y con qué stock o pedido se cubre.
A6: Antes de marcar «Sí», revisá insumos, fechas y tiempo disponible. Si dice «Acordar envases», acordá la cantidad con Punta.
A7: Apertura del 30/11: reservá stock vigente o planificá un retiro previo. En los ajustes, marcá «Cubierta» cuando esté resuelto.
A8: Producto | B8: Elaborar | C8: Retiro | D8: Usar desde | E8: Usar hasta | F8: Unidad | G8: Previsto | H8: Pedido real | I8: Stock reservado | J8: Falta hacer | K8: Vence stock | L8: ¿Mandar a preparar? | M8: Cant. a adelantar | N8: Hecho | O8: Situación | P8: Antes del 21/12 | Q8: Vence cerrado
A9: Manteca Batayaki | B9: 46335 | C9: 46356 | D9: 46357 | E9: 46371 | F9: =IF(R9=0,"",INDEX(criterio!$B$11:$B$22,R9)) -> kg | G9: =IFERROR(IF(INDEX(criterio!$B$31:$B$111,MATCH(W9,criterio!$A$31:$A$111,0))=A9,INDEX(criterio!$C$31:$C$111,MATCH(W9,criterio!$A$31:$A$111,0)),""),"") -> 5 | J9: =IF(AND(ISNUMBER(AM9),OR(ISBLANK(H9),ISNUMBER(I9))),MAX(0,ROUND(AM9-IF(ISBLANK(H9),0,N(I9))-N(N9),3)),"") | O9: =IF(AL9="Reasignar sobrante","Sobran "&ROUND(N9-MAX(0,H9-N(I9)),3)&" "&F9&" para stock",IF(AND(ISNUMBER(H9),L9="Adelanto",AL9="Por confirmar"),IF(J9>0,IF(J9=1,"Falta ","Faltan ")&ROUND(J9,3)&" "&F9&". Elegí «Sí»"&CHAR(10)&"en «¿Mandar a preparar?».","No falta producir."),IF(AL9="Acordar envases",AL9&" ("&INT(AE9/AK9)&" o "&ROUNDUP(AE9/AK9,0)&")",AL9)&IF(P9="","",CHAR(10)&"Adelanto movido al pico"))) -> Previsión | P9: =IFERROR(IF(AND(INDEX(criterio!$I$31:$I$111,MATCH(W9,criterio!$A$31:$A$111,0))=1,INDEX(criterio!$B$31:$B$111,MATCH(W9,criterio!$A$31:$A$111,0))=A9,ISNUMBER(B9),B9>=criterio!$B$5,D9<=criterio!$B$6,E9>=criterio!$B$5),"Fuera de la previa del 20/12",""),"") | Q9: =IF(AND(R9>0,ISNUMBER(B9)),IF(U9="mes",EDATE(B9,T9),B9+T9),"") -> 46425 | R9: =IFERROR(MATCH(A9,criterio!$A$11:$A$22,0),0) -> 1 | S9: =IF(R9=0,"",INDEX(criterio!$E$11:$E$22,R9)) -> 0 | T9: =IF(R9=0,"",INDEX(criterio!$C$11:$C$22,R9)) -> 90 | U9: =IF(R9=0,"",INDEX(criterio!$D$11:$D$22,R9)) -> días | V9: =IF(AND(ISNUMBER(B9),B9=Turno!$B$3,OR(AL9="Preparar",AL9="Completar")),MAX($V$8:V8)+1,0) -> 0 | W9: T001 | Y9: =IF(R9=0,"",INDEX(criterio!$I$11:$I$22,R9)) -> Freezer −18 °C. Abierta en heladera: 3 días, sin superar vencimiento. | Z9: =IF(AC9=1,0,IF(A9="","",IF(ISNUMBER(H9),MAX(IF(ISNUMBER(N9),N9,0),H9-IF(ISNUMBER(I9),I9,0),0),IF(ISNUMBER(AM9),MAX(AM9,N(N9)),IF(ISNUMBER(G9),MAX(G9,N(N9)),N(N9)))))) -> 5 | AA9: =IF(OR(A9="",COUNT(B9:C9)<>2),"",IF(OR(WEEKDAY(B9,2)>5,COUNTIF(criterio!$B$25:$E$25,B9)>0),"Cambiar día de elaboración",IF(OR(WEEKDAY(C9,2)>5,COUNTIF(criterio!$B$25:$E$25,C9)>0),"Cambiar día de retiro",IF(SUMIF($B$9:$B$128,B9,$AD$9:$AD$128)>criterio!$D$26,"Más de dos recetas",IF(OR(A9="",NOT(ISNUMBER(B9))),"",IF(OR(NOT(ISNUMBER($Q$2)),NOT(ISNUMBER($Q$3)),$Q$2<=0,$Q$3<=0),"Revisar topes de carga",IF(SUMIFS($Z$9:$Z$128,$B$9:$B$128,B9,$F$9:$F$128,"kg")/$Q$2+SUMIFS($Z$9:$Z$128,$B$9:$B$128,B9,$F$9:$F$128,"L")/$Q$3>1.000001,"Repartir carga del día",""))))))) | AB9: =IF(COUNTA(A9:E9,H9:I9,K9:N9)=0,"",IF(R9=0,"Elegir producto",IF(COUNT(B9:E9)<>4,"Completar fechas",IF(E9<D9,"Revisar días de uso",IF(C9+criterio!$B$3>D9,"El retiro llega tarde",IF(AND(N9<>"",OR(NOT(ISNUMBER(N9)),N9<0)),"Revisar cantidad hecha",IF(AND(M9<>"",OR(NOT(ISNUMBER(M9)),M9<0)),"Revisar cant. a adelantar",IF(AND(AND(ISBLANK(H9),L9="Adelanto"),NOT(ISNUMBER(AM9))),"Cargar cant. a adelantar",IF(AND(AND(ISBLANK(H9),L9="Adelanto"),I9<>"",OR(NOT(ISNUMBER(I9)),I9<>0)),"Revisar stock del adelanto",IF(AND(ISNUMBER(N9),N9>0,L9<>"Sí",L9<>"Adelanto",N(M9)<=0),"Hecho sin liberar",IF(AND(ISBLANK(H9),L9<>"Adelanto",OR(I9<>"",L9="Sí")),"Falta pedido real",IF(AND(H9<>"",OR(NOT(ISNUMBER(H9)),H9<0)),"Revisar pedido",IF(AND(ISNUMBER(H9),H9=0,N(M9)>0,N(N9)>0,N(I9)=0),"Reasignar sobrante",IF(AND(ISNUMBER(H9),H9=0,OR(N9>0,I9>0)),"Revisar pedido y cantidades",IF(AND(ISNUMBER(H9),H9=0),"Sin pedido",IF(AND(ISNUMBER(H9),ISBLANK(I9)),"Falta anotar stock",IF(AND(I9<>"",OR(NOT(ISNUMBER(I9)),I9<0,AND(ISNUMBER(H9),I9>H9))),"Revisar stock asignado",IF(AND(ISNUMBER(I9),I9>0,NOT(ISNUMBER(K9))),"Falta vencimiento de stock",IF(AND(ISNUMBER(I9),I9>0,K9<E9+criterio!$B$4),"El stock no cubre el uso",IF(AND(ISNUMBER(H9),ISNUMBER(I9),H9=I9,OR(N9="",N9=0)),"Cubierto con stock",IF(B9=criterio!$B$25,"Jornada bloqueada",IF(B9+S9>C9,"No llega al retiro",IF(Q9<E9,"Vence antes del último uso",IF(Q9<E9+criterio!$B$4,"Falta margen de vida útil",IF(AND(ISBLANK(H9),L9<>"Adelanto",N(N9)>0,N(M9)>0),"Adelanto en pausa",IF(NOT(ISNUMBER(AM9)),"Previsión",IF(AND(ISNUMBER(H9),N(M9)>0,N(N9)>ROUND(H9-N(I9),3)),"Reasignar sobrante",IF(AND(ISNUMBER(N9),N9>ROUND(AM9-N(I9),3)),"Revisar excedente",IF(AND(ISNUMBER(H9),L9<>"Sí",NOT(AND(N(M9)>0,J9=0))),"Por confirmar",IF(J9=0,"Hecho",IF(AND(ISNUMBER(N9),N9>0),"Completar","Preparar"))))))))))))))))))))))))))))))) -> Previsión | AC9: =IF(OR(W9<>"",AJ9=0),0,IF(COUNTIFS($A$9:$A$128,A9,$AJ$9:$AJ$128,1,$D$9:$D$128,"<="&E9,$E$9:$E$128,">="&D9)>1,1,0)) -> 0 | AD9: =IF(OR(NOT(ISNUMBER(B9)),A9="",NOT(ISNUMBER(Z9)),Z9<=0),0,IF(COUNTIFS($A$9:A9,A9,$B$9:B9,B9,$Z$9:Z9,">0")=1,1,0)) -> 1 | AE9: =IF(OR(AK9<=0,AC9=1),0,IF(AND(A9="Tsue",NOT(AND(ISBLANK(H9),L9="Adelanto"))),IF(ISNUMBER(C9),SUMIFS($H$9:$H$128,$A$9:$A$128,A9,$C$9:$C$128,C9,$AC$9:$AC$128,0,$H$9:$H$128,">0"),0),IF(ISNUMBER(Z9),Z9,0))) -> 0 | AF9: =IF(OR(AE9<=0,AK9<=0),0,IF(ABS(AE9/AK9-ROUND(AE9/AK9,0))>0.000001,1,0)) -> 0 | AG9: =IF(OR(AF9=0,AK9<=0),"",IF(A9="Tsue","Retiro: ","Tanda: ")&ROUND(AE9,3)&" "&F9&". Acordar "&INT(AE9/AK9)&" o "&ROUNDUP(AE9/AK9,0)&IF(A9="Tsue"," envases de 5 L."," porciones de 500 g.")) | AH9: =IF(COUNTA(A9:E9,H9:I9,K9:L9,N9)=0,0,IF(OR(NOT(ISNUMBER(B9)),B9<'Por semana'!$C$45,B9>'Por semana'!$J$46+6),1,0)) -> 0 | AI9: =IF(OR(AC9=1,A9=""),0,IF(ISNUMBER(H9),MAX(0,H9),IF(ISNUMBER(G9),G9,0))) -> 5 | AJ9: =IF(OR(A9="",NOT(ISNUMBER(D9)),NOT(ISNUMBER(E9)),AND(ISNUMBER(H9),H9=0)),0,1) -> 1 | AK9: =IF(R9=0,0,IFERROR(INDEX(criterio!$J$11:$J$22,R9)+0,0)) -> 0 | AL9: =IF(AC9=1,"Usar la fila ya prevista",IF(AND(AF9=1,OR(AB9="Preparar",AB9="Completar",AB9="Por confirmar"),AA9=""),"Acordar envases",IF(AND(OR(AB9="Previsión",AB9="Por confirmar",AB9="Preparar",AB9="Completar"),AA9<>""),AA9,AB9))) -> Previsión | AM9: =IF(ISNUMBER(H9),H9,IF(AND(ISBLANK(H9),L9="Adelanto",ISNUMBER(M9),M9>0),M9,""))
A10: Manteca Batayaki | B10: 46335 | C10: 46371 | D10: 46372 | E10: 46387 | F10: =IF(R10=0,"",INDEX(criterio!$B$11:$B$22,R10)) -> kg | G10: =IFERROR(IF(INDEX(criterio!$B$31:$B$111,MATCH(W10,criterio!$A$31:$A$111,0))=A10,INDEX(criterio!$C$31:$C$111,MATCH(W10,criterio!$A$31:$A$111,0)),""),"") -> 13 | J10: =IF(AND(ISNUMBER(AM10),OR(ISBLANK(H10),ISNUMBER(I10))),MAX(0,ROUND(AM10-IF(ISBLANK(H10),0,N(I10))-N(N10),3)),"") | O10: =IF(AL10="Reasignar sobrante","Sobran "&ROUND(N10-MAX(0,H10-N(I10)),3)&" "&F10&" para stock",IF(AND(ISNUMBER(H10),L10="Adelanto",AL10="Por confirmar"),IF(J10>0,IF(J10=1,"Falta ","Faltan ")&ROUND(J10,3)&" "&F10&". Elegí «Sí»"&CHAR(10)&"en «¿Mandar a preparar?».","No falta producir."),IF(AL10="Acordar envases",AL10&" ("&INT(AE10/AK10)&" o "&ROUNDUP(AE10/AK10,0)&")",AL10)&IF(P10="","",CHAR(10)&"Adelanto movido al pico"))) -> Previsión | P10: =IFERROR(IF(AND(INDEX(criterio!$I$31:$I$111,MATCH(W10,criterio!$A$31:$A$111,0))=1,INDEX(criterio!$B$31:$B$111,MATCH(W10,criterio!$A$31:$A$111,0))=A10,ISNUMBER(B10),B10>=criterio!$B$5,D10<=criterio!$B$6,E10>=criterio!$B$5),"Fuera de la previa del 20/12",""),"") | Q10: =IF(AND(R10>0,ISNUMBER(B10)),IF(U10="mes",EDATE(B10,T10),B10+T10),"") -> 46425 | R10: =IFERROR(MATCH(A10,criterio!$A$11:$A$22,0),0) -> 1 | S10: =IF(R10=0,"",INDEX(criterio!$E$11:$E$22,R10)) -> 0 | T10: =IF(R10=0,"",INDEX(criterio!$C$11:$C$22,R10)) -> 90 | U10: =IF(R10=0,"",INDEX(criterio!$D$11:$D$22,R10)) -> días | V10: =IF(AND(ISNUMBER(B10),B10=Turno!$B$3,OR(AL10="Preparar",AL10="Completar")),MAX($V$8:V9)+1,0) -> 0 | W10: T002 | Y10: =IF(R10=0,"",INDEX(criterio!$I$11:$I$22,R10)) -> Freezer −18 °C. Abierta en heladera: 3 días, sin superar vencimiento. | Z10: =IF(AC10=1,0,IF(A10="","",IF(ISNUMBER(H10),MAX(IF(ISNUMBER(N10),N10,0),H10-IF(ISNUMBER(I10),I10,0),0),IF(ISNUMBER(AM10),MAX(AM10,N(N10)),IF(ISNUMBER(G10),MAX(G10,N(N10)),N(N10)))))) -> 13 | AA10: =IF(OR(A10="",COUNT(B10:C10)<>2),"",IF(OR(WEEKDAY(B10,2)>5,COUNTIF(criterio!$B$25:$E$25,B10)>0),"Cambiar día de elaboración",IF(OR(WEEKDAY(C10,2)>5,COUNTIF(criterio!$B$25:$E$25,C10)>0),"Cambiar día de retiro",IF(SUMIF($B$9:$B$128,B10,$AD$9:$AD$128)>criterio!$D$26,"Más de dos recetas",IF(OR(A10="",NOT(ISNUMBER(B10))),"",IF(OR(NOT(ISNUMBER($Q$2)),NOT(ISNUMBER($Q$3)),$Q$2<=0,$Q$3<=0),"Revisar topes de carga",IF(SUMIFS($Z$9:$Z$128,$B$9:$B$128,B10,$F$9:$F$128,"kg")/$Q$2+SUMIFS($Z$9:$Z$128,$B$9:$B$128,B10,$F$9:$F$128,"L")/$Q$3>1.000001,"Repartir carga del día",""))))))) | AB10: =IF(COUNTA(A10:E10,H10:I10,K10:N10)=0,"",IF(R10=0,"Elegir producto",IF(COUNT(B10:E10)<>4,"Completar fechas",IF(E10<D10,"Revisar días de uso",IF(C10+criterio!$B$3>D10,"El retiro llega tarde",IF(AND(N10<>"",OR(NOT(ISNUMBER(N10)),N10<0)),"Revisar cantidad hecha",IF(AND(M10<>"",OR(NOT(ISNUMBER(M10)),M10<0)),"Revisar cant. a adelantar",IF(AND(AND(ISBLANK(H10),L10="Adelanto"),NOT(ISNUMBER(AM10))),"Cargar cant. a adelantar",IF(AND(AND(ISBLANK(H10),L10="Adelanto"),I10<>"",OR(NOT(ISNUMBER(I10)),I10<>0)),"Revisar stock del adelanto",IF(AND(ISNUMBER(N10),N10>0,L10<>"Sí",L10<>"Adelanto",N(M10)<=0),"Hecho sin liberar",IF(AND(ISBLANK(H10),L10<>"Adelanto",OR(I10<>"",L10="Sí")),"Falta pedido real",IF(AND(H10<>"",OR(NOT(ISNUMBER(H10)),H10<0)),"Revisar pedido",IF(AND(ISNUMBER(H10),H10=0,N(M10)>0,N(N10)>0,N(I10)=0),"Reasignar sobrante",IF(AND(ISNUMBER(H10),H10=0,OR(N10>0,I10>0)),"Revisar pedido y cantidades",IF(AND(ISNUMBER(H10),H10=0),"Sin pedido",IF(AND(ISNUMBER(H10),ISBLANK(I10)),"Falta anotar stock",IF(AND(I10<>"",OR(NOT(ISNUMBER(I10)),I10<0,AND(ISNUMBER(H10),I10>H10))),"Revisar stock asignado",IF(AND(ISNUMBER(I10),I10>0,NOT(ISNUMBER(K10))),"Falta vencimiento de stock",IF(AND(ISNUMBER(I10),I10>0,K10<E10+criterio!$B$4),"El stock no cubre el uso",IF(AND(ISNUMBER(H10),ISNUMBER(I10),H10=I10,OR(N10="",N10=0)),"Cubierto con stock",IF(B10=criterio!$B$25,"Jornada bloqueada",IF(B10+S10>C10,"No llega al retiro",IF(Q10<E10,"Vence antes del último uso",IF(Q10<E10+criterio!$B$4,"Falta margen de vida útil",IF(AND(ISBLANK(H10),L10<>"Adelanto",N(N10)>0,N(M10)>0),"Adelanto en pausa",IF(NOT(ISNUMBER(AM10)),"Previsión",IF(AND(ISNUMBER(H10),N(M10)>0,N(N10)>ROUND(H10-N(I10),3)),"Reasignar sobrante",IF(AND(ISNUMBER(N10),N10>ROUND(AM10-N(I10),3)),"Revisar excedente",IF(AND(ISNUMBER(H10),L10<>"Sí",NOT(AND(N(M10)>0,J10=0))),"Por confirmar",IF(J10=0,"Hecho",IF(AND(ISNUMBER(N10),N10>0),"Completar","Preparar"))))))))))))))))))))))))))))))) -> Previsión | AC10: =IF(OR(W10<>"",AJ10=0),0,IF(COUNTIFS($A$9:$A$128,A10,$AJ$9:$AJ$128,1,$D$9:$D$128,"<="&E10,$E$9:$E$128,">="&D10)>1,1,0)) -> 0 | AD10: =IF(OR(NOT(ISNUMBER(B10)),A10="",NOT(ISNUMBER(Z10)),Z10<=0),0,IF(COUNTIFS($A$9:A10,A10,$B$9:B10,B10,$Z$9:Z10,">0")=1,1,0)) -> 0 | AE10: =IF(OR(AK10<=0,AC10=1),0,IF(AND(A10="Tsue",NOT(AND(ISBLANK(H10),L10="Adelanto"))),IF(ISNUMBER(C10),SUMIFS($H$9:$H$128,$A$9:$A$128,A10,$C$9:$C$128,C10,$AC$9:$AC$128,0,$H$9:$H$128,">0"),0),IF(ISNUMBER(Z10),Z10,0))) -> 0 | AF10: =IF(OR(AE10<=0,AK10<=0),0,IF(ABS(AE10/AK10-ROUND(AE10/AK10,0))>0.000001,1,0)) -> 0 | AG10: =IF(OR(AF10=0,AK10<=0),"",IF(A10="Tsue","Retiro: ","Tanda: ")&ROUND(AE10,3)&" "&F10&". Acordar "&INT(AE10/AK10)&" o "&ROUNDUP(AE10/AK10,0)&IF(A10="Tsue"," envases de 5 L."," porciones de 500 g.")) | AH10: =IF(COUNTA(A10:E10,H10:I10,K10:L10,N10)=0,0,IF(OR(NOT(ISNUMBER(B10)),B10<'Por semana'!$C$45,B10>'Por semana'!$J$46+6),1,0)) -> 0 | AI10: =IF(OR(AC10=1,A10=""),0,IF(ISNUMBER(H10),MAX(0,H10),IF(ISNUMBER(G10),G10,0))) -> 13 | AJ10: =IF(OR(A10="",NOT(ISNUMBER(D10)),NOT(ISNUMBER(E10)),AND(ISNUMBER(H10),H10=0)),0,1) -> 1 | AK10: =IF(R10=0,0,IFERROR(INDEX(criterio!$J$11:$J$22,R10)+0,0)) -> 0 | AL10: =IF(AC10=1,"Usar la fila ya prevista",IF(AND(AF10=1,OR(AB10="Preparar",AB10="Completar",AB10="Por confirmar"),AA10=""),"Acordar envases",IF(AND(OR(AB10="Previsión",AB10="Por confirmar",AB10="Preparar",AB10="Completar"),AA10<>""),AA10,AB10))) -> Previsión | AM10: =IF(ISNUMBER(H10),H10,IF(AND(ISBLANK(H10),L10="Adelanto",ISNUMBER(M10),M10>0),M10,""))
A11: Manteca Hisosu | B11: 46336 | C11: 46356 | D11: 46357 | E11: 46371 | F11: =IF(R11=0,"",INDEX(criterio!$B$11:$B$22,R11)) -> kg | G11: =IFERROR(IF(INDEX(criterio!$B$31:$B$111,MATCH(W11,criterio!$A$31:$A$111,0))=A11,INDEX(criterio!$C$31:$C$111,MATCH(W11,criterio!$A$31:$A$111,0)),""),"") -> 5 | J11: =IF(AND(ISNUMBER(AM11),OR(ISBLANK(H11),ISNUMBER(I11))),MAX(0,ROUND(AM11-IF(ISBLANK(H11),0,N(I11))-N(N11),3)),"") | O11: =IF(AL11="Reasignar sobrante","Sobran "&ROUND(N11-MAX(0,H11-N(I11)),3)&" "&F11&" para stock",IF(AND(ISNUMBER(H11),L11="Adelanto",AL11="Por confirmar"),IF(J11>0,IF(J11=1,"Falta ","Faltan ")&ROUND(J11,3)&" "&F11&". Elegí «Sí»"&CHAR(10)&"en «¿Mandar a preparar?».","No falta producir."),IF(AL11="Acordar envases",AL11&" ("&INT(AE11/AK11)&" o "&ROUNDUP(AE11/AK11,0)&")",AL11)&IF(P11="","",CHAR(10)&"Adelanto movido al pico"))) -> Previsión | P11: =IFERROR(IF(AND(INDEX(criterio!$I$31:$I$111,MATCH(W11,criterio!$A$31:$A$111,0))=1,INDEX(criterio!$B$31:$B$111,MATCH(W11,criterio!$A$31:$A$111,0))=A11,ISNUMBER(B11),B11>=criterio!$B$5,D11<=criterio!$B$6,E11>=criterio!$B$5),"Fuera de la previa del 20/12",""),"") | Q11: =IF(AND(R11>0,ISNUMBER(B11)),IF(U11="mes",EDATE(B11,T11),B11+T11),"") -> 46426 | R11: =IFERROR(MATCH(A11,criterio!$A$11:$A$22,0),0) -> 2 | S11: =IF(R11=0,"",INDEX(criterio!$E$11:$E$22,R11)) -> 0 | T11: =IF(R11=0,"",INDEX(criterio!$C$11:$C$22,R11)) -> 90 | U11: =IF(R11=0,"",INDEX(criterio!$D$11:$D$22,R11)) -> días | V11: =IF(AND(ISNUMBER(B11),B11=Turno!$B$3,OR(AL11="Preparar",AL11="Completar")),MAX($V$8:V10)+1,0) -> 0 | W11: T003 | Y11: =IF(R11=0,"",INDEX(criterio!$I$11:$I$22,R11)) -> Freezer −18 °C. Abierta en heladera: 3 días, sin superar vencimiento. | Z11: =IF(AC11=1,0,IF(A11="","",IF(ISNUMBER(H11),MAX(IF(ISNUMBER(N11),N11,0),H11-IF(ISNUMBER(I11),I11,0),0),IF(ISNUMBER(AM11),MAX(AM11,N(N11)),IF(ISNUMBER(G11),MAX(G11,N(N11)),N(N11)))))) -> 5 | AA11: =IF(OR(A11="",COUNT(B11:C11)<>2),"",IF(OR(WEEKDAY(B11,2)>5,COUNTIF(criterio!$B$25:$E$25,B11)>0),"Cambiar día de elaboración",IF(OR(WEEKDAY(C11,2)>5,COUNTIF(criterio!$B$25:$E$25,C11)>0),"Cambiar día de retiro",IF(SUMIF($B$9:$B$128,B11,$AD$9:$AD$128)>criterio!$D$26,"Más de dos recetas",IF(OR(A11="",NOT(ISNUMBER(B11))),"",IF(OR(NOT(ISNUMBER($Q$2)),NOT(ISNUMBER($Q$3)),$Q$2<=0,$Q$3<=0),"Revisar topes de carga",IF(SUMIFS($Z$9:$Z$128,$B$9:$B$128,B11,$F$9:$F$128,"kg")/$Q$2+SUMIFS($Z$9:$Z$128,$B$9:$B$128,B11,$F$9:$F$128,"L")/$Q$3>1.000001,"Repartir carga del día",""))))))) | AB11: =IF(COUNTA(A11:E11,H11:I11,K11:N11)=0,"",IF(R11=0,"Elegir producto",IF(COUNT(B11:E11)<>4,"Completar fechas",IF(E11<D11,"Revisar días de uso",IF(C11+criterio!$B$3>D11,"El retiro llega tarde",IF(AND(N11<>"",OR(NOT(ISNUMBER(N11)),N11<0)),"Revisar cantidad hecha",IF(AND(M11<>"",OR(NOT(ISNUMBER(M11)),M11<0)),"Revisar cant. a adelantar",IF(AND(AND(ISBLANK(H11),L11="Adelanto"),NOT(ISNUMBER(AM11))),"Cargar cant. a adelantar",IF(AND(AND(ISBLANK(H11),L11="Adelanto"),I11<>"",OR(NOT(ISNUMBER(I11)),I11<>0)),"Revisar stock del adelanto",IF(AND(ISNUMBER(N11),N11>0,L11<>"Sí",L11<>"Adelanto",N(M11)<=0),"Hecho sin liberar",IF(AND(ISBLANK(H11),L11<>"Adelanto",OR(I11<>"",L11="Sí")),"Falta pedido real",IF(AND(H11<>"",OR(NOT(ISNUMBER(H11)),H11<0)),"Revisar pedido",IF(AND(ISNUMBER(H11),H11=0,N(M11)>0,N(N11)>0,N(I11)=0),"Reasignar sobrante",IF(AND(ISNUMBER(H11),H11=0,OR(N11>0,I11>0)),"Revisar pedido y cantidades",IF(AND(ISNUMBER(H11),H11=0),"Sin pedido",IF(AND(ISNUMBER(H11),ISBLANK(I11)),"Falta anotar stock",IF(AND(I11<>"",OR(NOT(ISNUMBER(I11)),I11<0,AND(ISNUMBER(H11),I11>H11))),"Revisar stock asignado",IF(AND(ISNUMBER(I11),I11>0,NOT(ISNUMBER(K11))),"Falta vencimiento de stock",IF(AND(ISNUMBER(I11),I11>0,K11<E11+criterio!$B$4),"El stock no cubre el uso",IF(AND(ISNUMBER(H11),ISNUMBER(I11),H11=I11,OR(N11="",N11=0)),"Cubierto con stock",IF(B11=criterio!$B$25,"Jornada bloqueada",IF(B11+S11>C11,"No llega al retiro",IF(Q11<E11,"Vence antes del último uso",IF(Q11<E11+criterio!$B$4,"Falta margen de vida útil",IF(AND(ISBLANK(H11),L11<>"Adelanto",N(N11)>0,N(M11)>0),"Adelanto en pausa",IF(NOT(ISNUMBER(AM11)),"Previsión",IF(AND(ISNUMBER(H11),N(M11)>0,N(N11)>ROUND(H11-N(I11),3)),"Reasignar sobrante",IF(AND(ISNUMBER(N11),N11>ROUND(AM11-N(I11),3)),"Revisar excedente",IF(AND(ISNUMBER(H11),L11<>"Sí",NOT(AND(N(M11)>0,J11=0))),"Por confirmar",IF(J11=0,"Hecho",IF(AND(ISNUMBER(N11),N11>0),"Completar","Preparar"))))))))))))))))))))))))))))))) -> Previsión | AC11: =IF(OR(W11<>"",AJ11=0),0,IF(COUNTIFS($A$9:$A$128,A11,$AJ$9:$AJ$128,1,$D$9:$D$128,"<="&E11,$E$9:$E$128,">="&D11)>1,1,0)) -> 0 | AD11: =IF(OR(NOT(ISNUMBER(B11)),A11="",NOT(ISNUMBER(Z11)),Z11<=0),0,IF(COUNTIFS($A$9:A11,A11,$B$9:B11,B11,$Z$9:Z11,">0")=1,1,0)) -> 1 | AE11: =IF(OR(AK11<=0,AC11=1),0,IF(AND(A11="Tsue",NOT(AND(ISBLANK(H11),L11="Adelanto"))),IF(ISNUMBER(C11),SUMIFS($H$9:$H$128,$A$9:$A$128,A11,$C$9:$C$128,C11,$AC$9:$AC$128,0,$H$9:$H$128,">0"),0),IF(ISNUMBER(Z11),Z11,0))) -> 0 | AF11: =IF(OR(AE11<=0,AK11<=0),0,IF(ABS(AE11/AK11-ROUND(AE11/AK11,0))>0.000001,1,0)) -> 0 | AG11: =IF(OR(AF11=0,AK11<=0),"",IF(A11="Tsue","Retiro: ","Tanda: ")&ROUND(AE11,3)&" "&F11&". Acordar "&INT(AE11/AK11)&" o "&ROUNDUP(AE11/AK11,0)&IF(A11="Tsue"," envases de 5 L."," porciones de 500 g.")) | AH11: =IF(COUNTA(A11:E11,H11:I11,K11:L11,N11)=0,0,IF(OR(NOT(ISNUMBER(B11)),B11<'Por semana'!$C$45,B11>'Por semana'!$J$46+6),1,0)) -> 0 | AI11: =IF(OR(AC11=1,A11=""),0,IF(ISNUMBER(H11),MAX(0,H11),IF(ISNUMBER(G11),G11,0))) -> 5 | AJ11: =IF(OR(A11="",NOT(ISNUMBER(D11)),NOT(ISNUMBER(E11)),AND(ISNUMBER(H11),H11=0)),0,1) -> 1 | AK11: =IF(R11=0,0,IFERROR(INDEX(criterio!$J$11:$J$22,R11)+0,0)) -> 0 | AL11: =IF(AC11=1,"Usar la fila ya prevista",IF(AND(AF11=1,OR(AB11="Preparar",AB11="Completar",AB11="Por confirmar"),AA11=""),"Acordar envases",IF(AND(OR(AB11="Previsión",AB11="Por confirmar",AB11="Preparar",AB11="Completar"),AA11<>""),AA11,AB11))) -> Previsión | AM11: =IF(ISNUMBER(H11),H11,IF(AND(ISBLANK(H11),L11="Adelanto",ISNUMBER(M11),M11>0),M11,""))
A12: Manteca Hisosu | B12: 46336 | C12: 46371 | D12: 46372 | E12: 46387 | F12: =IF(R12=0,"",INDEX(criterio!$B$11:$B$22,R12)) -> kg | G12: =IFERROR(IF(INDEX(criterio!$B$31:$B$111,MATCH(W12,criterio!$A$31:$A$111,0))=A12,INDEX(criterio!$C$31:$C$111,MATCH(W12,criterio!$A$31:$A$111,0)),""),"") -> 13 | J12: =IF(AND(ISNUMBER(AM12),OR(ISBLANK(H12),ISNUMBER(I12))),MAX(0,ROUND(AM12-IF(ISBLANK(H12),0,N(I12))-N(N12),3)),"") | O12: =IF(AL12="Reasignar sobrante","Sobran "&ROUND(N12-MAX(0,H12-N(I12)),3)&" "&F12&" para stock",IF(AND(ISNUMBER(H12),L12="Adelanto",AL12="Por confirmar"),IF(J12>0,IF(J12=1,"Falta ","Faltan ")&ROUND(J12,3)&" "&F12&". Elegí «Sí»"&CHAR(10)&"en «¿Mandar a preparar?».","No falta producir."),IF(AL12="Acordar envases",AL12&" ("&INT(AE12/AK12)&" o "&ROUNDUP(AE12/AK12,0)&")",AL12)&IF(P12="","",CHAR(10)&"Adelanto movido al pico"))) -> Previsión | P12: =IFERROR(IF(AND(INDEX(criterio!$I$31:$I$111,MATCH(W12,criterio!$A$31:$A$111,0))=1,INDEX(criterio!$B$31:$B$111,MATCH(W12,criterio!$A$31:$A$111,0))=A12,ISNUMBER(B12),B12>=criterio!$B$5,D12<=criterio!$B$6,E12>=criterio!$B$5),"Fuera de la previa del 20/12",""),"") | Q12: =IF(AND(R12>0,ISNUMBER(B12)),IF(U12="mes",EDATE(B12,T12),B12+T12),"") -> 46426 | R12: =IFERROR(MATCH(A12,criterio!$A$11:$A$22,0),0) -> 2 | S12: =IF(R12=0,"",INDEX(criterio!$E$11:$E$22,R12)) -> 0 | T12: =IF(R12=0,"",INDEX(criterio!$C$11:$C$22,R12)) -> 90 | U12: =IF(R12=0,"",INDEX(criterio!$D$11:$D$22,R12)) -> días | V12: =IF(AND(ISNUMBER(B12),B12=Turno!$B$3,OR(AL12="Preparar",AL12="Completar")),MAX($V$8:V11)+1,0) -> 0 | W12: T004 | Y12: =IF(R12=0,"",INDEX(criterio!$I$11:$I$22,R12)) -> Freezer −18 °C. Abierta en heladera: 3 días, sin superar vencimiento. | Z12: =IF(AC12=1,0,IF(A12="","",IF(ISNUMBER(H12),MAX(IF(ISNUMBER(N12),N12,0),H12-IF(ISNUMBER(I12),I12,0),0),IF(ISNUMBER(AM12),MAX(AM12,N(N12)),IF(ISNUMBER(G12),MAX(G12,N(N12)),N(N12)))))) -> 13 | AA12: =IF(OR(A12="",COUNT(B12:C12)<>2),"",IF(OR(WEEKDAY(B12,2)>5,COUNTIF(criterio!$B$25:$E$25,B12)>0),"Cambiar día de elaboración",IF(OR(WEEKDAY(C12,2)>5,COUNTIF(criterio!$B$25:$E$25,C12)>0),"Cambiar día de retiro",IF(SUMIF($B$9:$B$128,B12,$AD$9:$AD$128)>criterio!$D$26,"Más de dos recetas",IF(OR(A12="",NOT(ISNUMBER(B12))),"",IF(OR(NOT(ISNUMBER($Q$2)),NOT(ISNUMBER($Q$3)),$Q$2<=0,$Q$3<=0),"Revisar topes de carga",IF(SUMIFS($Z$9:$Z$128,$B$9:$B$128,B12,$F$9:$F$128,"kg")/$Q$2+SUMIFS($Z$9:$Z$128,$B$9:$B$128,B12,$F$9:$F$128,"L")/$Q$3>1.000001,"Repartir carga del día",""))))))) | AB12: =IF(COUNTA(A12:E12,H12:I12,K12:N12)=0,"",IF(R12=0,"Elegir producto",IF(COUNT(B12:E12)<>4,"Completar fechas",IF(E12<D12,"Revisar días de uso",IF(C12+criterio!$B$3>D12,"El retiro llega tarde",IF(AND(N12<>"",OR(NOT(ISNUMBER(N12)),N12<0)),"Revisar cantidad hecha",IF(AND(M12<>"",OR(NOT(ISNUMBER(M12)),M12<0)),"Revisar cant. a adelantar",IF(AND(AND(ISBLANK(H12),L12="Adelanto"),NOT(ISNUMBER(AM12))),"Cargar cant. a adelantar",IF(AND(AND(ISBLANK(H12),L12="Adelanto"),I12<>"",OR(NOT(ISNUMBER(I12)),I12<>0)),"Revisar stock del adelanto",IF(AND(ISNUMBER(N12),N12>0,L12<>"Sí",L12<>"Adelanto",N(M12)<=0),"Hecho sin liberar",IF(AND(ISBLANK(H12),L12<>"Adelanto",OR(I12<>"",L12="Sí")),"Falta pedido real",IF(AND(H12<>"",OR(NOT(ISNUMBER(H12)),H12<0)),"Revisar pedido",IF(AND(ISNUMBER(H12),H12=0,N(M12)>0,N(N12)>0,N(I12)=0),"Reasignar sobrante",IF(AND(ISNUMBER(H12),H12=0,OR(N12>0,I12>0)),"Revisar pedido y cantidades",IF(AND(ISNUMBER(H12),H12=0),"Sin pedido",IF(AND(ISNUMBER(H12),ISBLANK(I12)),"Falta anotar stock",IF(AND(I12<>"",OR(NOT(ISNUMBER(I12)),I12<0,AND(ISNUMBER(H12),I12>H12))),"Revisar stock asignado",IF(AND(ISNUMBER(I12),I12>0,NOT(ISNUMBER(K12))),"Falta vencimiento de stock",IF(AND(ISNUMBER(I12),I12>0,K12<E12+criterio!$B$4),"El stock no cubre el uso",IF(AND(ISNUMBER(H12),ISNUMBER(I12),H12=I12,OR(N12="",N12=0)),"Cubierto con stock",IF(B12=criterio!$B$25,"Jornada bloqueada",IF(B12+S12>C12,"No llega al retiro",IF(Q12<E12,"Vence antes del último uso",IF(Q12<E12+criterio!$B$4,"Falta margen de vida útil",IF(AND(ISBLANK(H12),L12<>"Adelanto",N(N12)>0,N(M12)>0),"Adelanto en pausa",IF(NOT(ISNUMBER(AM12)),"Previsión",IF(AND(ISNUMBER(H12),N(M12)>0,N(N12)>ROUND(H12-N(I12),3)),"Reasignar sobrante",IF(AND(ISNUMBER(N12),N12>ROUND(AM12-N(I12),3)),"Revisar excedente",IF(AND(ISNUMBER(H12),L12<>"Sí",NOT(AND(N(M12)>0,J12=0))),"Por confirmar",IF(J12=0,"Hecho",IF(AND(ISNUMBER(N12),N12>0),"Completar","Preparar"))))))))))))))))))))))))))))))) -> Previsión | AC12: =IF(OR(W12<>"",AJ12=0),0,IF(COUNTIFS($A$9:$A$128,A12,$AJ$9:$AJ$128,1,$D$9:$D$128,"<="&E12,$E$9:$E$128,">="&D12)>1,1,0)) -> 0 | AD12: =IF(OR(NOT(ISNUMBER(B12)),A12="",NOT(ISNUMBER(Z12)),Z12<=0),0,IF(COUNTIFS($A$9:A12,A12,$B$9:B12,B12,$Z$9:Z12,">0")=1,1,0)) -> 0 | AE12: =IF(OR(AK12<=0,AC12=1),0,IF(AND(A12="Tsue",NOT(AND(ISBLANK(H12),L12="Adelanto"))),IF(ISNUMBER(C12),SUMIFS($H$9:$H$128,$A$9:$A$128,A12,$C$9:$C$128,C12,$AC$9:$AC$128,0,$H$9:$H$128,">0"),0),IF(ISNUMBER(Z12),Z12,0))) -> 0 | AF12: =IF(OR(AE12<=0,AK12<=0),0,IF(ABS(AE12/AK12-ROUND(AE12/AK12,0))>0.000001,1,0)) -> 0 | AG12: =IF(OR(AF12=0,AK12<=0),"",IF(A12="Tsue","Retiro: ","Tanda: ")&ROUND(AE12,3)&" "&F12&". Acordar "&INT(AE12/AK12)&" o "&ROUNDUP(AE12/AK12,0)&IF(A12="Tsue"," envases de 5 L."," porciones de 500 g.")) | AH12: =IF(COUNTA(A12:E12,H12:I12,K12:L12,N12)=0,0,IF(OR(NOT(ISNUMBER(B12)),B12<'Por semana'!$C$45,B12>'Por semana'!$J$46+6),1,0)) -> 0 | AI12: =IF(OR(AC12=1,A12=""),0,IF(ISNUMBER(H12),MAX(0,H12),IF(ISNUMBER(G12),G12,0))) -> 13 | AJ12: =IF(OR(A12="",NOT(ISNUMBER(D12)),NOT(ISNUMBER(E12)),AND(ISNUMBER(H12),H12=0)),0,1) -> 1 | AK12: =IF(R12=0,0,IFERROR(INDEX(criterio!$J$11:$J$22,R12)+0,0)) -> 0 | AL12: =IF(AC12=1,"Usar la fila ya prevista",IF(AND(AF12=1,OR(AB12="Preparar",AB12="Completar",AB12="Por confirmar"),AA12=""),"Acordar envases",IF(AND(OR(AB12="Previsión",AB12="Por confirmar",AB12="Preparar",AB12="Completar"),AA12<>""),AA12,AB12))) -> Previsión | AM12: =IF(ISNUMBER(H12),H12,IF(AND(ISBLANK(H12),L12="Adelanto",ISNUMBER(M12),M12>0),M12,""))
