Workbook
Name FechasRetiroPunta: Retiros!$G$8:INDEX(Retiros!$G$8:$G$127,MAX(1,Retiros!$F$6))

Sheet Turno
A1: Carrasco / Lista del turno
A2: Elegí la fecha de elaboración en amarillo. Al terminar, avisá cuánto hiciste para cada retiro. Si juntás dos tandas del mismo producto, confirmá los retiros con el encargado y rotulá los envases por separado.
A3: Día de elaboración | B3: 46335
A4: =IF(NOT(ISNUMBER(B3)),"Elegí una fecha.",IF(MAX(Encargado!$V$9:$V$128)=0,"No hay tareas asignadas para el "&DAY(B3)&"/"&MONTH(B3)&". Si buscás otro día, cambiá la fecha amarilla.","La cantidad indica lo que falta hacer.")) -> No hay tareas asignadas para el 9/11. Si buscás otro día, cambiá la fecha amarilla.
A5: =IF(AND(ISNUMBER(B3),B3<=criterio!$B$26),Encargado!$AH$5,IF(AND(ISNUMBER(B3),B3>=criterio!$B$5,B3<=criterio!$B$6),"Temporada alta hasta el 17/01. Revisá el próximo retiro antes de reponer.","Previsión = referencia del verano pasado. El encargado confirma pedido, stock y capacidad antes de dar la orden.")) -> Apertura 30/11 pendiente: confirmar si hay servicio y con qué stock o pedido se cubre.
A6: =IF(Encargado!$AH$4<>"",Encargado!$AH$4,"Al terminar, avisá cuánto salió. El encargado lo anota en la fila de esa tanda.") -> Al terminar, avisá cuánto salió. El encargado lo anota en la fila de esa tanda.
A7: Qué hacer | B7: Producto y días de uso | C7: Cantidad | D7: Retiro | E7: Guardar y rotular
A8: =IF($F8=0,"",INDEX(Encargado!$AL$9:$AL$128,$F8)) | B8: =IF($F8=0,"",INDEX(Encargado!$A$9:$A$128,$F8)&IF(INDEX(Encargado!$L$9:$L$128,$F8)="Adelanto"," · Adelanto para stock","")&IF(AND(ISNUMBER(INDEX(Encargado!$D$9:$D$128,$F8)),ISNUMBER(INDEX(Encargado!$E$9:$E$128,$F8))),CHAR(10)&TEXT(INDEX(Encargado!$D$9:$D$128,$F8),"dd/mm")&" al "&TEXT(INDEX(Encargado!$E$9:$E$128,$F8),"dd/mm"),"")) | C8: =IF($F8=0,"",ROUND(INDEX(Encargado!$J$9:$J$128,$F8),3)&" "&INDEX(Encargado!$F$9:$F$128,$F8)) | D8: =IF($F8=0,"",IF(INDEX(Encargado!$L$9:$L$128,$F8)="Adelanto","Prev. "&TEXT(INDEX(Encargado!$C$9:$C$128,$F8),"dd/mm"),INDEX(Encargado!$C$9:$C$128,$F8))) | E8: =IF($F8=0,"",INDEX(Encargado!$Y$9:$Y$128,$F8)&CHAR(10)&"Vto. previsto: "&TEXT(INDEX(Encargado!$Q$9:$Q$128,$F8),"dd/mm/yy")) | F8: =IFERROR(MATCH(1,Encargado!$V$9:$V$128,0),0) -> 0
A9: =IF($F9=0,"",INDEX(Encargado!$AL$9:$AL$128,$F9)) | B9: =IF($F9=0,"",INDEX(Encargado!$A$9:$A$128,$F9)&IF(INDEX(Encargado!$L$9:$L$128,$F9)="Adelanto"," · Adelanto para stock","")&IF(AND(ISNUMBER(INDEX(Encargado!$D$9:$D$128,$F9)),ISNUMBER(INDEX(Encargado!$E$9:$E$128,$F9))),CHAR(10)&TEXT(INDEX(Encargado!$D$9:$D$128,$F9),"dd/mm")&" al "&TEXT(INDEX(Encargado!$E$9:$E$128,$F9),"dd/mm"),"")) | C9: =IF($F9=0,"",ROUND(INDEX(Encargado!$J$9:$J$128,$F9),3)&" "&INDEX(Encargado!$F$9:$F$128,$F9)) | D9: =IF($F9=0,"",IF(INDEX(Encargado!$L$9:$L$128,$F9)="Adelanto","Prev. "&TEXT(INDEX(Encargado!$C$9:$C$128,$F9),"dd/mm"),INDEX(Encargado!$C$9:$C$128,$F9))) | E9: =IF($F9=0,"",INDEX(Encargado!$Y$9:$Y$128,$F9)&CHAR(10)&"Vto. previsto: "&TEXT(INDEX(Encargado!$Q$9:$Q$128,$F9),"dd/mm/yy")) | F9: =IFERROR(MATCH(2,Encargado!$V$9:$V$128,0),0) -> 0
A10: =IF($F10=0,"",INDEX(Encargado!$AL$9:$AL$128,$F10)) | B10: =IF($F10=0,"",INDEX(Encargado!$A$9:$A$128,$F10)&IF(INDEX(Encargado!$L$9:$L$128,$F10)="Adelanto"," · Adelanto para stock","")&IF(AND(ISNUMBER(INDEX(Encargado!$D$9:$D$128,$F10)),ISNUMBER(INDEX(Encargado!$E$9:$E$128,$F10))),CHAR(10)&TEXT(INDEX(Encargado!$D$9:$D$128,$F10),"dd/mm")&" al "&TEXT(INDEX(Encargado!$E$9:$E$128,$F10),"dd/mm"),"")) | C10: =IF($F10=0,"",ROUND(INDEX(Encargado!$J$9:$J$128,$F10),3)&" "&INDEX(Encargado!$F$9:$F$128,$F10)) | D10: =IF($F10=0,"",IF(INDEX(Encargado!$L$9:$L$128,$F10)="Adelanto","Prev. "&TEXT(INDEX(Encargado!$C$9:$C$128,$F10),"dd/mm"),INDEX(Encargado!$C$9:$C$128,$F10))) | E10: =IF($F10=0,"",INDEX(Encargado!$Y$9:$Y$128,$F10)&CHAR(10)&"Vto. previsto: "&TEXT(INDEX(Encargado!$Q$9:$Q$128,$F10),"dd/mm/yy")) | F10: =IFERROR(MATCH(3,Encargado!$V$9:$V$128,0),0) -> 0
A11: =IF($F11=0,"",INDEX(Encargado!$AL$9:$AL$128,$F11)) | B11: =IF($F11=0,"",INDEX(Encargado!$A$9:$A$128,$F11)&IF(INDEX(Encargado!$L$9:$L$128,$F11)="Adelanto"," · Adelanto para stock","")&IF(AND(ISNUMBER(INDEX(Encargado!$D$9:$D$128,$F11)),ISNUMBER(INDEX(Encargado!$E$9:$E$128,$F11))),CHAR(10)&TEXT(INDEX(Encargado!$D$9:$D$128,$F11),"dd/mm")&" al "&TEXT(INDEX(Encargado!$E$9:$E$128,$F11),"dd/mm"),"")) | C11: =IF($F11=0,"",ROUND(INDEX(Encargado!$J$9:$J$128,$F11),3)&" "&INDEX(Encargado!$F$9:$F$128,$F11)) | D11: =IF($F11=0,"",IF(INDEX(Encargado!$L$9:$L$128,$F11)="Adelanto","Prev. "&TEXT(INDEX(Encargado!$C$9:$C$128,$F11),"dd/mm"),INDEX(Encargado!$C$9:$C$128,$F11))) | E11: =IF($F11=0,"",INDEX(Encargado!$Y$9:$Y$128,$F11)&CHAR(10)&"Vto. previsto: "&TEXT(INDEX(Encargado!$Q$9:$Q$128,$F11),"dd/mm/yy")) | F11: =IFERROR(MATCH(4,Encargado!$V$9:$V$128,0),0) -> 0
A12: =IF($F12=0,"",INDEX(Encargado!$AL$9:$AL$128,$F12)) | B12: =IF($F12=0,"",INDEX(Encargado!$A$9:$A$128,$F12)&IF(INDEX(Encargado!$L$9:$L$128,$F12)="Adelanto"," · Adelanto para stock","")&IF(AND(ISNUMBER(INDEX(Encargado!$D$9:$D$128,$F12)),ISNUMBER(INDEX(Encargado!$E$9:$E$128,$F12))),CHAR(10)&TEXT(INDEX(Encargado!$D$9:$D$128,$F12),"dd/mm")&" al "&TEXT(INDEX(Encargado!$E$9:$E$128,$F12),"dd/mm"),"")) | C12: =IF($F12=0,"",ROUND(INDEX(Encargado!$J$9:$J$128,$F12),3)&" "&INDEX(Encargado!$F$9:$F$128,$F12)) | D12: =IF($F12=0,"",IF(INDEX(Encargado!$L$9:$L$128,$F12)="Adelanto","Prev. "&TEXT(INDEX(Encargado!$C$9:$C$128,$F12),"dd/mm"),INDEX(Encargado!$C$9:$C$128,$F12))) | E12: =IF($F12=0,"",INDEX(Encargado!$Y$9:$Y$128,$F12)&CHAR(10)&"Vto. previsto: "&TEXT(INDEX(Encargado!$Q$9:$Q$128,$F12),"dd/mm/yy")) | F12: =IFERROR(MATCH(5,Encargado!$V$9:$V$128,0),0) -> 0
A13: =IF($F13=0,"",INDEX(Encargado!$AL$9:$AL$128,$F13)) | B13: =IF($F13=0,"",INDEX(Encargado!$A$9:$A$128,$F13)&IF(INDEX(Encargado!$L$9:$L$128,$F13)="Adelanto"," · Adelanto para stock","")&IF(AND(ISNUMBER(INDEX(Encargado!$D$9:$D$128,$F13)),ISNUMBER(INDEX(Encargado!$E$9:$E$128,$F13))),CHAR(10)&TEXT(INDEX(Encargado!$D$9:$D$128,$F13),"dd/mm")&" al "&TEXT(INDEX(Encargado!$E$9:$E$128,$F13),"dd/mm"),"")) | C13: =IF($F13=0,"",ROUND(INDEX(Encargado!$J$9:$J$128,$F13),3)&" "&INDEX(Encargado!$F$9:$F$128,$F13)) | D13: =IF($F13=0,"",IF(INDEX(Encargado!$L$9:$L$128,$F13)="Adelanto","Prev. "&TEXT(INDEX(Encargado!$C$9:$C$128,$F13),"dd/mm"),INDEX(Encargado!$C$9:$C$128,$F13))) | E13: =IF($F13=0,"",INDEX(Encargado!$Y$9:$Y$128,$F13)&CHAR(10)&"Vto. previsto: "&TEXT(INDEX(Encargado!$Q$9:$Q$128,$F13),"dd/mm/yy")) | F13: =IFERROR(MATCH(6,Encargado!$V$9:$V$128,0),0) -> 0
A14: =IF($F14=0,"",INDEX(Encargado!$AL$9:$AL$128,$F14)) | B14: =IF($F14=0,"",INDEX(Encargado!$A$9:$A$128,$F14)&IF(INDEX(Encargado!$L$9:$L$128,$F14)="Adelanto"," · Adelanto para stock","")&IF(AND(ISNUMBER(INDEX(Encargado!$D$9:$D$128,$F14)),ISNUMBER(INDEX(Encargado!$E$9:$E$128,$F14))),CHAR(10)&TEXT(INDEX(Encargado!$D$9:$D$128,$F14),"dd/mm")&" al "&TEXT(INDEX(Encargado!$E$9:$E$128,$F14),"dd/mm"),"")) | C14: =IF($F14=0,"",ROUND(INDEX(Encargado!$J$9:$J$128,$F14),3)&" "&INDEX(Encargado!$F$9:$F$128,$F14)) | D14: =IF($F14=0,"",IF(INDEX(Encargado!$L$9:$L$128,$F14)="Adelanto","Prev. "&TEXT(INDEX(Encargado!$C$9:$C$128,$F14),"dd/mm"),INDEX(Encargado!$C$9:$C$128,$F14))) | E14: =IF($F14=0,"",INDEX(Encargado!$Y$9:$Y$128,$F14)&CHAR(10)&"Vto. previsto: "&TEXT(INDEX(Encargado!$Q$9:$Q$128,$F14),"dd/mm/yy")) | F14: =IFERROR(MATCH(7,Encargado!$V$9:$V$128,0),0) -> 0
A15: =IF($F15=0,"",INDEX(Encargado!$AL$9:$AL$128,$F15)) | B15: =IF($F15=0,"",INDEX(Encargado!$A$9:$A$128,$F15)&IF(INDEX(Encargado!$L$9:$L$128,$F15)="Adelanto"," · Adelanto para stock","")&IF(AND(ISNUMBER(INDEX(Encargado!$D$9:$D$128,$F15)),ISNUMBER(INDEX(Encargado!$E$9:$E$128,$F15))),CHAR(10)&TEXT(INDEX(Encargado!$D$9:$D$128,$F15),"dd/mm")&" al "&TEXT(INDEX(Encargado!$E$9:$E$128,$F15),"dd/mm"),"")) | C15: =IF($F15=0,"",ROUND(INDEX(Encargado!$J$9:$J$128,$F15),3)&" "&INDEX(Encargado!$F$9:$F$128,$F15)) | D15: =IF($F15=0,"",IF(INDEX(Encargado!$L$9:$L$128,$F15)="Adelanto","Prev. "&TEXT(INDEX(Encargado!$C$9:$C$128,$F15),"dd/mm"),INDEX(Encargado!$C$9:$C$128,$F15))) | E15: =IF($F15=0,"",INDEX(Encargado!$Y$9:$Y$128,$F15)&CHAR(10)&"Vto. previsto: "&TEXT(INDEX(Encargado!$Q$9:$Q$128,$F15),"dd/mm/yy")) | F15: =IFERROR(MATCH(8,Encargado!$V$9:$V$128,0),0) -> 0
A16: =IF($F16=0,"",INDEX(Encargado!$AL$9:$AL$128,$F16)) | B16: =IF($F16=0,"",INDEX(Encargado!$A$9:$A$128,$F16)&IF(INDEX(Encargado!$L$9:$L$128,$F16)="Adelanto"," · Adelanto para stock","")&IF(AND(ISNUMBER(INDEX(Encargado!$D$9:$D$128,$F16)),ISNUMBER(INDEX(Encargado!$E$9:$E$128,$F16))),CHAR(10)&TEXT(INDEX(Encargado!$D$9:$D$128,$F16),"dd/mm")&" al "&TEXT(INDEX(Encargado!$E$9:$E$128,$F16),"dd/mm"),"")) | C16: =IF($F16=0,"",ROUND(INDEX(Encargado!$J$9:$J$128,$F16),3)&" "&INDEX(Encargado!$F$9:$F$128,$F16)) | D16: =IF($F16=0,"",IF(INDEX(Encargado!$L$9:$L$128,$F16)="Adelanto","Prev. "&TEXT(INDEX(Encargado!$C$9:$C$128,$F16),"dd/mm"),INDEX(Encargado!$C$9:$C$128,$F16))) | E16: =IF($F16=0,"",INDEX(Encargado!$Y$9:$Y$128,$F16)&CHAR(10)&"Vto. previsto: "&TEXT(INDEX(Encargado!$Q$9:$Q$128,$F16),"dd/mm/yy")) | F16: =IFERROR(MATCH(9,Encargado!$V$9:$V$128,0),0) -> 0
A17: =IF($F17=0,"",INDEX(Encargado!$AL$9:$AL$128,$F17)) | B17: =IF($F17=0,"",INDEX(Encargado!$A$9:$A$128,$F17)&IF(INDEX(Encargado!$L$9:$L$128,$F17)="Adelanto"," · Adelanto para stock","")&IF(AND(ISNUMBER(INDEX(Encargado!$D$9:$D$128,$F17)),ISNUMBER(INDEX(Encargado!$E$9:$E$128,$F17))),CHAR(10)&TEXT(INDEX(Encargado!$D$9:$D$128,$F17),"dd/mm")&" al "&TEXT(INDEX(Encargado!$E$9:$E$128,$F17),"dd/mm"),"")) | C17: =IF($F17=0,"",ROUND(INDEX(Encargado!$J$9:$J$128,$F17),3)&" "&INDEX(Encargado!$F$9:$F$128,$F17)) | D17: =IF($F17=0,"",IF(INDEX(Encargado!$L$9:$L$128,$F17)="Adelanto","Prev. "&TEXT(INDEX(Encargado!$C$9:$C$128,$F17),"dd/mm"),INDEX(Encargado!$C$9:$C$128,$F17))) | E17: =IF($F17=0,"",INDEX(Encargado!$Y$9:$Y$128,$F17)&CHAR(10)&"Vto. previsto: "&TEXT(INDEX(Encargado!$Q$9:$Q$128,$F17),"dd/mm/yy")) | F17: =IFERROR(MATCH(10,Encargado!$V$9:$V$128,0),0) -> 0
A18: =IF($F18=0,"",INDEX(Encargado!$AL$9:$AL$128,$F18)) | B18: =IF($F18=0,"",INDEX(Encargado!$A$9:$A$128,$F18)&IF(INDEX(Encargado!$L$9:$L$128,$F18)="Adelanto"," · Adelanto para stock","")&IF(AND(ISNUMBER(INDEX(Encargado!$D$9:$D$128,$F18)),ISNUMBER(INDEX(Encargado!$E$9:$E$128,$F18))),CHAR(10)&TEXT(INDEX(Encargado!$D$9:$D$128,$F18),"dd/mm")&" al "&TEXT(INDEX(Encargado!$E$9:$E$128,$F18),"dd/mm"),"")) | C18: =IF($F18=0,"",ROUND(INDEX(Encargado!$J$9:$J$128,$F18),3)&" "&INDEX(Encargado!$F$9:$F$128,$F18)) | D18: =IF($F18=0,"",IF(INDEX(Encargado!$L$9:$L$128,$F18)="Adelanto","Prev. "&TEXT(INDEX(Encargado!$C$9:$C$128,$F18),"dd/mm"),INDEX(Encargado!$C$9:$C$128,$F18))) | E18: =IF($F18=0,"",INDEX(Encargado!$Y$9:$Y$128,$F18)&CHAR(10)&"Vto. previsto: "&TEXT(INDEX(Encargado!$Q$9:$Q$128,$F18),"dd/mm/yy")) | F18: =IFERROR(MATCH(11,Encargado!$V$9:$V$128,0),0) -> 0
A19: =IF($F19=0,"",INDEX(Encargado!$AL$9:$AL$128,$F19)) | B19: =IF($F19=0,"",INDEX(Encargado!$A$9:$A$128,$F19)&IF(INDEX(Encargado!$L$9:$L$128,$F19)="Adelanto"," · Adelanto para stock","")&IF(AND(ISNUMBER(INDEX(Encargado!$D$9:$D$128,$F19)),ISNUMBER(INDEX(Encargado!$E$9:$E$128,$F19))),CHAR(10)&TEXT(INDEX(Encargado!$D$9:$D$128,$F19),"dd/mm")&" al "&TEXT(INDEX(Encargado!$E$9:$E$128,$F19),"dd/mm"),"")) | C19: =IF($F19=0,"",ROUND(INDEX(Encargado!$J$9:$J$128,$F19),3)&" "&INDEX(Encargado!$F$9:$F$128,$F19)) | D19: =IF($F19=0,"",IF(INDEX(Encargado!$L$9:$L$128,$F19)="Adelanto","Prev. "&TEXT(INDEX(Encargado!$C$9:$C$128,$F19),"dd/mm"),INDEX(Encargado!$C$9:$C$128,$F19))) | E19: =IF($F19=0,"",INDEX(Encargado!$Y$9:$Y$128,$F19)&CHAR(10)&"Vto. previsto: "&TEXT(INDEX(Encargado!$Q$9:$Q$128,$F19),"dd/mm/yy")) | F19: =IFERROR(MATCH(12,Encargado!$V$9:$V$128,0),0) -> 0
A20: =IF($F20=0,"",INDEX(Encargado!$AL$9:$AL$128,$F20)) | B20: =IF($F20=0,"",INDEX(Encargado!$A$9:$A$128,$F20)&IF(INDEX(Encargado!$L$9:$L$128,$F20)="Adelanto"," · Adelanto para stock","")&IF(AND(ISNUMBER(INDEX(Encargado!$D$9:$D$128,$F20)),ISNUMBER(INDEX(Encargado!$E$9:$E$128,$F20))),CHAR(10)&TEXT(INDEX(Encargado!$D$9:$D$128,$F20),"dd/mm")&" al "&TEXT(INDEX(Encargado!$E$9:$E$128,$F20),"dd/mm"),"")) | C20: =IF($F20=0,"",ROUND(INDEX(Encargado!$J$9:$J$128,$F20),3)&" "&INDEX(Encargado!$F$9:$F$128,$F20)) | D20: =IF($F20=0,"",IF(INDEX(Encargado!$L$9:$L$128,$F20)="Adelanto","Prev. "&TEXT(INDEX(Encargado!$C$9:$C$128,$F20),"dd/mm"),INDEX(Encargado!$C$9:$C$128,$F20))) | E20: =IF($F20=0,"",INDEX(Encargado!$Y$9:$Y$128,$F20)&CHAR(10)&"Vto. previsto: "&TEXT(INDEX(Encargado!$Q$9:$Q$128,$F20),"dd/mm/yy")) | F20: =IFERROR(MATCH(13,Encargado!$V$9:$V$128,0),0) -> 0
A21: =IF($F21=0,"",INDEX(Encargado!$AL$9:$AL$128,$F21)) | B21: =IF($F21=0,"",INDEX(Encargado!$A$9:$A$128,$F21)&IF(INDEX(Encargado!$L$9:$L$128,$F21)="Adelanto"," · Adelanto para stock","")&IF(AND(ISNUMBER(INDEX(Encargado!$D$9:$D$128,$F21)),ISNUMBER(INDEX(Encargado!$E$9:$E$128,$F21))),CHAR(10)&TEXT(INDEX(Encargado!$D$9:$D$128,$F21),"dd/mm")&" al "&TEXT(INDEX(Encargado!$E$9:$E$128,$F21),"dd/mm"),"")) | C21: =IF($F21=0,"",ROUND(INDEX(Encargado!$J$9:$J$128,$F21),3)&" "&INDEX(Encargado!$F$9:$F$128,$F21)) | D21: =IF($F21=0,"",IF(INDEX(Encargado!$L$9:$L$128,$F21)="Adelanto","Prev. "&TEXT(INDEX(Encargado!$C$9:$C$128,$F21),"dd/mm"),INDEX(Encargado!$C$9:$C$128,$F21))) | E21: =IF($F21=0,"",INDEX(Encargado!$Y$9:$Y$128,$F21)&CHAR(10)&"Vto. previsto: "&TEXT(INDEX(Encargado!$Q$9:$Q$128,$F21),"dd/mm/yy")) | F21: =IFERROR(MATCH(14,Encargado!$V$9:$V$128,0),0) -> 0
A22: =IF($F22=0,"",INDEX(Encargado!$AL$9:$AL$128,$F22)) | B22: =IF($F22=0,"",INDEX(Encargado!$A$9:$A$128,$F22)&IF(INDEX(Encargado!$L$9:$L$128,$F22)="Adelanto"," · Adelanto para stock","")&IF(AND(ISNUMBER(INDEX(Encargado!$D$9:$D$128,$F22)),ISNUMBER(INDEX(Encargado!$E$9:$E$128,$F22))),CHAR(10)&TEXT(INDEX(Encargado!$D$9:$D$128,$F22),"dd/mm")&" al "&TEXT(INDEX(Encargado!$E$9:$E$128,$F22),"dd/mm"),"")) | C22: =IF($F22=0,"",ROUND(INDEX(Encargado!$J$9:$J$128,$F22),3)&" "&INDEX(Encargado!$F$9:$F$128,$F22)) | D22: =IF($F22=0,"",IF(INDEX(Encargado!$L$9:$L$128,$F22)="Adelanto","Prev. "&TEXT(INDEX(Encargado!$C$9:$C$128,$F22),"dd/mm"),INDEX(Encargado!$C$9:$C$128,$F22))) | E22: =IF($F22=0,"",INDEX(Encargado!$Y$9:$Y$128,$F22)&CHAR(10)&"Vto. previsto: "&TEXT(INDEX(Encargado!$Q$9:$Q$128,$F22),"dd/mm/yy")) | F22: =IFERROR(MATCH(15,Encargado!$V$9:$V$128,0),0) -> 0
A23: =IF($F23=0,"",INDEX(Encargado!$AL$9:$AL$128,$F23)) | B23: =IF($F23=0,"",INDEX(Encargado!$A$9:$A$128,$F23)&IF(INDEX(Encargado!$L$9:$L$128,$F23)="Adelanto"," · Adelanto para stock","")&IF(AND(ISNUMBER(INDEX(Encargado!$D$9:$D$128,$F23)),ISNUMBER(INDEX(Encargado!$E$9:$E$128,$F23))),CHAR(10)&TEXT(INDEX(Encargado!$D$9:$D$128,$F23),"dd/mm")&" al "&TEXT(INDEX(Encargado!$E$9:$E$128,$F23),"dd/mm"),"")) | C23: =IF($F23=0,"",ROUND(INDEX(Encargado!$J$9:$J$128,$F23),3)&" "&INDEX(Encargado!$F$9:$F$128,$F23)) | D23: =IF($F23=0,"",IF(INDEX(Encargado!$L$9:$L$128,$F23)="Adelanto","Prev. "&TEXT(INDEX(Encargado!$C$9:$C$128,$F23),"dd/mm"),INDEX(Encargado!$C$9:$C$128,$F23))) | E23: =IF($F23=0,"",INDEX(Encargado!$Y$9:$Y$128,$F23)&CHAR(10)&"Vto. previsto: "&TEXT(INDEX(Encargado!$Q$9:$Q$128,$F23),"dd/mm/yy")) | F23: =IFERROR(MATCH(16,Encargado!$V$9:$V$128,0),0) -> 0
A24: =IF($F24=0,"",INDEX(Encargado!$AL$9:$AL$128,$F24)) | B24: =IF($F24=0,"",INDEX(Encargado!$A$9:$A$128,$F24)&IF(INDEX(Encargado!$L$9:$L$128,$F24)="Adelanto"," · Adelanto para stock","")&IF(AND(ISNUMBER(INDEX(Encargado!$D$9:$D$128,$F24)),ISNUMBER(INDEX(Encargado!$E$9:$E$128,$F24))),CHAR(10)&TEXT(INDEX(Encargado!$D$9:$D$128,$F24),"dd/mm")&" al "&TEXT(INDEX(Encargado!$E$9:$E$128,$F24),"dd/mm"),"")) | C24: =IF($F24=0,"",ROUND(INDEX(Encargado!$J$9:$J$128,$F24),3)&" "&INDEX(Encargado!$F$9:$F$128,$F24)) | D24: =IF($F24=0,"",IF(INDEX(Encargado!$L$9:$L$128,$F24)="Adelanto","Prev. "&TEXT(INDEX(Encargado!$C$9:$C$128,$F24),"dd/mm"),INDEX(Encargado!$C$9:$C$128,$F24))) | E24: =IF($F24=0,"",INDEX(Encargado!$Y$9:$Y$128,$F24)&CHAR(10)&"Vto. previsto: "&TEXT(INDEX(Encargado!$Q$9:$Q$128,$F24),"dd/mm/yy")) | F24: =IFERROR(MATCH(17,Encargado!$V$9:$V$128,0),0) -> 0
A25: =IF($F25=0,"",INDEX(Encargado!$AL$9:$AL$128,$F25)) | B25: =IF($F25=0,"",INDEX(Encargado!$A$9:$A$128,$F25)&IF(INDEX(Encargado!$L$9:$L$128,$F25)="Adelanto"," · Adelanto para stock","")&IF(AND(ISNUMBER(INDEX(Encargado!$D$9:$D$128,$F25)),ISNUMBER(INDEX(Encargado!$E$9:$E$128,$F25))),CHAR(10)&TEXT(INDEX(Encargado!$D$9:$D$128,$F25),"dd/mm")&" al "&TEXT(INDEX(Encargado!$E$9:$E$128,$F25),"dd/mm"),"")) | C25: =IF($F25=0,"",ROUND(INDEX(Encargado!$J$9:$J$128,$F25),3)&" "&INDEX(Encargado!$F$9:$F$128,$F25)) | D25: =IF($F25=0,"",IF(INDEX(Encargado!$L$9:$L$128,$F25)="Adelanto","Prev. "&TEXT(INDEX(Encargado!$C$9:$C$128,$F25),"dd/mm"),INDEX(Encargado!$C$9:$C$128,$F25))) | E25: =IF($F25=0,"",INDEX(Encargado!$Y$9:$Y$128,$F25)&CHAR(10)&"Vto. previsto: "&TEXT(INDEX(Encargado!$Q$9:$Q$128,$F25),"dd/mm/yy")) | F25: =IFERROR(MATCH(18,Encargado!$V$9:$V$128,0),0) -> 0
A26: =IF($F26=0,"",INDEX(Encargado!$AL$9:$AL$128,$F26)) | B26: =IF($F26=0,"",INDEX(Encargado!$A$9:$A$128,$F26)&IF(INDEX(Encargado!$L$9:$L$128,$F26)="Adelanto"," · Adelanto para stock","")&IF(AND(ISNUMBER(INDEX(Encargado!$D$9:$D$128,$F26)),ISNUMBER(INDEX(Encargado!$E$9:$E$128,$F26))),CHAR(10)&TEXT(INDEX(Encargado!$D$9:$D$128,$F26),"dd/mm")&" al "&TEXT(INDEX(Encargado!$E$9:$E$128,$F26),"dd/mm"),"")) | C26: =IF($F26=0,"",ROUND(INDEX(Encargado!$J$9:$J$128,$F26),3)&" "&INDEX(Encargado!$F$9:$F$128,$F26)) | D26: =IF($F26=0,"",IF(INDEX(Encargado!$L$9:$L$128,$F26)="Adelanto","Prev. "&TEXT(INDEX(Encargado!$C$9:$C$128,$F26),"dd/mm"),INDEX(Encargado!$C$9:$C$128,$F26))) | E26: =IF($F26=0,"",INDEX(Encargado!$Y$9:$Y$128,$F26)&CHAR(10)&"Vto. previsto: "&TEXT(INDEX(Encargado!$Q$9:$Q$128,$F26),"dd/mm/yy")) | F26: =IFERROR(MATCH(19,Encargado!$V$9:$V$128,0),0) -> 0
A27: =IF($F27=0,"",INDEX(Encargado!$AL$9:$AL$128,$F27)) | B27: =IF($F27=0,"",INDEX(Encargado!$A$9:$A$128,$F27)&IF(INDEX(Encargado!$L$9:$L$128,$F27)="Adelanto"," · Adelanto para stock","")&IF(AND(ISNUMBER(INDEX(Encargado!$D$9:$D$128,$F27)),ISNUMBER(INDEX(Encargado!$E$9:$E$128,$F27))),CHAR(10)&TEXT(INDEX(Encargado!$D$9:$D$128,$F27),"dd/mm")&" al "&TEXT(INDEX(Encargado!$E$9:$E$128,$F27),"dd/mm"),"")) | C27: =IF($F27=0,"",ROUND(INDEX(Encargado!$J$9:$J$128,$F27),3)&" "&INDEX(Encargado!$F$9:$F$128,$F27)) | D27: =IF($F27=0,"",IF(INDEX(Encargado!$L$9:$L$128,$F27)="Adelanto","Prev. "&TEXT(INDEX(Encargado!$C$9:$C$128,$F27),"dd/mm"),INDEX(Encargado!$C$9:$C$128,$F27))) | E27: =IF($F27=0,"",INDEX(Encargado!$Y$9:$Y$128,$F27)&CHAR(10)&"Vto. previsto: "&TEXT(INDEX(Encargado!$Q$9:$Q$128,$F27),"dd/mm/yy")) | F27: =IFERROR(MATCH(20,Encargado!$V$9:$V$128,0),0) -> 0
A28: =IF($F28=0,"",INDEX(Encargado!$AL$9:$AL$128,$F28)) | B28: =IF($F28=0,"",INDEX(Encargado!$A$9:$A$128,$F28)&IF(INDEX(Encargado!$L$9:$L$128,$F28)="Adelanto"," · Adelanto para stock","")&IF(AND(ISNUMBER(INDEX(Encargado!$D$9:$D$128,$F28)),ISNUMBER(INDEX(Encargado!$E$9:$E$128,$F28))),CHAR(10)&TEXT(INDEX(Encargado!$D$9:$D$128,$F28),"dd/mm")&" al "&TEXT(INDEX(Encargado!$E$9:$E$128,$F28),"dd/mm"),"")) | C28: =IF($F28=0,"",ROUND(INDEX(Encargado!$J$9:$J$128,$F28),3)&" "&INDEX(Encargado!$F$9:$F$128,$F28)) | D28: =IF($F28=0,"",IF(INDEX(Encargado!$L$9:$L$128,$F28)="Adelanto","Prev. "&TEXT(INDEX(Encargado!$C$9:$C$128,$F28),"dd/mm"),INDEX(Encargado!$C$9:$C$128,$F28))) | E28: =IF($F28=0,"",INDEX(Encargado!$Y$9:$Y$128,$F28)&CHAR(10)&"Vto. previsto: "&TEXT(INDEX(Encargado!$Q$9:$Q$128,$F28),"dd/mm/yy")) | F28: =IFERROR(MATCH(21,Encargado!$V$9:$V$128,0),0) -> 0
A29: =IF($F29=0,"",INDEX(Encargado!$AL$9:$AL$128,$F29)) | B29: =IF($F29=0,"",INDEX(Encargado!$A$9:$A$128,$F29)&IF(INDEX(Encargado!$L$9:$L$128,$F29)="Adelanto"," · Adelanto para stock","")&IF(AND(ISNUMBER(INDEX(Encargado!$D$9:$D$128,$F29)),ISNUMBER(INDEX(Encargado!$E$9:$E$128,$F29))),CHAR(10)&TEXT(INDEX(Encargado!$D$9:$D$128,$F29),"dd/mm")&" al "&TEXT(INDEX(Encargado!$E$9:$E$128,$F29),"dd/mm"),"")) | C29: =IF($F29=0,"",ROUND(INDEX(Encargado!$J$9:$J$128,$F29),3)&" "&INDEX(Encargado!$F$9:$F$128,$F29)) | D29: =IF($F29=0,"",IF(INDEX(Encargado!$L$9:$L$128,$F29)="Adelanto","Prev. "&TEXT(INDEX(Encargado!$C$9:$C$128,$F29),"dd/mm"),INDEX(Encargado!$C$9:$C$128,$F29))) | E29: =IF($F29=0,"",INDEX(Encargado!$Y$9:$Y$128,$F29)&CHAR(10)&"Vto. previsto: "&TEXT(INDEX(Encargado!$Q$9:$Q$128,$F29),"dd/mm/yy")) | F29: =IFERROR(MATCH(22,Encargado!$V$9:$V$128,0),0) -> 0
A30: =IF($F30=0,"",INDEX(Encargado!$AL$9:$AL$128,$F30)) | B30: =IF($F30=0,"",INDEX(Encargado!$A$9:$A$128,$F30)&IF(INDEX(Encargado!$L$9:$L$128,$F30)="Adelanto"," · Adelanto para stock","")&IF(AND(ISNUMBER(INDEX(Encargado!$D$9:$D$128,$F30)),ISNUMBER(INDEX(Encargado!$E$9:$E$128,$F30))),CHAR(10)&TEXT(INDEX(Encargado!$D$9:$D$128,$F30),"dd/mm")&" al "&TEXT(INDEX(Encargado!$E$9:$E$128,$F30),"dd/mm"),"")) | C30: =IF($F30=0,"",ROUND(INDEX(Encargado!$J$9:$J$128,$F30),3)&" "&INDEX(Encargado!$F$9:$F$128,$F30)) | D30: =IF($F30=0,"",IF(INDEX(Encargado!$L$9:$L$128,$F30)="Adelanto","Prev. "&TEXT(INDEX(Encargado!$C$9:$C$128,$F30),"dd/mm"),INDEX(Encargado!$C$9:$C$128,$F30))) | E30: =IF($F30=0,"",INDEX(Encargado!$Y$9:$Y$128,$F30)&CHAR(10)&"Vto. previsto: "&TEXT(INDEX(Encargado!$Q$9:$Q$128,$F30),"dd/mm/yy")) | F30: =IFERROR(MATCH(23,Encargado!$V$9:$V$128,0),0) -> 0
A31: =IF($F31=0,"",INDEX(Encargado!$AL$9:$AL$128,$F31)) | B31: =IF($F31=0,"",INDEX(Encargado!$A$9:$A$128,$F31)&IF(INDEX(Encargado!$L$9:$L$128,$F31)="Adelanto"," · Adelanto para stock","")&IF(AND(ISNUMBER(INDEX(Encargado!$D$9:$D$128,$F31)),ISNUMBER(INDEX(Encargado!$E$9:$E$128,$F31))),CHAR(10)&TEXT(INDEX(Encargado!$D$9:$D$128,$F31),"dd/mm")&" al "&TEXT(INDEX(Encargado!$E$9:$E$128,$F31),"dd/mm"),"")) | C31: =IF($F31=0,"",ROUND(INDEX(Encargado!$J$9:$J$128,$F31),3)&" "&INDEX(Encargado!$F$9:$F$128,$F31)) | D31: =IF($F31=0,"",IF(INDEX(Encargado!$L$9:$L$128,$F31)="Adelanto","Prev. "&TEXT(INDEX(Encargado!$C$9:$C$128,$F31),"dd/mm"),INDEX(Encargado!$C$9:$C$128,$F31))) | E31: =IF($F31=0,"",INDEX(Encargado!$Y$9:$Y$128,$F31)&CHAR(10)&"Vto. previsto: "&TEXT(INDEX(Encargado!$Q$9:$Q$128,$F31),"dd/mm/yy")) | F31: =IFERROR(MATCH(24,Encargado!$V$9:$V$128,0),0) -> 0
A32: =IF($F32=0,"",INDEX(Encargado!$AL$9:$AL$128,$F32)) | B32: =IF($F32=0,"",INDEX(Encargado!$A$9:$A$128,$F32)&IF(INDEX(Encargado!$L$9:$L$128,$F32)="Adelanto"," · Adelanto para stock","")&IF(AND(ISNUMBER(INDEX(Encargado!$D$9:$D$128,$F32)),ISNUMBER(INDEX(Encargado!$E$9:$E$128,$F32))),CHAR(10)&TEXT(INDEX(Encargado!$D$9:$D$128,$F32),"dd/mm")&" al "&TEXT(INDEX(Encargado!$E$9:$E$128,$F32),"dd/mm"),"")) | C32: =IF($F32=0,"",ROUND(INDEX(Encargado!$J$9:$J$128,$F32),3)&" "&INDEX(Encargado!$F$9:$F$128,$F32)) | D32: =IF($F32=0,"",IF(INDEX(Encargado!$L$9:$L$128,$F32)="Adelanto","Prev. "&TEXT(INDEX(Encargado!$C$9:$C$128,$F32),"dd/mm"),INDEX(Encargado!$C$9:$C$128,$F32))) | E32: =IF($F32=0,"",INDEX(Encargado!$Y$9:$Y$128,$F32)&CHAR(10)&"Vto. previsto: "&TEXT(INDEX(Encargado!$Q$9:$Q$128,$F32),"dd/mm/yy")) | F32: =IFERROR(MATCH(25,Encargado!$V$9:$V$128,0),0) -> 0
A33: =IF($F33=0,"",INDEX(Encargado!$AL$9:$AL$128,$F33)) | B33: =IF($F33=0,"",INDEX(Encargado!$A$9:$A$128,$F33)&IF(INDEX(Encargado!$L$9:$L$128,$F33)="Adelanto"," · Adelanto para stock","")&IF(AND(ISNUMBER(INDEX(Encargado!$D$9:$D$128,$F33)),ISNUMBER(INDEX(Encargado!$E$9:$E$128,$F33))),CHAR(10)&TEXT(INDEX(Encargado!$D$9:$D$128,$F33),"dd/mm")&" al "&TEXT(INDEX(Encargado!$E$9:$E$128,$F33),"dd/mm"),"")) | C33: =IF($F33=0,"",ROUND(INDEX(Encargado!$J$9:$J$128,$F33),3)&" "&INDEX(Encargado!$F$9:$F$128,$F33)) | D33: =IF($F33=0,"",IF(INDEX(Encargado!$L$9:$L$128,$F33)="Adelanto","Prev. "&TEXT(INDEX(Encargado!$C$9:$C$128,$F33),"dd/mm"),INDEX(Encargado!$C$9:$C$128,$F33))) | E33: =IF($F33=0,"",INDEX(Encargado!$Y$9:$Y$128,$F33)&CHAR(10)&"Vto. previsto: "&TEXT(INDEX(Encargado!$Q$9:$Q$128,$F33),"dd/mm/yy")) | F33: =IFERROR(MATCH(26,Encargado!$V$9:$V$128,0),0) -> 0
A34: =IF($F34=0,"",INDEX(Encargado!$AL$9:$AL$128,$F34)) | B34: =IF($F34=0,"",INDEX(Encargado!$A$9:$A$128,$F34)&IF(INDEX(Encargado!$L$9:$L$128,$F34)="Adelanto"," · Adelanto para stock","")&IF(AND(ISNUMBER(INDEX(Encargado!$D$9:$D$128,$F34)),ISNUMBER(INDEX(Encargado!$E$9:$E$128,$F34))),CHAR(10)&TEXT(INDEX(Encargado!$D$9:$D$128,$F34),"dd/mm")&" al "&TEXT(INDEX(Encargado!$E$9:$E$128,$F34),"dd/mm"),"")) | C34: =IF($F34=0,"",ROUND(INDEX(Encargado!$J$9:$J$128,$F34),3)&" "&INDEX(Encargado!$F$9:$F$128,$F34)) | D34: =IF($F34=0,"",IF(INDEX(Encargado!$L$9:$L$128,$F34)="Adelanto","Prev. "&TEXT(INDEX(Encargado!$C$9:$C$128,$F34),"dd/mm"),INDEX(Encargado!$C$9:$C$128,$F34))) | E34: =IF($F34=0,"",INDEX(Encargado!$Y$9:$Y$128,$F34)&CHAR(10)&"Vto. previsto: "&TEXT(INDEX(Encargado!$Q$9:$Q$128,$F34),"dd/mm/yy")) | F34: =IFERROR(MATCH(27,Encargado!$V$9:$V$128,0),0) -> 0
A35: =IF($F35=0,"",INDEX(Encargado!$AL$9:$AL$128,$F35)) | B35: =IF($F35=0,"",INDEX(Encargado!$A$9:$A$128,$F35)&IF(INDEX(Encargado!$L$9:$L$128,$F35)="Adelanto"," · Adelanto para stock","")&IF(AND(ISNUMBER(INDEX(Encargado!$D$9:$D$128,$F35)),ISNUMBER(INDEX(Encargado!$E$9:$E$128,$F35))),CHAR(10)&TEXT(INDEX(Encargado!$D$9:$D$128,$F35),"dd/mm")&" al "&TEXT(INDEX(Encargado!$E$9:$E$128,$F35),"dd/mm"),"")) | C35: =IF($F35=0,"",ROUND(INDEX(Encargado!$J$9:$J$128,$F35),3)&" "&INDEX(Encargado!$F$9:$F$128,$F35)) | D35: =IF($F35=0,"",IF(INDEX(Encargado!$L$9:$L$128,$F35)="Adelanto","Prev. "&TEXT(INDEX(Encargado!$C$9:$C$128,$F35),"dd/mm"),INDEX(Encargado!$C$9:$C$128,$F35))) | E35: =IF($F35=0,"",INDEX(Encargado!$Y$9:$Y$128,$F35)&CHAR(10)&"Vto. previsto: "&TEXT(INDEX(Encargado!$Q$9:$Q$128,$F35),"dd/mm/yy")) | F35: =IFERROR(MATCH(28,Encargado!$V$9:$V$128,0),0) -> 0
A36: =IF($F36=0,"",INDEX(Encargado!$AL$9:$AL$128,$F36)) | B36: =IF($F36=0,"",INDEX(Encargado!$A$9:$A$128,$F36)&IF(INDEX(Encargado!$L$9:$L$128,$F36)="Adelanto"," · Adelanto para stock","")&IF(AND(ISNUMBER(INDEX(Encargado!$D$9:$D$128,$F36)),ISNUMBER(INDEX(Encargado!$E$9:$E$128,$F36))),CHAR(10)&TEXT(INDEX(Encargado!$D$9:$D$128,$F36),"dd/mm")&" al "&TEXT(INDEX(Encargado!$E$9:$E$128,$F36),"dd/mm"),"")) | C36: =IF($F36=0,"",ROUND(INDEX(Encargado!$J$9:$J$128,$F36),3)&" "&INDEX(Encargado!$F$9:$F$128,$F36)) | D36: =IF($F36=0,"",IF(INDEX(Encargado!$L$9:$L$128,$F36)="Adelanto","Prev. "&TEXT(INDEX(Encargado!$C$9:$C$128,$F36),"dd/mm"),INDEX(Encargado!$C$9:$C$128,$F36))) | E36: =IF($F36=0,"",INDEX(Encargado!$Y$9:$Y$128,$F36)&CHAR(10)&"Vto. previsto: "&TEXT(INDEX(Encargado!$Q$9:$Q$128,$F36),"dd/mm/yy")) | F36: =IFERROR(MATCH(29,Encargado!$V$9:$V$128,0),0) -> 0
A37: =IF($F37=0,"",INDEX(Encargado!$AL$9:$AL$128,$F37)) | B37: =IF($F37=0,"",INDEX(Encargado!$A$9:$A$128,$F37)&IF(INDEX(Encargado!$L$9:$L$128,$F37)="Adelanto"," · Adelanto para stock","")&IF(AND(ISNUMBER(INDEX(Encargado!$D$9:$D$128,$F37)),ISNUMBER(INDEX(Encargado!$E$9:$E$128,$F37))),CHAR(10)&TEXT(INDEX(Encargado!$D$9:$D$128,$F37),"dd/mm")&" al "&TEXT(INDEX(Encargado!$E$9:$E$128,$F37),"dd/mm"),"")) | C37: =IF($F37=0,"",ROUND(INDEX(Encargado!$J$9:$J$128,$F37),3)&" "&INDEX(Encargado!$F$9:$F$128,$F37)) | D37: =IF($F37=0,"",IF(INDEX(Encargado!$L$9:$L$128,$F37)="Adelanto","Prev. "&TEXT(INDEX(Encargado!$C$9:$C$128,$F37),"dd/mm"),INDEX(Encargado!$C$9:$C$128,$F37))) | E37: =IF($F37=0,"",INDEX(Encargado!$Y$9:$Y$128,$F37)&CHAR(10)&"Vto. previsto: "&TEXT(INDEX(Encargado!$Q$9:$Q$128,$F37),"dd/mm/yy")) | F37: =IFERROR(MATCH(30,Encargado!$V$9:$V$128,0),0) -> 0
A38: =IF($F38=0,"",INDEX(Encargado!$AL$9:$AL$128,$F38)) | B38: =IF($F38=0,"",INDEX(Encargado!$A$9:$A$128,$F38)&IF(INDEX(Encargado!$L$9:$L$128,$F38)="Adelanto"," · Adelanto para stock","")&IF(AND(ISNUMBER(INDEX(Encargado!$D$9:$D$128,$F38)),ISNUMBER(INDEX(Encargado!$E$9:$E$128,$F38))),CHAR(10)&TEXT(INDEX(Encargado!$D$9:$D$128,$F38),"dd/mm")&" al "&TEXT(INDEX(Encargado!$E$9:$E$128,$F38),"dd/mm"),"")) | C38: =IF($F38=0,"",ROUND(INDEX(Encargado!$J$9:$J$128,$F38),3)&" "&INDEX(Encargado!$F$9:$F$128,$F38)) | D38: =IF($F38=0,"",IF(INDEX(Encargado!$L$9:$L$128,$F38)="Adelanto","Prev. "&TEXT(INDEX(Encargado!$C$9:$C$128,$F38),"dd/mm"),INDEX(Encargado!$C$9:$C$128,$F38))) | E38: =IF($F38=0,"",INDEX(Encargado!$Y$9:$Y$128,$F38)&CHAR(10)&"Vto. previsto: "&TEXT(INDEX(Encargado!$Q$9:$Q$128,$F38),"dd/mm/yy")) | F38: =IFERROR(MATCH(31,Encargado!$V$9:$V$128,0),0) -> 0
A39: =IF($F39=0,"",INDEX(Encargado!$AL$9:$AL$128,$F39)) | B39: =IF($F39=0,"",INDEX(Encargado!$A$9:$A$128,$F39)&IF(INDEX(Encargado!$L$9:$L$128,$F39)="Adelanto"," · Adelanto para stock","")&IF(AND(ISNUMBER(INDEX(Encargado!$D$9:$D$128,$F39)),ISNUMBER(INDEX(Encargado!$E$9:$E$128,$F39))),CHAR(10)&TEXT(INDEX(Encargado!$D$9:$D$128,$F39),"dd/mm")&" al "&TEXT(INDEX(Encargado!$E$9:$E$128,$F39),"dd/mm"),"")) | C39: =IF($F39=0,"",ROUND(INDEX(Encargado!$J$9:$J$128,$F39),3)&" "&INDEX(Encargado!$F$9:$F$128,$F39)) | D39: =IF($F39=0,"",IF(INDEX(Encargado!$L$9:$L$128,$F39)="Adelanto","Prev. "&TEXT(INDEX(Encargado!$C$9:$C$128,$F39),"dd/mm"),INDEX(Encargado!$C$9:$C$128,$F39))) | E39: =IF($F39=0,"",INDEX(Encargado!$Y$9:$Y$128,$F39)&CHAR(10)&"Vto. previsto: "&TEXT(INDEX(Encargado!$Q$9:$Q$128,$F39),"dd/mm/yy")) | F39: =IFERROR(MATCH(32,Encargado!$V$9:$V$128,0),0) -> 0
A40: =IF($F40=0,"",INDEX(Encargado!$AL$9:$AL$128,$F40)) | B40: =IF($F40=0,"",INDEX(Encargado!$A$9:$A$128,$F40)&IF(INDEX(Encargado!$L$9:$L$128,$F40)="Adelanto"," · Adelanto para stock","")&IF(AND(ISNUMBER(INDEX(Encargado!$D$9:$D$128,$F40)),ISNUMBER(INDEX(Encargado!$E$9:$E$128,$F40))),CHAR(10)&TEXT(INDEX(Encargado!$D$9:$D$128,$F40),"dd/mm")&" al "&TEXT(INDEX(Encargado!$E$9:$E$128,$F40),"dd/mm"),"")) | C40: =IF($F40=0,"",ROUND(INDEX(Encargado!$J$9:$J$128,$F40),3)&" "&INDEX(Encargado!$F$9:$F$128,$F40)) | D40: =IF($F40=0,"",IF(INDEX(Encargado!$L$9:$L$128,$F40)="Adelanto","Prev. "&TEXT(INDEX(Encargado!$C$9:$C$128,$F40),"dd/mm"),INDEX(Encargado!$C$9:$C$128,$F40))) | E40: =IF($F40=0,"",INDEX(Encargado!$Y$9:$Y$128,$F40)&CHAR(10)&"Vto. previsto: "&TEXT(INDEX(Encargado!$Q$9:$Q$128,$F40),"dd/mm/yy")) | F40: =IFERROR(MATCH(33,Encargado!$V$9:$V$128,0),0) -> 0
A41: =IF($F41=0,"",INDEX(Encargado!$AL$9:$AL$128,$F41)) | B41: =IF($F41=0,"",INDEX(Encargado!$A$9:$A$128,$F41)&IF(INDEX(Encargado!$L$9:$L$128,$F41)="Adelanto"," · Adelanto para stock","")&IF(AND(ISNUMBER(INDEX(Encargado!$D$9:$D$128,$F41)),ISNUMBER(INDEX(Encargado!$E$9:$E$128,$F41))),CHAR(10)&TEXT(INDEX(Encargado!$D$9:$D$128,$F41),"dd/mm")&" al "&TEXT(INDEX(Encargado!$E$9:$E$128,$F41),"dd/mm"),"")) | C41: =IF($F41=0,"",ROUND(INDEX(Encargado!$J$9:$J$128,$F41),3)&" "&INDEX(Encargado!$F$9:$F$128,$F41)) | D41: =IF($F41=0,"",IF(INDEX(Encargado!$L$9:$L$128,$F41)="Adelanto","Prev. "&TEXT(INDEX(Encargado!$C$9:$C$128,$F41),"dd/mm"),INDEX(Encargado!$C$9:$C$128,$F41))) | E41: =IF($F41=0,"",INDEX(Encargado!$Y$9:$Y$128,$F41)&CHAR(10)&"Vto. previsto: "&TEXT(INDEX(Encargado!$Q$9:$Q$128,$F41),"dd/mm/yy")) | F41: =IFERROR(MATCH(34,Encargado!$V$9:$V$128,0),0) -> 0
A42: =IF($F42=0,"",INDEX(Encargado!$AL$9:$AL$128,$F42)) | B42: =IF($F42=0,"",INDEX(Encargado!$A$9:$A$128,$F42)&IF(INDEX(Encargado!$L$9:$L$128,$F42)="Adelanto"," · Adelanto para stock","")&IF(AND(ISNUMBER(INDEX(Encargado!$D$9:$D$128,$F42)),ISNUMBER(INDEX(Encargado!$E$9:$E$128,$F42))),CHAR(10)&TEXT(INDEX(Encargado!$D$9:$D$128,$F42),"dd/mm")&" al "&TEXT(INDEX(Encargado!$E$9:$E$128,$F42),"dd/mm"),"")) | C42: =IF($F42=0,"",ROUND(INDEX(Encargado!$J$9:$J$128,$F42),3)&" "&INDEX(Encargado!$F$9:$F$128,$F42)) | D42: =IF($F42=0,"",IF(INDEX(Encargado!$L$9:$L$128,$F42)="Adelanto","Prev. "&TEXT(INDEX(Encargado!$C$9:$C$128,$F42),"dd/mm"),INDEX(Encargado!$C$9:$C$128,$F42))) | E42: =IF($F42=0,"",INDEX(Encargado!$Y$9:$Y$128,$F42)&CHAR(10)&"Vto. previsto: "&TEXT(INDEX(Encargado!$Q$9:$Q$128,$F42),"dd/mm/yy")) | F42: =IFERROR(MATCH(35,Encargado!$V$9:$V$128,0),0) -> 0
A43: =IF($F43=0,"",INDEX(Encargado!$AL$9:$AL$128,$F43)) | B43: =IF($F43=0,"",INDEX(Encargado!$A$9:$A$128,$F43)&IF(INDEX(Encargado!$L$9:$L$128,$F43)="Adelanto"," · Adelanto para stock","")&IF(AND(ISNUMBER(INDEX(Encargado!$D$9:$D$128,$F43)),ISNUMBER(INDEX(Encargado!$E$9:$E$128,$F43))),CHAR(10)&TEXT(INDEX(Encargado!$D$9:$D$128,$F43),"dd/mm")&" al "&TEXT(INDEX(Encargado!$E$9:$E$128,$F43),"dd/mm"),"")) | C43: =IF($F43=0,"",ROUND(INDEX(Encargado!$J$9:$J$128,$F43),3)&" "&INDEX(Encargado!$F$9:$F$128,$F43)) | D43: =IF($F43=0,"",IF(INDEX(Encargado!$L$9:$L$128,$F43)="Adelanto","Prev. "&TEXT(INDEX(Encargado!$C$9:$C$128,$F43),"dd/mm"),INDEX(Encargado!$C$9:$C$128,$F43))) | E43: =IF($F43=0,"",INDEX(Encargado!$Y$9:$Y$128,$F43)&CHAR(10)&"Vto. previsto: "&TEXT(INDEX(Encargado!$Q$9:$Q$128,$F43),"dd/mm/yy")) | F43: =IFERROR(MATCH(36,Encargado!$V$9:$V$128,0),0) -> 0
A44: =IF($F44=0,"",INDEX(Encargado!$AL$9:$AL$128,$F44)) | B44: =IF($F44=0,"",INDEX(Encargado!$A$9:$A$128,$F44)&IF(INDEX(Encargado!$L$9:$L$128,$F44)="Adelanto"," · Adelanto para stock","")&IF(AND(ISNUMBER(INDEX(Encargado!$D$9:$D$128,$F44)),ISNUMBER(INDEX(Encargado!$E$9:$E$128,$F44))),CHAR(10)&TEXT(INDEX(Encargado!$D$9:$D$128,$F44),"dd/mm")&" al "&TEXT(INDEX(Encargado!$E$9:$E$128,$F44),"dd/mm"),"")) | C44: =IF($F44=0,"",ROUND(INDEX(Encargado!$J$9:$J$128,$F44),3)&" "&INDEX(Encargado!$F$9:$F$128,$F44)) | D44: =IF($F44=0,"",IF(INDEX(Encargado!$L$9:$L$128,$F44)="Adelanto","Prev. "&TEXT(INDEX(Encargado!$C$9:$C$128,$F44),"dd/mm"),INDEX(Encargado!$C$9:$C$128,$F44))) | E44: =IF($F44=0,"",INDEX(Encargado!$Y$9:$Y$128,$F44)&CHAR(10)&"Vto. previsto: "&TEXT(INDEX(Encargado!$Q$9:$Q$128,$F44),"dd/mm/yy")) | F44: =IFERROR(MATCH(37,Encargado!$V$9:$V$128,0),0) -> 0
A45: =IF($F45=0,"",INDEX(Encargado!$AL$9:$AL$128,$F45)) | B45: =IF($F45=0,"",INDEX(Encargado!$A$9:$A$128,$F45)&IF(INDEX(Encargado!$L$9:$L$128,$F45)="Adelanto"," · Adelanto para stock","")&IF(AND(ISNUMBER(INDEX(Encargado!$D$9:$D$128,$F45)),ISNUMBER(INDEX(Encargado!$E$9:$E$128,$F45))),CHAR(10)&TEXT(INDEX(Encargado!$D$9:$D$128,$F45),"dd/mm")&" al "&TEXT(INDEX(Encargado!$E$9:$E$128,$F45),"dd/mm"),"")) | C45: =IF($F45=0,"",ROUND(INDEX(Encargado!$J$9:$J$128,$F45),3)&" "&INDEX(Encargado!$F$9:$F$128,$F45)) | D45: =IF($F45=0,"",IF(INDEX(Encargado!$L$9:$L$128,$F45)="Adelanto","Prev. "&TEXT(INDEX(Encargado!$C$9:$C$128,$F45),"dd/mm"),INDEX(Encargado!$C$9:$C$128,$F45))) | E45: =IF($F45=0,"",INDEX(Encargado!$Y$9:$Y$128,$F45)&CHAR(10)&"Vto. previsto: "&TEXT(INDEX(Encargado!$Q$9:$Q$128,$F45),"dd/mm/yy")) | F45: =IFERROR(MATCH(38,Encargado!$V$9:$V$128,0),0) -> 0
A46: =IF($F46=0,"",INDEX(Encargado!$AL$9:$AL$128,$F46)) | B46: =IF($F46=0,"",INDEX(Encargado!$A$9:$A$128,$F46)&IF(INDEX(Encargado!$L$9:$L$128,$F46)="Adelanto"," · Adelanto para stock","")&IF(AND(ISNUMBER(INDEX(Encargado!$D$9:$D$128,$F46)),ISNUMBER(INDEX(Encargado!$E$9:$E$128,$F46))),CHAR(10)&TEXT(INDEX(Encargado!$D$9:$D$128,$F46),"dd/mm")&" al "&TEXT(INDEX(Encargado!$E$9:$E$128,$F46),"dd/mm"),"")) | C46: =IF($F46=0,"",ROUND(INDEX(Encargado!$J$9:$J$128,$F46),3)&" "&INDEX(Encargado!$F$9:$F$128,$F46)) | D46: =IF($F46=0,"",IF(INDEX(Encargado!$L$9:$L$128,$F46)="Adelanto","Prev. "&TEXT(INDEX(Encargado!$C$9:$C$128,$F46),"dd/mm"),INDEX(Encargado!$C$9:$C$128,$F46))) | E46: =IF($F46=0,"",INDEX(Encargado!$Y$9:$Y$128,$F46)&CHAR(10)&"Vto. previsto: "&TEXT(INDEX(Encargado!$Q$9:$Q$128,$F46),"dd/mm/yy")) | F46: =IFERROR(MATCH(39,Encargado!$V$9:$V$128,0),0) -> 0
A47: =IF($F47=0,"",INDEX(Encargado!$AL$9:$AL$128,$F47)) | B47: =IF($F47=0,"",INDEX(Encargado!$A$9:$A$128,$F47)&IF(INDEX(Encargado!$L$9:$L$128,$F47)="Adelanto"," · Adelanto para stock","")&IF(AND(ISNUMBER(INDEX(Encargado!$D$9:$D$128,$F47)),ISNUMBER(INDEX(Encargado!$E$9:$E$128,$F47))),CHAR(10)&TEXT(INDEX(Encargado!$D$9:$D$128,$F47),"dd/mm")&" al "&TEXT(INDEX(Encargado!$E$9:$E$128,$F47),"dd/mm"),"")) | C47: =IF($F47=0,"",ROUND(INDEX(Encargado!$J$9:$J$128,$F47),3)&" "&INDEX(Encargado!$F$9:$F$128,$F47)) | D47: =IF($F47=0,"",IF(INDEX(Encargado!$L$9:$L$128,$F47)="Adelanto","Prev. "&TEXT(INDEX(Encargado!$C$9:$C$128,$F47),"dd/mm"),INDEX(Encargado!$C$9:$C$128,$F47))) | E47: =IF($F47=0,"",INDEX(Encargado!$Y$9:$Y$128,$F47)&CHAR(10)&"Vto. previsto: "&TEXT(INDEX(Encargado!$Q$9:$Q$128,$F47),"dd/mm/yy")) | F47: =IFERROR(MATCH(40,Encargado!$V$9:$V$128,0),0) -> 0
A48: =IF($F48=0,"",INDEX(Encargado!$AL$9:$AL$128,$F48)) | B48: =IF($F48=0,"",INDEX(Encargado!$A$9:$A$128,$F48)&IF(INDEX(Encargado!$L$9:$L$128,$F48)="Adelanto"," · Adelanto para stock","")&IF(AND(ISNUMBER(INDEX(Encargado!$D$9:$D$128,$F48)),ISNUMBER(INDEX(Encargado!$E$9:$E$128,$F48))),CHAR(10)&TEXT(INDEX(Encargado!$D$9:$D$128,$F48),"dd/mm")&" al "&TEXT(INDEX(Encargado!$E$9:$E$128,$F48),"dd/mm"),"")) | C48: =IF($F48=0,"",ROUND(INDEX(Encargado!$J$9:$J$128,$F48),3)&" "&INDEX(Encargado!$F$9:$F$128,$F48)) | D48: =IF($F48=0,"",IF(INDEX(Encargado!$L$9:$L$128,$F48)="Adelanto","Prev. "&TEXT(INDEX(Encargado!$C$9:$C$128,$F48),"dd/mm"),INDEX(Encargado!$C$9:$C$128,$F48))) | E48: =IF($F48=0,"",INDEX(Encargado!$Y$9:$Y$128,$F48)&CHAR(10)&"Vto. previsto: "&TEXT(INDEX(Encargado!$Q$9:$Q$128,$F48),"dd/mm/yy")) | F48: =IFERROR(MATCH(41,Encargado!$V$9:$V$128,0),0) -> 0
A49: =IF($F49=0,"",INDEX(Encargado!$AL$9:$AL$128,$F49)) | B49: =IF($F49=0,"",INDEX(Encargado!$A$9:$A$128,$F49)&IF(INDEX(Encargado!$L$9:$L$128,$F49)="Adelanto"," · Adelanto para stock","")&IF(AND(ISNUMBER(INDEX(Encargado!$D$9:$D$128,$F49)),ISNUMBER(INDEX(Encargado!$E$9:$E$128,$F49))),CHAR(10)&TEXT(INDEX(Encargado!$D$9:$D$128,$F49),"dd/mm")&" al "&TEXT(INDEX(Encargado!$E$9:$E$128,$F49),"dd/mm"),"")) | C49: =IF($F49=0,"",ROUND(INDEX(Encargado!$J$9:$J$128,$F49),3)&" "&INDEX(Encargado!$F$9:$F$128,$F49)) | D49: =IF($F49=0,"",IF(INDEX(Encargado!$L$9:$L$128,$F49)="Adelanto","Prev. "&TEXT(INDEX(Encargado!$C$9:$C$128,$F49),"dd/mm"),INDEX(Encargado!$C$9:$C$128,$F49))) | E49: =IF($F49=0,"",INDEX(Encargado!$Y$9:$Y$128,$F49)&CHAR(10)&"Vto. previsto: "&TEXT(INDEX(Encargado!$Q$9:$Q$128,$F49),"dd/mm/yy")) | F49: =IFERROR(MATCH(42,Encargado!$V$9:$V$128,0),0) -> 0
A50: =IF($F50=0,"",INDEX(Encargado!$AL$9:$AL$128,$F50)) | B50: =IF($F50=0,"",INDEX(Encargado!$A$9:$A$128,$F50)&IF(INDEX(Encargado!$L$9:$L$128,$F50)="Adelanto"," · Adelanto para stock","")&IF(AND(ISNUMBER(INDEX(Encargado!$D$9:$D$128,$F50)),ISNUMBER(INDEX(Encargado!$E$9:$E$128,$F50))),CHAR(10)&TEXT(INDEX(Encargado!$D$9:$D$128,$F50),"dd/mm")&" al "&TEXT(INDEX(Encargado!$E$9:$E$128,$F50),"dd/mm"),"")) | C50: =IF($F50=0,"",ROUND(INDEX(Encargado!$J$9:$J$128,$F50),3)&" "&INDEX(Encargado!$F$9:$F$128,$F50)) | D50: =IF($F50=0,"",IF(INDEX(Encargado!$L$9:$L$128,$F50)="Adelanto","Prev. "&TEXT(INDEX(Encargado!$C$9:$C$128,$F50),"dd/mm"),INDEX(Encargado!$C$9:$C$128,$F50))) | E50: =IF($F50=0,"",INDEX(Encargado!$Y$9:$Y$128,$F50)&CHAR(10)&"Vto. previsto: "&TEXT(INDEX(Encargado!$Q$9:$Q$128,$F50),"dd/mm/yy")) | F50: =IFERROR(MATCH(43,Encargado!$V$9:$V$128,0),0) -> 0
A51: =IF($F51=0,"",INDEX(Encargado!$AL$9:$AL$128,$F51)) | B51: =IF($F51=0,"",INDEX(Encargado!$A$9:$A$128,$F51)&IF(INDEX(Encargado!$L$9:$L$128,$F51)="Adelanto"," · Adelanto para stock","")&IF(AND(ISNUMBER(INDEX(Encargado!$D$9:$D$128,$F51)),ISNUMBER(INDEX(Encargado!$E$9:$E$128,$F51))),CHAR(10)&TEXT(INDEX(Encargado!$D$9:$D$128,$F51),"dd/mm")&" al "&TEXT(INDEX(Encargado!$E$9:$E$128,$F51),"dd/mm"),"")) | C51: =IF($F51=0,"",ROUND(INDEX(Encargado!$J$9:$J$128,$F51),3)&" "&INDEX(Encargado!$F$9:$F$128,$F51)) | D51: =IF($F51=0,"",IF(INDEX(Encargado!$L$9:$L$128,$F51)="Adelanto","Prev. "&TEXT(INDEX(Encargado!$C$9:$C$128,$F51),"dd/mm"),INDEX(Encargado!$C$9:$C$128,$F51))) | E51: =IF($F51=0,"",INDEX(Encargado!$Y$9:$Y$128,$F51)&CHAR(10)&"Vto. previsto: "&TEXT(INDEX(Encargado!$Q$9:$Q$128,$F51),"dd/mm/yy")) | F51: =IFERROR(MATCH(44,Encargado!$V$9:$V$128,0),0) -> 0
A52: =IF($F52=0,"",INDEX(Encargado!$AL$9:$AL$128,$F52)) | B52: =IF($F52=0,"",INDEX(Encargado!$A$9:$A$128,$F52)&IF(INDEX(Encargado!$L$9:$L$128,$F52)="Adelanto"," · Adelanto para stock","")&IF(AND(ISNUMBER(INDEX(Encargado!$D$9:$D$128,$F52)),ISNUMBER(INDEX(Encargado!$E$9:$E$128,$F52))),CHAR(10)&TEXT(INDEX(Encargado!$D$9:$D$128,$F52),"dd/mm")&" al "&TEXT(INDEX(Encargado!$E$9:$E$128,$F52),"dd/mm"),"")) | C52: =IF($F52=0,"",ROUND(INDEX(Encargado!$J$9:$J$128,$F52),3)&" "&INDEX(Encargado!$F$9:$F$128,$F52)) | D52: =IF($F52=0,"",IF(INDEX(Encargado!$L$9:$L$128,$F52)="Adelanto","Prev. "&TEXT(INDEX(Encargado!$C$9:$C$128,$F52),"dd/mm"),INDEX(Encargado!$C$9:$C$128,$F52))) | E52: =IF($F52=0,"",INDEX(Encargado!$Y$9:$Y$128,$F52)&CHAR(10)&"Vto. previsto: "&TEXT(INDEX(Encargado!$Q$9:$Q$128,$F52),"dd/mm/yy")) | F52: =IFERROR(MATCH(45,Encargado!$V$9:$V$128,0),0) -> 0
A53: =IF($F53=0,"",INDEX(Encargado!$AL$9:$AL$128,$F53)) | B53: =IF($F53=0,"",INDEX(Encargado!$A$9:$A$128,$F53)&IF(INDEX(Encargado!$L$9:$L$128,$F53)="Adelanto"," · Adelanto para stock","")&IF(AND(ISNUMBER(INDEX(Encargado!$D$9:$D$128,$F53)),ISNUMBER(INDEX(Encargado!$E$9:$E$128,$F53))),CHAR(10)&TEXT(INDEX(Encargado!$D$9:$D$128,$F53),"dd/mm")&" al "&TEXT(INDEX(Encargado!$E$9:$E$128,$F53),"dd/mm"),"")) | C53: =IF($F53=0,"",ROUND(INDEX(Encargado!$J$9:$J$128,$F53),3)&" "&INDEX(Encargado!$F$9:$F$128,$F53)) | D53: =IF($F53=0,"",IF(INDEX(Encargado!$L$9:$L$128,$F53)="Adelanto","Prev. "&TEXT(INDEX(Encargado!$C$9:$C$128,$F53),"dd/mm"),INDEX(Encargado!$C$9:$C$128,$F53))) | E53: =IF($F53=0,"",INDEX(Encargado!$Y$9:$Y$128,$F53)&CHAR(10)&"Vto. previsto: "&TEXT(INDEX(Encargado!$Q$9:$Q$128,$F53),"dd/mm/yy")) | F53: =IFERROR(MATCH(46,Encargado!$V$9:$V$128,0),0) -> 0
A54: =IF($F54=0,"",INDEX(Encargado!$AL$9:$AL$128,$F54)) | B54: =IF($F54=0,"",INDEX(Encargado!$A$9:$A$128,$F54)&IF(INDEX(Encargado!$L$9:$L$128,$F54)="Adelanto"," · Adelanto para stock","")&IF(AND(ISNUMBER(INDEX(Encargado!$D$9:$D$128,$F54)),ISNUMBER(INDEX(Encargado!$E$9:$E$128,$F54))),CHAR(10)&TEXT(INDEX(Encargado!$D$9:$D$128,$F54),"dd/mm")&" al "&TEXT(INDEX(Encargado!$E$9:$E$128,$F54),"dd/mm"),"")) | C54: =IF($F54=0,"",ROUND(INDEX(Encargado!$J$9:$J$128,$F54),3)&" "&INDEX(Encargado!$F$9:$F$128,$F54)) | D54: =IF($F54=0,"",IF(INDEX(Encargado!$L$9:$L$128,$F54)="Adelanto","Prev. "&TEXT(INDEX(Encargado!$C$9:$C$128,$F54),"dd/mm"),INDEX(Encargado!$C$9:$C$128,$F54))) | E54: =IF($F54=0,"",INDEX(Encargado!$Y$9:$Y$128,$F54)&CHAR(10)&"Vto. previsto: "&TEXT(INDEX(Encargado!$Q$9:$Q$128,$F54),"dd/mm/yy")) | F54: =IFERROR(MATCH(47,Encargado!$V$9:$V$128,0),0) -> 0
A55: =IF($F55=0,"",INDEX(Encargado!$AL$9:$AL$128,$F55)) | B55: =IF($F55=0,"",INDEX(Encargado!$A$9:$A$128,$F55)&IF(INDEX(Encargado!$L$9:$L$128,$F55)="Adelanto"," · Adelanto para stock","")&IF(AND(ISNUMBER(INDEX(Encargado!$D$9:$D$128,$F55)),ISNUMBER(INDEX(Encargado!$E$9:$E$128,$F55))),CHAR(10)&TEXT(INDEX(Encargado!$D$9:$D$128,$F55),"dd/mm")&" al "&TEXT(INDEX(Encargado!$E$9:$E$128,$F55),"dd/mm"),"")) | C55: =IF($F55=0,"",ROUND(INDEX(Encargado!$J$9:$J$128,$F55),3)&" "&INDEX(Encargado!$F$9:$F$128,$F55)) | D55: =IF($F55=0,"",IF(INDEX(Encargado!$L$9:$L$128,$F55)="Adelanto","Prev. "&TEXT(INDEX(Encargado!$C$9:$C$128,$F55),"dd/mm"),INDEX(Encargado!$C$9:$C$128,$F55))) | E55: =IF($F55=0,"",INDEX(Encargado!$Y$9:$Y$128,$F55)&CHAR(10)&"Vto. previsto: "&TEXT(INDEX(Encargado!$Q$9:$Q$128,$F55),"dd/mm/yy")) | F55: =IFERROR(MATCH(48,Encargado!$V$9:$V$128,0),0) -> 0
A56: =IF($F56=0,"",INDEX(Encargado!$AL$9:$AL$128,$F56)) | B56: =IF($F56=0,"",INDEX(Encargado!$A$9:$A$128,$F56)&IF(INDEX(Encargado!$L$9:$L$128,$F56)="Adelanto"," · Adelanto para stock","")&IF(AND(ISNUMBER(INDEX(Encargado!$D$9:$D$128,$F56)),ISNUMBER(INDEX(Encargado!$E$9:$E$128,$F56))),CHAR(10)&TEXT(INDEX(Encargado!$D$9:$D$128,$F56),"dd/mm")&" al "&TEXT(INDEX(Encargado!$E$9:$E$128,$F56),"dd/mm"),"")) | C56: =IF($F56=0,"",ROUND(INDEX(Encargado!$J$9:$J$128,$F56),3)&" "&INDEX(Encargado!$F$9:$F$128,$F56)) | D56: =IF($F56=0,"",IF(INDEX(Encargado!$L$9:$L$128,$F56)="Adelanto","Prev. "&TEXT(INDEX(Encargado!$C$9:$C$128,$F56),"dd/mm"),INDEX(Encargado!$C$9:$C$128,$F56))) | E56: =IF($F56=0,"",INDEX(Encargado!$Y$9:$Y$128,$F56)&CHAR(10)&"Vto. previsto: "&TEXT(INDEX(Encargado!$Q$9:$Q$128,$F56),"dd/mm/yy")) | F56: =IFERROR(MATCH(49,Encargado!$V$9:$V$128,0),0) -> 0
A57: =IF($F57=0,"",INDEX(Encargado!$AL$9:$AL$128,$F57)) | B57: =IF($F57=0,"",INDEX(Encargado!$A$9:$A$128,$F57)&IF(INDEX(Encargado!$L$9:$L$128,$F57)="Adelanto"," · Adelanto para stock","")&IF(AND(ISNUMBER(INDEX(Encargado!$D$9:$D$128,$F57)),ISNUMBER(INDEX(Encargado!$E$9:$E$128,$F57))),CHAR(10)&TEXT(INDEX(Encargado!$D$9:$D$128,$F57),"dd/mm")&" al "&TEXT(INDEX(Encargado!$E$9:$E$128,$F57),"dd/mm"),"")) | C57: =IF($F57=0,"",ROUND(INDEX(Encargado!$J$9:$J$128,$F57),3)&" "&INDEX(Encargado!$F$9:$F$128,$F57)) | D57: =IF($F57=0,"",IF(INDEX(Encargado!$L$9:$L$128,$F57)="Adelanto","Prev. "&TEXT(INDEX(Encargado!$C$9:$C$128,$F57),"dd/mm"),INDEX(Encargado!$C$9:$C$128,$F57))) | E57: =IF($F57=0,"",INDEX(Encargado!$Y$9:$Y$128,$F57)&CHAR(10)&"Vto. previsto: "&TEXT(INDEX(Encargado!$Q$9:$Q$128,$F57),"dd/mm/yy")) | F57: =IFERROR(MATCH(50,Encargado!$V$9:$V$128,0),0) -> 0
A58: =IF($F58=0,"",INDEX(Encargado!$AL$9:$AL$128,$F58)) | B58: =IF($F58=0,"",INDEX(Encargado!$A$9:$A$128,$F58)&IF(INDEX(Encargado!$L$9:$L$128,$F58)="Adelanto"," · Adelanto para stock","")&IF(AND(ISNUMBER(INDEX(Encargado!$D$9:$D$128,$F58)),ISNUMBER(INDEX(Encargado!$E$9:$E$128,$F58))),CHAR(10)&TEXT(INDEX(Encargado!$D$9:$D$128,$F58),"dd/mm")&" al "&TEXT(INDEX(Encargado!$E$9:$E$128,$F58),"dd/mm"),"")) | C58: =IF($F58=0,"",ROUND(INDEX(Encargado!$J$9:$J$128,$F58),3)&" "&INDEX(Encargado!$F$9:$F$128,$F58)) | D58: =IF($F58=0,"",IF(INDEX(Encargado!$L$9:$L$128,$F58)="Adelanto","Prev. "&TEXT(INDEX(Encargado!$C$9:$C$128,$F58),"dd/mm"),INDEX(Encargado!$C$9:$C$128,$F58))) | E58: =IF($F58=0,"",INDEX(Encargado!$Y$9:$Y$128,$F58)&CHAR(10)&"Vto. previsto: "&TEXT(INDEX(Encargado!$Q$9:$Q$128,$F58),"dd/mm/yy")) | F58: =IFERROR(MATCH(51,Encargado!$V$9:$V$128,0),0) -> 0
A59: =IF($F59=0,"",INDEX(Encargado!$AL$9:$AL$128,$F59)) | B59: =IF($F59=0,"",INDEX(Encargado!$A$9:$A$128,$F59)&IF(INDEX(Encargado!$L$9:$L$128,$F59)="Adelanto"," · Adelanto para stock","")&IF(AND(ISNUMBER(INDEX(Encargado!$D$9:$D$128,$F59)),ISNUMBER(INDEX(Encargado!$E$9:$E$128,$F59))),CHAR(10)&TEXT(INDEX(Encargado!$D$9:$D$128,$F59),"dd/mm")&" al "&TEXT(INDEX(Encargado!$E$9:$E$128,$F59),"dd/mm"),"")) | C59: =IF($F59=0,"",ROUND(INDEX(Encargado!$J$9:$J$128,$F59),3)&" "&INDEX(Encargado!$F$9:$F$128,$F59)) | D59: =IF($F59=0,"",IF(INDEX(Encargado!$L$9:$L$128,$F59)="Adelanto","Prev. "&TEXT(INDEX(Encargado!$C$9:$C$128,$F59),"dd/mm"),INDEX(Encargado!$C$9:$C$128,$F59))) | E59: =IF($F59=0,"",INDEX(Encargado!$Y$9:$Y$128,$F59)&CHAR(10)&"Vto. previsto: "&TEXT(INDEX(Encargado!$Q$9:$Q$128,$F59),"dd/mm/yy")) | F59: =IFERROR(MATCH(52,Encargado!$V$9:$V$128,0),0) -> 0
A60: =IF($F60=0,"",INDEX(Encargado!$AL$9:$AL$128,$F60)) | B60: =IF($F60=0,"",INDEX(Encargado!$A$9:$A$128,$F60)&IF(INDEX(Encargado!$L$9:$L$128,$F60)="Adelanto"," · Adelanto para stock","")&IF(AND(ISNUMBER(INDEX(Encargado!$D$9:$D$128,$F60)),ISNUMBER(INDEX(Encargado!$E$9:$E$128,$F60))),CHAR(10)&TEXT(INDEX(Encargado!$D$9:$D$128,$F60),"dd/mm")&" al "&TEXT(INDEX(Encargado!$E$9:$E$128,$F60),"dd/mm"),"")) | C60: =IF($F60=0,"",ROUND(INDEX(Encargado!$J$9:$J$128,$F60),3)&" "&INDEX(Encargado!$F$9:$F$128,$F60)) | D60: =IF($F60=0,"",IF(INDEX(Encargado!$L$9:$L$128,$F60)="Adelanto","Prev. "&TEXT(INDEX(Encargado!$C$9:$C$128,$F60),"dd/mm"),INDEX(Encargado!$C$9:$C$128,$F60))) | E60: =IF($F60=0,"",INDEX(Encargado!$Y$9:$Y$128,$F60)&CHAR(10)&"Vto. previsto: "&TEXT(INDEX(Encargado!$Q$9:$Q$128,$F60),"dd/mm/yy")) | F60: =IFERROR(MATCH(53,Encargado!$V$9:$V$128,0),0) -> 0
A61: =IF($F61=0,"",INDEX(Encargado!$AL$9:$AL$128,$F61)) | B61: =IF($F61=0,"",INDEX(Encargado!$A$9:$A$128,$F61)&IF(INDEX(Encargado!$L$9:$L$128,$F61)="Adelanto"," · Adelanto para stock","")&IF(AND(ISNUMBER(INDEX(Encargado!$D$9:$D$128,$F61)),ISNUMBER(INDEX(Encargado!$E$9:$E$128,$F61))),CHAR(10)&TEXT(INDEX(Encargado!$D$9:$D$128,$F61),"dd/mm")&" al "&TEXT(INDEX(Encargado!$E$9:$E$128,$F61),"dd/mm"),"")) | C61: =IF($F61=0,"",ROUND(INDEX(Encargado!$J$9:$J$128,$F61),3)&" "&INDEX(Encargado!$F$9:$F$128,$F61)) | D61: =IF($F61=0,"",IF(INDEX(Encargado!$L$9:$L$128,$F61)="Adelanto","Prev. "&TEXT(INDEX(Encargado!$C$9:$C$128,$F61),"dd/mm"),INDEX(Encargado!$C$9:$C$128,$F61))) | E61: =IF($F61=0,"",INDEX(Encargado!$Y$9:$Y$128,$F61)&CHAR(10)&"Vto. previsto: "&TEXT(INDEX(Encargado!$Q$9:$Q$128,$F61),"dd/mm/yy")) | F61: =IFERROR(MATCH(54,Encargado!$V$9:$V$128,0),0) -> 0
A62: =IF($F62=0,"",INDEX(Encargado!$AL$9:$AL$128,$F62)) | B62: =IF($F62=0,"",INDEX(Encargado!$A$9:$A$128,$F62)&IF(INDEX(Encargado!$L$9:$L$128,$F62)="Adelanto"," · Adelanto para stock","")&IF(AND(ISNUMBER(INDEX(Encargado!$D$9:$D$128,$F62)),ISNUMBER(INDEX(Encargado!$E$9:$E$128,$F62))),CHAR(10)&TEXT(INDEX(Encargado!$D$9:$D$128,$F62),"dd/mm")&" al "&TEXT(INDEX(Encargado!$E$9:$E$128,$F62),"dd/mm"),"")) | C62: =IF($F62=0,"",ROUND(INDEX(Encargado!$J$9:$J$128,$F62),3)&" "&INDEX(Encargado!$F$9:$F$128,$F62)) | D62: =IF($F62=0,"",IF(INDEX(Encargado!$L$9:$L$128,$F62)="Adelanto","Prev. "&TEXT(INDEX(Encargado!$C$9:$C$128,$F62),"dd/mm"),INDEX(Encargado!$C$9:$C$128,$F62))) | E62: =IF($F62=0,"",INDEX(Encargado!$Y$9:$Y$128,$F62)&CHAR(10)&"Vto. previsto: "&TEXT(INDEX(Encargado!$Q$9:$Q$128,$F62),"dd/mm/yy")) | F62: =IFERROR(MATCH(55,Encargado!$V$9:$V$128,0),0) -> 0
A63: =IF($F63=0,"",INDEX(Encargado!$AL$9:$AL$128,$F63)) | B63: =IF($F63=0,"",INDEX(Encargado!$A$9:$A$128,$F63)&IF(INDEX(Encargado!$L$9:$L$128,$F63)="Adelanto"," · Adelanto para stock","")&IF(AND(ISNUMBER(INDEX(Encargado!$D$9:$D$128,$F63)),ISNUMBER(INDEX(Encargado!$E$9:$E$128,$F63))),CHAR(10)&TEXT(INDEX(Encargado!$D$9:$D$128,$F63),"dd/mm")&" al "&TEXT(INDEX(Encargado!$E$9:$E$128,$F63),"dd/mm"),"")) | C63: =IF($F63=0,"",ROUND(INDEX(Encargado!$J$9:$J$128,$F63),3)&" "&INDEX(Encargado!$F$9:$F$128,$F63)) | D63: =IF($F63=0,"",IF(INDEX(Encargado!$L$9:$L$128,$F63)="Adelanto","Prev. "&TEXT(INDEX(Encargado!$C$9:$C$128,$F63),"dd/mm"),INDEX(Encargado!$C$9:$C$128,$F63))) | E63: =IF($F63=0,"",INDEX(Encargado!$Y$9:$Y$128,$F63)&CHAR(10)&"Vto. previsto: "&TEXT(INDEX(Encargado!$Q$9:$Q$128,$F63),"dd/mm/yy")) | F63: =IFERROR(MATCH(56,Encargado!$V$9:$V$128,0),0) -> 0
A64: =IF($F64=0,"",INDEX(Encargado!$AL$9:$AL$128,$F64)) | B64: =IF($F64=0,"",INDEX(Encargado!$A$9:$A$128,$F64)&IF(INDEX(Encargado!$L$9:$L$128,$F64)="Adelanto"," · Adelanto para stock","")&IF(AND(ISNUMBER(INDEX(Encargado!$D$9:$D$128,$F64)),ISNUMBER(INDEX(Encargado!$E$9:$E$128,$F64))),CHAR(10)&TEXT(INDEX(Encargado!$D$9:$D$128,$F64),"dd/mm")&" al "&TEXT(INDEX(Encargado!$E$9:$E$128,$F64),"dd/mm"),"")) | C64: =IF($F64=0,"",ROUND(INDEX(Encargado!$J$9:$J$128,$F64),3)&" "&INDEX(Encargado!$F$9:$F$128,$F64)) | D64: =IF($F64=0,"",IF(INDEX(Encargado!$L$9:$L$128,$F64)="Adelanto","Prev. "&TEXT(INDEX(Encargado!$C$9:$C$128,$F64),"dd/mm"),INDEX(Encargado!$C$9:$C$128,$F64))) | E64: =IF($F64=0,"",INDEX(Encargado!$Y$9:$Y$128,$F64)&CHAR(10)&"Vto. previsto: "&TEXT(INDEX(Encargado!$Q$9:$Q$128,$F64),"dd/mm/yy")) | F64: =IFERROR(MATCH(57,Encargado!$V$9:$V$128,0),0) -> 0
A65: =IF($F65=0,"",INDEX(Encargado!$AL$9:$AL$128,$F65)) | B65: =IF($F65=0,"",INDEX(Encargado!$A$9:$A$128,$F65)&IF(INDEX(Encargado!$L$9:$L$128,$F65)="Adelanto"," · Adelanto para stock","")&IF(AND(ISNUMBER(INDEX(Encargado!$D$9:$D$128,$F65)),ISNUMBER(INDEX(Encargado!$E$9:$E$128,$F65))),CHAR(10)&TEXT(INDEX(Encargado!$D$9:$D$128,$F65),"dd/mm")&" al "&TEXT(INDEX(Encargado!$E$9:$E$128,$F65),"dd/mm"),"")) | C65: =IF($F65=0,"",ROUND(INDEX(Encargado!$J$9:$J$128,$F65),3)&" "&INDEX(Encargado!$F$9:$F$128,$F65)) | D65: =IF($F65=0,"",IF(INDEX(Encargado!$L$9:$L$128,$F65)="Adelanto","Prev. "&TEXT(INDEX(Encargado!$C$9:$C$128,$F65),"dd/mm"),INDEX(Encargado!$C$9:$C$128,$F65))) | E65: =IF($F65=0,"",INDEX(Encargado!$Y$9:$Y$128,$F65)&CHAR(10)&"Vto. previsto: "&TEXT(INDEX(Encargado!$Q$9:$Q$128,$F65),"dd/mm/yy")) | F65: =IFERROR(MATCH(58,Encargado!$V$9:$V$128,0),0) -> 0
A66: =IF($F66=0,"",INDEX(Encargado!$AL$9:$AL$128,$F66)) | B66: =IF($F66=0,"",INDEX(Encargado!$A$9:$A$128,$F66)&IF(INDEX(Encargado!$L$9:$L$128,$F66)="Adelanto"," · Adelanto para stock","")&IF(AND(ISNUMBER(INDEX(Encargado!$D$9:$D$128,$F66)),ISNUMBER(INDEX(Encargado!$E$9:$E$128,$F66))),CHAR(10)&TEXT(INDEX(Encargado!$D$9:$D$128,$F66),"dd/mm")&" al "&TEXT(INDEX(Encargado!$E$9:$E$128,$F66),"dd/mm"),"")) | C66: =IF($F66=0,"",ROUND(INDEX(Encargado!$J$9:$J$128,$F66),3)&" "&INDEX(Encargado!$F$9:$F$128,$F66)) | D66: =IF($F66=0,"",IF(INDEX(Encargado!$L$9:$L$128,$F66)="Adelanto","Prev. "&TEXT(INDEX(Encargado!$C$9:$C$128,$F66),"dd/mm"),INDEX(Encargado!$C$9:$C$128,$F66))) | E66: =IF($F66=0,"",INDEX(Encargado!$Y$9:$Y$128,$F66)&CHAR(10)&"Vto. previsto: "&TEXT(INDEX(Encargado!$Q$9:$Q$128,$F66),"dd/mm/yy")) | F66: =IFERROR(MATCH(59,Encargado!$V$9:$V$128,0),0) -> 0
A67: =IF($F67=0,"",INDEX(Encargado!$AL$9:$AL$128,$F67)) | B67: =IF($F67=0,"",INDEX(Encargado!$A$9:$A$128,$F67)&IF(INDEX(Encargado!$L$9:$L$128,$F67)="Adelanto"," · Adelanto para stock","")&IF(AND(ISNUMBER(INDEX(Encargado!$D$9:$D$128,$F67)),ISNUMBER(INDEX(Encargado!$E$9:$E$128,$F67))),CHAR(10)&TEXT(INDEX(Encargado!$D$9:$D$128,$F67),"dd/mm")&" al "&TEXT(INDEX(Encargado!$E$9:$E$128,$F67),"dd/mm"),"")) | C67: =IF($F67=0,"",ROUND(INDEX(Encargado!$J$9:$J$128,$F67),3)&" "&INDEX(Encargado!$F$9:$F$128,$F67)) | D67: =IF($F67=0,"",IF(INDEX(Encargado!$L$9:$L$128,$F67)="Adelanto","Prev. "&TEXT(INDEX(Encargado!$C$9:$C$128,$F67),"dd/mm"),INDEX(Encargado!$C$9:$C$128,$F67))) | E67: =IF($F67=0,"",INDEX(Encargado!$Y$9:$Y$128,$F67)&CHAR(10)&"Vto. previsto: "&TEXT(INDEX(Encargado!$Q$9:$Q$128,$F67),"dd/mm/yy")) | F67: =IFERROR(MATCH(60,Encargado!$V$9:$V$128,0),0) -> 0
A68: =IF($F68=0,"",INDEX(Encargado!$AL$9:$AL$128,$F68)) | B68: =IF($F68=0,"",INDEX(Encargado!$A$9:$A$128,$F68)&IF(INDEX(Encargado!$L$9:$L$128,$F68)="Adelanto"," · Adelanto para stock","")&IF(AND(ISNUMBER(INDEX(Encargado!$D$9:$D$128,$F68)),ISNUMBER(INDEX(Encargado!$E$9:$E$128,$F68))),CHAR(10)&TEXT(INDEX(Encargado!$D$9:$D$128,$F68),"dd/mm")&" al "&TEXT(INDEX(Encargado!$E$9:$E$128,$F68),"dd/mm"),"")) | C68: =IF($F68=0,"",ROUND(INDEX(Encargado!$J$9:$J$128,$F68),3)&" "&INDEX(Encargado!$F$9:$F$128,$F68)) | D68: =IF($F68=0,"",IF(INDEX(Encargado!$L$9:$L$128,$F68)="Adelanto","Prev. "&TEXT(INDEX(Encargado!$C$9:$C$128,$F68),"dd/mm"),INDEX(Encargado!$C$9:$C$128,$F68))) | E68: =IF($F68=0,"",INDEX(Encargado!$Y$9:$Y$128,$F68)&CHAR(10)&"Vto. previsto: "&TEXT(INDEX(Encargado!$Q$9:$Q$128,$F68),"dd/mm/yy")) | F68: =IFERROR(MATCH(61,Encargado!$V$9:$V$128,0),0) -> 0
A69: =IF($F69=0,"",INDEX(Encargado!$AL$9:$AL$128,$F69)) | B69: =IF($F69=0,"",INDEX(Encargado!$A$9:$A$128,$F69)&IF(INDEX(Encargado!$L$9:$L$128,$F69)="Adelanto"," · Adelanto para stock","")&IF(AND(ISNUMBER(INDEX(Encargado!$D$9:$D$128,$F69)),ISNUMBER(INDEX(Encargado!$E$9:$E$128,$F69))),CHAR(10)&TEXT(INDEX(Encargado!$D$9:$D$128,$F69),"dd/mm")&" al "&TEXT(INDEX(Encargado!$E$9:$E$128,$F69),"dd/mm"),"")) | C69: =IF($F69=0,"",ROUND(INDEX(Encargado!$J$9:$J$128,$F69),3)&" "&INDEX(Encargado!$F$9:$F$128,$F69)) | D69: =IF($F69=0,"",IF(INDEX(Encargado!$L$9:$L$128,$F69)="Adelanto","Prev. "&TEXT(INDEX(Encargado!$C$9:$C$128,$F69),"dd/mm"),INDEX(Encargado!$C$9:$C$128,$F69))) | E69: =IF($F69=0,"",INDEX(Encargado!$Y$9:$Y$128,$F69)&CHAR(10)&"Vto. previsto: "&TEXT(INDEX(Encargado!$Q$9:$Q$128,$F69),"dd/mm/yy")) | F69: =IFERROR(MATCH(62,Encargado!$V$9:$V$128,0),0) -> 0
A70: =IF($F70=0,"",INDEX(Encargado!$AL$9:$AL$128,$F70)) | B70: =IF($F70=0,"",INDEX(Encargado!$A$9:$A$128,$F70)&IF(INDEX(Encargado!$L$9:$L$128,$F70)="Adelanto"," · Adelanto para stock","")&IF(AND(ISNUMBER(INDEX(Encargado!$D$9:$D$128,$F70)),ISNUMBER(INDEX(Encargado!$E$9:$E$128,$F70))),CHAR(10)&TEXT(INDEX(Encargado!$D$9:$D$128,$F70),"dd/mm")&" al "&TEXT(INDEX(Encargado!$E$9:$E$128,$F70),"dd/mm"),"")) | C70: =IF($F70=0,"",ROUND(INDEX(Encargado!$J$9:$J$128,$F70),3)&" "&INDEX(Encargado!$F$9:$F$128,$F70)) | D70: =IF($F70=0,"",IF(INDEX(Encargado!$L$9:$L$128,$F70)="Adelanto","Prev. "&TEXT(INDEX(Encargado!$C$9:$C$128,$F70),"dd/mm"),INDEX(Encargado!$C$9:$C$128,$F70))) | E70: =IF($F70=0,"",INDEX(Encargado!$Y$9:$Y$128,$F70)&CHAR(10)&"Vto. previsto: "&TEXT(INDEX(Encargado!$Q$9:$Q$128,$F70),"dd/mm/yy")) | F70: =IFERROR(MATCH(63,Encargado!$V$9:$V$128,0),0) -> 0
A71: =IF($F71=0,"",INDEX(Encargado!$AL$9:$AL$128,$F71)) | B71: =IF($F71=0,"",INDEX(Encargado!$A$9:$A$128,$F71)&IF(INDEX(Encargado!$L$9:$L$128,$F71)="Adelanto"," · Adelanto para stock","")&IF(AND(ISNUMBER(INDEX(Encargado!$D$9:$D$128,$F71)),ISNUMBER(INDEX(Encargado!$E$9:$E$128,$F71))),CHAR(10)&TEXT(INDEX(Encargado!$D$9:$D$128,$F71),"dd/mm")&" al "&TEXT(INDEX(Encargado!$E$9:$E$128,$F71),"dd/mm"),"")) | C71: =IF($F71=0,"",ROUND(INDEX(Encargado!$J$9:$J$128,$F71),3)&" "&INDEX(Encargado!$F$9:$F$128,$F71)) | D71: =IF($F71=0,"",IF(INDEX(Encargado!$L$9:$L$128,$F71)="Adelanto","Prev. "&TEXT(INDEX(Encargado!$C$9:$C$128,$F71),"dd/mm"),INDEX(Encargado!$C$9:$C$128,$F71))) | E71: =IF($F71=0,"",INDEX(Encargado!$Y$9:$Y$128,$F71)&CHAR(10)&"Vto. previsto: "&TEXT(INDEX(Encargado!$Q$9:$Q$128,$F71),"dd/mm/yy")) | F71: =IFERROR(MATCH(64,Encargado!$V$9:$V$128,0),0) -> 0
A72: =IF($F72=0,"",INDEX(Encargado!$AL$9:$AL$128,$F72)) | B72: =IF($F72=0,"",INDEX(Encargado!$A$9:$A$128,$F72)&IF(INDEX(Encargado!$L$9:$L$128,$F72)="Adelanto"," · Adelanto para stock","")&IF(AND(ISNUMBER(INDEX(Encargado!$D$9:$D$128,$F72)),ISNUMBER(INDEX(Encargado!$E$9:$E$128,$F72))),CHAR(10)&TEXT(INDEX(Encargado!$D$9:$D$128,$F72),"dd/mm")&" al "&TEXT(INDEX(Encargado!$E$9:$E$128,$F72),"dd/mm"),"")) | C72: =IF($F72=0,"",ROUND(INDEX(Encargado!$J$9:$J$128,$F72),3)&" "&INDEX(Encargado!$F$9:$F$128,$F72)) | D72: =IF($F72=0,"",IF(INDEX(Encargado!$L$9:$L$128,$F72)="Adelanto","Prev. "&TEXT(INDEX(Encargado!$C$9:$C$128,$F72),"dd/mm"),INDEX(Encargado!$C$9:$C$128,$F72))) | E72: =IF($F72=0,"",INDEX(Encargado!$Y$9:$Y$128,$F72)&CHAR(10)&"Vto. previsto: "&TEXT(INDEX(Encargado!$Q$9:$Q$128,$F72),"dd/mm/yy")) | F72: =IFERROR(MATCH(65,Encargado!$V$9:$V$128,0),0) -> 0
A73: =IF($F73=0,"",INDEX(Encargado!$AL$9:$AL$128,$F73)) | B73: =IF($F73=0,"",INDEX(Encargado!$A$9:$A$128,$F73)&IF(INDEX(Encargado!$L$9:$L$128,$F73)="Adelanto"," · Adelanto para stock","")&IF(AND(ISNUMBER(INDEX(Encargado!$D$9:$D$128,$F73)),ISNUMBER(INDEX(Encargado!$E$9:$E$128,$F73))),CHAR(10)&TEXT(INDEX(Encargado!$D$9:$D$128,$F73),"dd/mm")&" al "&TEXT(INDEX(Encargado!$E$9:$E$128,$F73),"dd/mm"),"")) | C73: =IF($F73=0,"",ROUND(INDEX(Encargado!$J$9:$J$128,$F73),3)&" "&INDEX(Encargado!$F$9:$F$128,$F73)) | D73: =IF($F73=0,"",IF(INDEX(Encargado!$L$9:$L$128,$F73)="Adelanto","Prev. "&TEXT(INDEX(Encargado!$C$9:$C$128,$F73),"dd/mm"),INDEX(Encargado!$C$9:$C$128,$F73))) | E73: =IF($F73=0,"",INDEX(Encargado!$Y$9:$Y$128,$F73)&CHAR(10)&"Vto. previsto: "&TEXT(INDEX(Encargado!$Q$9:$Q$128,$F73),"dd/mm/yy")) | F73: =IFERROR(MATCH(66,Encargado!$V$9:$V$128,0),0) -> 0
A74: =IF($F74=0,"",INDEX(Encargado!$AL$9:$AL$128,$F74)) | B74: =IF($F74=0,"",INDEX(Encargado!$A$9:$A$128,$F74)&IF(INDEX(Encargado!$L$9:$L$128,$F74)="Adelanto"," · Adelanto para stock","")&IF(AND(ISNUMBER(INDEX(Encargado!$D$9:$D$128,$F74)),ISNUMBER(INDEX(Encargado!$E$9:$E$128,$F74))),CHAR(10)&TEXT(INDEX(Encargado!$D$9:$D$128,$F74),"dd/mm")&" al "&TEXT(INDEX(Encargado!$E$9:$E$128,$F74),"dd/mm"),"")) | C74: =IF($F74=0,"",ROUND(INDEX(Encargado!$J$9:$J$128,$F74),3)&" "&INDEX(Encargado!$F$9:$F$128,$F74)) | D74: =IF($F74=0,"",IF(INDEX(Encargado!$L$9:$L$128,$F74)="Adelanto","Prev. "&TEXT(INDEX(Encargado!$C$9:$C$128,$F74),"dd/mm"),INDEX(Encargado!$C$9:$C$128,$F74))) | E74: =IF($F74=0,"",INDEX(Encargado!$Y$9:$Y$128,$F74)&CHAR(10)&"Vto. previsto: "&TEXT(INDEX(Encargado!$Q$9:$Q$128,$F74),"dd/mm/yy")) | F74: =IFERROR(MATCH(67,Encargado!$V$9:$V$128,0),0) -> 0
A75: =IF($F75=0,"",INDEX(Encargado!$AL$9:$AL$128,$F75)) | B75: =IF($F75=0,"",INDEX(Encargado!$A$9:$A$128,$F75)&IF(INDEX(Encargado!$L$9:$L$128,$F75)="Adelanto"," · Adelanto para stock","")&IF(AND(ISNUMBER(INDEX(Encargado!$D$9:$D$128,$F75)),ISNUMBER(INDEX(Encargado!$E$9:$E$128,$F75))),CHAR(10)&TEXT(INDEX(Encargado!$D$9:$D$128,$F75),"dd/mm")&" al "&TEXT(INDEX(Encargado!$E$9:$E$128,$F75),"dd/mm"),"")) | C75: =IF($F75=0,"",ROUND(INDEX(Encargado!$J$9:$J$128,$F75),3)&" "&INDEX(Encargado!$F$9:$F$128,$F75)) | D75: =IF($F75=0,"",IF(INDEX(Encargado!$L$9:$L$128,$F75)="Adelanto","Prev. "&TEXT(INDEX(Encargado!$C$9:$C$128,$F75),"dd/mm"),INDEX(Encargado!$C$9:$C$128,$F75))) | E75: =IF($F75=0,"",INDEX(Encargado!$Y$9:$Y$128,$F75)&CHAR(10)&"Vto. previsto: "&TEXT(INDEX(Encargado!$Q$9:$Q$128,$F75),"dd/mm/yy")) | F75: =IFERROR(MATCH(68,Encargado!$V$9:$V$128,0),0) -> 0
A76: =IF($F76=0,"",INDEX(Encargado!$AL$9:$AL$128,$F76)) | B76: =IF($F76=0,"",INDEX(Encargado!$A$9:$A$128,$F76)&IF(INDEX(Encargado!$L$9:$L$128,$F76)="Adelanto"," · Adelanto para stock","")&IF(AND(ISNUMBER(INDEX(Encargado!$D$9:$D$128,$F76)),ISNUMBER(INDEX(Encargado!$E$9:$E$128,$F76))),CHAR(10)&TEXT(INDEX(Encargado!$D$9:$D$128,$F76),"dd/mm")&" al "&TEXT(INDEX(Encargado!$E$9:$E$128,$F76),"dd/mm"),"")) | C76: =IF($F76=0,"",ROUND(INDEX(Encargado!$J$9:$J$128,$F76),3)&" "&INDEX(Encargado!$F$9:$F$128,$F76)) | D76: =IF($F76=0,"",IF(INDEX(Encargado!$L$9:$L$128,$F76)="Adelanto","Prev. "&TEXT(INDEX(Encargado!$C$9:$C$128,$F76),"dd/mm"),INDEX(Encargado!$C$9:$C$128,$F76))) | E76: =IF($F76=0,"",INDEX(Encargado!$Y$9:$Y$128,$F76)&CHAR(10)&"Vto. previsto: "&TEXT(INDEX(Encargado!$Q$9:$Q$128,$F76),"dd/mm/yy")) | F76: =IFERROR(MATCH(69,Encargado!$V$9:$V$128,0),0) -> 0
A77: =IF($F77=0,"",INDEX(Encargado!$AL$9:$AL$128,$F77)) | B77: =IF($F77=0,"",INDEX(Encargado!$A$9:$A$128,$F77)&IF(INDEX(Encargado!$L$9:$L$128,$F77)="Adelanto"," · Adelanto para stock","")&IF(AND(ISNUMBER(INDEX(Encargado!$D$9:$D$128,$F77)),ISNUMBER(INDEX(Encargado!$E$9:$E$128,$F77))),CHAR(10)&TEXT(INDEX(Encargado!$D$9:$D$128,$F77),"dd/mm")&" al "&TEXT(INDEX(Encargado!$E$9:$E$128,$F77),"dd/mm"),"")) | C77: =IF($F77=0,"",ROUND(INDEX(Encargado!$J$9:$J$128,$F77),3)&" "&INDEX(Encargado!$F$9:$F$128,$F77)) | D77: =IF($F77=0,"",IF(INDEX(Encargado!$L$9:$L$128,$F77)="Adelanto","Prev. "&TEXT(INDEX(Encargado!$C$9:$C$128,$F77),"dd/mm"),INDEX(Encargado!$C$9:$C$128,$F77))) | E77: =IF($F77=0,"",INDEX(Encargado!$Y$9:$Y$128,$F77)&CHAR(10)&"Vto. previsto: "&TEXT(INDEX(Encargado!$Q$9:$Q$128,$F77),"dd/mm/yy")) | F77: =IFERROR(MATCH(70,Encargado!$V$9:$V$128,0),0) -> 0
A78: =IF($F78=0,"",INDEX(Encargado!$AL$9:$AL$128,$F78)) | B78: =IF($F78=0,"",INDEX(Encargado!$A$9:$A$128,$F78)&IF(INDEX(Encargado!$L$9:$L$128,$F78)="Adelanto"," · Adelanto para stock","")&IF(AND(ISNUMBER(INDEX(Encargado!$D$9:$D$128,$F78)),ISNUMBER(INDEX(Encargado!$E$9:$E$128,$F78))),CHAR(10)&TEXT(INDEX(Encargado!$D$9:$D$128,$F78),"dd/mm")&" al "&TEXT(INDEX(Encargado!$E$9:$E$128,$F78),"dd/mm"),"")) | C78: =IF($F78=0,"",ROUND(INDEX(Encargado!$J$9:$J$128,$F78),3)&" "&INDEX(Encargado!$F$9:$F$128,$F78)) | D78: =IF($F78=0,"",IF(INDEX(Encargado!$L$9:$L$128,$F78)="Adelanto","Prev. "&TEXT(INDEX(Encargado!$C$9:$C$128,$F78),"dd/mm"),INDEX(Encargado!$C$9:$C$128,$F78))) | E78: =IF($F78=0,"",INDEX(Encargado!$Y$9:$Y$128,$F78)&CHAR(10)&"Vto. previsto: "&TEXT(INDEX(Encargado!$Q$9:$Q$128,$F78),"dd/mm/yy")) | F78: =IFERROR(MATCH(71,Encargado!$V$9:$V$128,0),0) -> 0
A79: =IF($F79=0,"",INDEX(Encargado!$AL$9:$AL$128,$F79)) | B79: =IF($F79=0,"",INDEX(Encargado!$A$9:$A$128,$F79)&IF(INDEX(Encargado!$L$9:$L$128,$F79)="Adelanto"," · Adelanto para stock","")&IF(AND(ISNUMBER(INDEX(Encargado!$D$9:$D$128,$F79)),ISNUMBER(INDEX(Encargado!$E$9:$E$128,$F79))),CHAR(10)&TEXT(INDEX(Encargado!$D$9:$D$128,$F79),"dd/mm")&" al "&TEXT(INDEX(Encargado!$E$9:$E$128,$F79),"dd/mm"),"")) | C79: =IF($F79=0,"",ROUND(INDEX(Encargado!$J$9:$J$128,$F79),3)&" "&INDEX(Encargado!$F$9:$F$128,$F79)) | D79: =IF($F79=0,"",IF(INDEX(Encargado!$L$9:$L$128,$F79)="Adelanto","Prev. "&TEXT(INDEX(Encargado!$C$9:$C$128,$F79),"dd/mm"),INDEX(Encargado!$C$9:$C$128,$F79))) | E79: =IF($F79=0,"",INDEX(Encargado!$Y$9:$Y$128,$F79)&CHAR(10)&"Vto. previsto: "&TEXT(INDEX(Encargado!$Q$9:$Q$128,$F79),"dd/mm/yy")) | F79: =IFERROR(MATCH(72,Encargado!$V$9:$V$128,0),0) -> 0
A80: =IF($F80=0,"",INDEX(Encargado!$AL$9:$AL$128,$F80)) | B80: =IF($F80=0,"",INDEX(Encargado!$A$9:$A$128,$F80)&IF(INDEX(Encargado!$L$9:$L$128,$F80)="Adelanto"," · Adelanto para stock","")&IF(AND(ISNUMBER(INDEX(Encargado!$D$9:$D$128,$F80)),ISNUMBER(INDEX(Encargado!$E$9:$E$128,$F80))),CHAR(10)&TEXT(INDEX(Encargado!$D$9:$D$128,$F80),"dd/mm")&" al "&TEXT(INDEX(Encargado!$E$9:$E$128,$F80),"dd/mm"),"")) | C80: =IF($F80=0,"",ROUND(INDEX(Encargado!$J$9:$J$128,$F80),3)&" "&INDEX(Encargado!$F$9:$F$128,$F80)) | D80: =IF($F80=0,"",IF(INDEX(Encargado!$L$9:$L$128,$F80)="Adelanto","Prev. "&TEXT(INDEX(Encargado!$C$9:$C$128,$F80),"dd/mm"),INDEX(Encargado!$C$9:$C$128,$F80))) | E80: =IF($F80=0,"",INDEX(Encargado!$Y$9:$Y$128,$F80)&CHAR(10)&"Vto. previsto: "&TEXT(INDEX(Encargado!$Q$9:$Q$128,$F80),"dd/mm/yy")) | F80: =IFERROR(MATCH(73,Encargado!$V$9:$V$128,0),0) -> 0
A81: =IF($F81=0,"",INDEX(Encargado!$AL$9:$AL$128,$F81)) | B81: =IF($F81=0,"",INDEX(Encargado!$A$9:$A$128,$F81)&IF(INDEX(Encargado!$L$9:$L$128,$F81)="Adelanto"," · Adelanto para stock","")&IF(AND(ISNUMBER(INDEX(Encargado!$D$9:$D$128,$F81)),ISNUMBER(INDEX(Encargado!$E$9:$E$128,$F81))),CHAR(10)&TEXT(INDEX(Encargado!$D$9:$D$128,$F81),"dd/mm")&" al "&TEXT(INDEX(Encargado!$E$9:$E$128,$F81),"dd/mm"),"")) | C81: =IF($F81=0,"",ROUND(INDEX(Encargado!$J$9:$J$128,$F81),3)&" "&INDEX(Encargado!$F$9:$F$128,$F81)) | D81: =IF($F81=0,"",IF(INDEX(Encargado!$L$9:$L$128,$F81)="Adelanto","Prev. "&TEXT(INDEX(Encargado!$C$9:$C$128,$F81),"dd/mm"),INDEX(Encargado!$C$9:$C$128,$F81))) | E81: =IF($F81=0,"",INDEX(Encargado!$Y$9:$Y$128,$F81)&CHAR(10)&"Vto. previsto: "&TEXT(INDEX(Encargado!$Q$9:$Q$128,$F81),"dd/mm/yy")) | F81: =IFERROR(MATCH(74,Encargado!$V$9:$V$128,0),0) -> 0
A82: =IF($F82=0,"",INDEX(Encargado!$AL$9:$AL$128,$F82)) | B82: =IF($F82=0,"",INDEX(Encargado!$A$9:$A$128,$F82)&IF(INDEX(Encargado!$L$9:$L$128,$F82)="Adelanto"," · Adelanto para stock","")&IF(AND(ISNUMBER(INDEX(Encargado!$D$9:$D$128,$F82)),ISNUMBER(INDEX(Encargado!$E$9:$E$128,$F82))),CHAR(10)&TEXT(INDEX(Encargado!$D$9:$D$128,$F82),"dd/mm")&" al "&TEXT(INDEX(Encargado!$E$9:$E$128,$F82),"dd/mm"),"")) | C82: =IF($F82=0,"",ROUND(INDEX(Encargado!$J$9:$J$128,$F82),3)&" "&INDEX(Encargado!$F$9:$F$128,$F82)) | D82: =IF($F82=0,"",IF(INDEX(Encargado!$L$9:$L$128,$F82)="Adelanto","Prev. "&TEXT(INDEX(Encargado!$C$9:$C$128,$F82),"dd/mm"),INDEX(Encargado!$C$9:$C$128,$F82))) | E82: =IF($F82=0,"",INDEX(Encargado!$Y$9:$Y$128,$F82)&CHAR(10)&"Vto. previsto: "&TEXT(INDEX(Encargado!$Q$9:$Q$128,$F82),"dd/mm/yy")) | F82: =IFERROR(MATCH(75,Encargado!$V$9:$V$128,0),0) -> 0
A83: =IF($F83=0,"",INDEX(Encargado!$AL$9:$AL$128,$F83)) | B83: =IF($F83=0,"",INDEX(Encargado!$A$9:$A$128,$F83)&IF(INDEX(Encargado!$L$9:$L$128,$F83)="Adelanto"," · Adelanto para stock","")&IF(AND(ISNUMBER(INDEX(Encargado!$D$9:$D$128,$F83)),ISNUMBER(INDEX(Encargado!$E$9:$E$128,$F83))),CHAR(10)&TEXT(INDEX(Encargado!$D$9:$D$128,$F83),"dd/mm")&" al "&TEXT(INDEX(Encargado!$E$9:$E$128,$F83),"dd/mm"),"")) | C83: =IF($F83=0,"",ROUND(INDEX(Encargado!$J$9:$J$128,$F83),3)&" "&INDEX(Encargado!$F$9:$F$128,$F83)) | D83: =IF($F83=0,"",IF(INDEX(Encargado!$L$9:$L$128,$F83)="Adelanto","Prev. "&TEXT(INDEX(Encargado!$C$9:$C$128,$F83),"dd/mm"),INDEX(Encargado!$C$9:$C$128,$F83))) | E83: =IF($F83=0,"",INDEX(Encargado!$Y$9:$Y$128,$F83)&CHAR(10)&"Vto. previsto: "&TEXT(INDEX(Encargado!$Q$9:$Q$128,$F83),"dd/mm/yy")) | F83: =IFERROR(MATCH(76,Encargado!$V$9:$V$128,0),0) -> 0
A84: =IF($F84=0,"",INDEX(Encargado!$AL$9:$AL$128,$F84)) | B84: =IF($F84=0,"",INDEX(Encargado!$A$9:$A$128,$F84)&IF(INDEX(Encargado!$L$9:$L$128,$F84)="Adelanto"," · Adelanto para stock","")&IF(AND(ISNUMBER(INDEX(Encargado!$D$9:$D$128,$F84)),ISNUMBER(INDEX(Encargado!$E$9:$E$128,$F84))),CHAR(10)&TEXT(INDEX(Encargado!$D$9:$D$128,$F84),"dd/mm")&" al "&TEXT(INDEX(Encargado!$E$9:$E$128,$F84),"dd/mm"),"")) | C84: =IF($F84=0,"",ROUND(INDEX(Encargado!$J$9:$J$128,$F84),3)&" "&INDEX(Encargado!$F$9:$F$128,$F84)) | D84: =IF($F84=0,"",IF(INDEX(Encargado!$L$9:$L$128,$F84)="Adelanto","Prev. "&TEXT(INDEX(Encargado!$C$9:$C$128,$F84),"dd/mm"),INDEX(Encargado!$C$9:$C$128,$F84))) | E84: =IF($F84=0,"",INDEX(Encargado!$Y$9:$Y$128,$F84)&CHAR(10)&"Vto. previsto: "&TEXT(INDEX(Encargado!$Q$9:$Q$128,$F84),"dd/mm/yy")) | F84: =IFERROR(MATCH(77,Encargado!$V$9:$V$128,0),0) -> 0
A85: =IF($F85=0,"",INDEX(Encargado!$AL$9:$AL$128,$F85)) | B85: =IF($F85=0,"",INDEX(Encargado!$A$9:$A$128,$F85)&IF(INDEX(Encargado!$L$9:$L$128,$F85)="Adelanto"," · Adelanto para stock","")&IF(AND(ISNUMBER(INDEX(Encargado!$D$9:$D$128,$F85)),ISNUMBER(INDEX(Encargado!$E$9:$E$128,$F85))),CHAR(10)&TEXT(INDEX(Encargado!$D$9:$D$128,$F85),"dd/mm")&" al "&TEXT(INDEX(Encargado!$E$9:$E$128,$F85),"dd/mm"),"")) | C85: =IF($F85=0,"",ROUND(INDEX(Encargado!$J$9:$J$128,$F85),3)&" "&INDEX(Encargado!$F$9:$F$128,$F85)) | D85: =IF($F85=0,"",IF(INDEX(Encargado!$L$9:$L$128,$F85)="Adelanto","Prev. "&TEXT(INDEX(Encargado!$C$9:$C$128,$F85),"dd/mm"),INDEX(Encargado!$C$9:$C$128,$F85))) | E85: =IF($F85=0,"",INDEX(Encargado!$Y$9:$Y$128,$F85)&CHAR(10)&"Vto. previsto: "&TEXT(INDEX(Encargado!$Q$9:$Q$128,$F85),"dd/mm/yy")) | F85: =IFERROR(MATCH(78,Encargado!$V$9:$V$128,0),0) -> 0
A86: =IF($F86=0,"",INDEX(Encargado!$AL$9:$AL$128,$F86)) | B86: =IF($F86=0,"",INDEX(Encargado!$A$9:$A$128,$F86)&IF(INDEX(Encargado!$L$9:$L$128,$F86)="Adelanto"," · Adelanto para stock","")&IF(AND(ISNUMBER(INDEX(Encargado!$D$9:$D$128,$F86)),ISNUMBER(INDEX(Encargado!$E$9:$E$128,$F86))),CHAR(10)&TEXT(INDEX(Encargado!$D$9:$D$128,$F86),"dd/mm")&" al "&TEXT(INDEX(Encargado!$E$9:$E$128,$F86),"dd/mm"),"")) | C86: =IF($F86=0,"",ROUND(INDEX(Encargado!$J$9:$J$128,$F86),3)&" "&INDEX(Encargado!$F$9:$F$128,$F86)) | D86: =IF($F86=0,"",IF(INDEX(Encargado!$L$9:$L$128,$F86)="Adelanto","Prev. "&TEXT(INDEX(Encargado!$C$9:$C$128,$F86),"dd/mm"),INDEX(Encargado!$C$9:$C$128,$F86))) | E86: =IF($F86=0,"",INDEX(Encargado!$Y$9:$Y$128,$F86)&CHAR(10)&"Vto. previsto: "&TEXT(INDEX(Encargado!$Q$9:$Q$128,$F86),"dd/mm/yy")) | F86: =IFERROR(MATCH(79,Encargado!$V$9:$V$128,0),0) -> 0
A87: =IF($F87=0,"",INDEX(Encargado!$AL$9:$AL$128,$F87)) | B87: =IF($F87=0,"",INDEX(Encargado!$A$9:$A$128,$F87)&IF(INDEX(Encargado!$L$9:$L$128,$F87)="Adelanto"," · Adelanto para stock","")&IF(AND(ISNUMBER(INDEX(Encargado!$D$9:$D$128,$F87)),ISNUMBER(INDEX(Encargado!$E$9:$E$128,$F87))),CHAR(10)&TEXT(INDEX(Encargado!$D$9:$D$128,$F87),"dd/mm")&" al "&TEXT(INDEX(Encargado!$E$9:$E$128,$F87),"dd/mm"),"")) | C87: =IF($F87=0,"",ROUND(INDEX(Encargado!$J$9:$J$128,$F87),3)&" "&INDEX(Encargado!$F$9:$F$128,$F87)) | D87: =IF($F87=0,"",IF(INDEX(Encargado!$L$9:$L$128,$F87)="Adelanto","Prev. "&TEXT(INDEX(Encargado!$C$9:$C$128,$F87),"dd/mm"),INDEX(Encargado!$C$9:$C$128,$F87))) | E87: =IF($F87=0,"",INDEX(Encargado!$Y$9:$Y$128,$F87)&CHAR(10)&"Vto. previsto: "&TEXT(INDEX(Encargado!$Q$9:$Q$128,$F87),"dd/mm/yy")) | F87: =IFERROR(MATCH(80,Encargado!$V$9:$V$128,0),0) -> 0
A88: =IF($F88=0,"",INDEX(Encargado!$AL$9:$AL$128,$F88)) | B88: =IF($F88=0,"",INDEX(Encargado!$A$9:$A$128,$F88)&IF(INDEX(Encargado!$L$9:$L$128,$F88)="Adelanto"," · Adelanto para stock","")&IF(AND(ISNUMBER(INDEX(Encargado!$D$9:$D$128,$F88)),ISNUMBER(INDEX(Encargado!$E$9:$E$128,$F88))),CHAR(10)&TEXT(INDEX(Encargado!$D$9:$D$128,$F88),"dd/mm")&" al "&TEXT(INDEX(Encargado!$E$9:$E$128,$F88),"dd/mm"),"")) | C88: =IF($F88=0,"",ROUND(INDEX(Encargado!$J$9:$J$128,$F88),3)&" "&INDEX(Encargado!$F$9:$F$128,$F88)) | D88: =IF($F88=0,"",IF(INDEX(Encargado!$L$9:$L$128,$F88)="Adelanto","Prev. "&TEXT(INDEX(Encargado!$C$9:$C$128,$F88),"dd/mm"),INDEX(Encargado!$C$9:$C$128,$F88))) | E88: =IF($F88=0,"",INDEX(Encargado!$Y$9:$Y$128,$F88)&CHAR(10)&"Vto. previsto: "&TEXT(INDEX(Encargado!$Q$9:$Q$128,$F88),"dd/mm/yy")) | F88: =IFERROR(MATCH(81,Encargado!$V$9:$V$128,0),0) -> 0
A89: =IF($F89=0,"",INDEX(Encargado!$AL$9:$AL$128,$F89)) | B89: =IF($F89=0,"",INDEX(Encargado!$A$9:$A$128,$F89)&IF(INDEX(Encargado!$L$9:$L$128,$F89)="Adelanto"," · Adelanto para stock","")&IF(AND(ISNUMBER(INDEX(Encargado!$D$9:$D$128,$F89)),ISNUMBER(INDEX(Encargado!$E$9:$E$128,$F89))),CHAR(10)&TEXT(INDEX(Encargado!$D$9:$D$128,$F89),"dd/mm")&" al "&TEXT(INDEX(Encargado!$E$9:$E$128,$F89),"dd/mm"),"")) | C89: =IF($F89=0,"",ROUND(INDEX(Encargado!$J$9:$J$128,$F89),3)&" "&INDEX(Encargado!$F$9:$F$128,$F89)) | D89: =IF($F89=0,"",IF(INDEX(Encargado!$L$9:$L$128,$F89)="Adelanto","Prev. "&TEXT(INDEX(Encargado!$C$9:$C$128,$F89),"dd/mm"),INDEX(Encargado!$C$9:$C$128,$F89))) | E89: =IF($F89=0,"",INDEX(Encargado!$Y$9:$Y$128,$F89)&CHAR(10)&"Vto. previsto: "&TEXT(INDEX(Encargado!$Q$9:$Q$128,$F89),"dd/mm/yy")) | F89: =IFERROR(MATCH(82,Encargado!$V$9:$V$128,0),0) -> 0
A90: =IF($F90=0,"",INDEX(Encargado!$AL$9:$AL$128,$F90)) | B90: =IF($F90=0,"",INDEX(Encargado!$A$9:$A$128,$F90)&IF(INDEX(Encargado!$L$9:$L$128,$F90)="Adelanto"," · Adelanto para stock","")&IF(AND(ISNUMBER(INDEX(Encargado!$D$9:$D$128,$F90)),ISNUMBER(INDEX(Encargado!$E$9:$E$128,$F90))),CHAR(10)&TEXT(INDEX(Encargado!$D$9:$D$128,$F90),"dd/mm")&" al "&TEXT(INDEX(Encargado!$E$9:$E$128,$F90),"dd/mm"),"")) | C90: =IF($F90=0,"",ROUND(INDEX(Encargado!$J$9:$J$128,$F90),3)&" "&INDEX(Encargado!$F$9:$F$128,$F90)) | D90: =IF($F90=0,"",IF(INDEX(Encargado!$L$9:$L$128,$F90)="Adelanto","Prev. "&TEXT(INDEX(Encargado!$C$9:$C$128,$F90),"dd/mm"),INDEX(Encargado!$C$9:$C$128,$F90))) | E90: =IF($F90=0,"",INDEX(Encargado!$Y$9:$Y$128,$F90)&CHAR(10)&"Vto. previsto: "&TEXT(INDEX(Encargado!$Q$9:$Q$128,$F90),"dd/mm/yy")) | F90: =IFERROR(MATCH(83,Encargado!$V$9:$V$128,0),0) -> 0
A91: =IF($F91=0,"",INDEX(Encargado!$AL$9:$AL$128,$F91)) | B91: =IF($F91=0,"",INDEX(Encargado!$A$9:$A$128,$F91)&IF(INDEX(Encargado!$L$9:$L$128,$F91)="Adelanto"," · Adelanto para stock","")&IF(AND(ISNUMBER(INDEX(Encargado!$D$9:$D$128,$F91)),ISNUMBER(INDEX(Encargado!$E$9:$E$128,$F91))),CHAR(10)&TEXT(INDEX(Encargado!$D$9:$D$128,$F91),"dd/mm")&" al "&TEXT(INDEX(Encargado!$E$9:$E$128,$F91),"dd/mm"),"")) | C91: =IF($F91=0,"",ROUND(INDEX(Encargado!$J$9:$J$128,$F91),3)&" "&INDEX(Encargado!$F$9:$F$128,$F91)) | D91: =IF($F91=0,"",IF(INDEX(Encargado!$L$9:$L$128,$F91)="Adelanto","Prev. "&TEXT(INDEX(Encargado!$C$9:$C$128,$F91),"dd/mm"),INDEX(Encargado!$C$9:$C$128,$F91))) | E91: =IF($F91=0,"",INDEX(Encargado!$Y$9:$Y$128,$F91)&CHAR(10)&"Vto. previsto: "&TEXT(INDEX(Encargado!$Q$9:$Q$128,$F91),"dd/mm/yy")) | F91: =IFERROR(MATCH(84,Encargado!$V$9:$V$128,0),0) -> 0
A92: =IF($F92=0,"",INDEX(Encargado!$AL$9:$AL$128,$F92)) | B92: =IF($F92=0,"",INDEX(Encargado!$A$9:$A$128,$F92)&IF(INDEX(Encargado!$L$9:$L$128,$F92)="Adelanto"," · Adelanto para stock","")&IF(AND(ISNUMBER(INDEX(Encargado!$D$9:$D$128,$F92)),ISNUMBER(INDEX(Encargado!$E$9:$E$128,$F92))),CHAR(10)&TEXT(INDEX(Encargado!$D$9:$D$128,$F92),"dd/mm")&" al "&TEXT(INDEX(Encargado!$E$9:$E$128,$F92),"dd/mm"),"")) | C92: =IF($F92=0,"",ROUND(INDEX(Encargado!$J$9:$J$128,$F92),3)&" "&INDEX(Encargado!$F$9:$F$128,$F92)) | D92: =IF($F92=0,"",IF(INDEX(Encargado!$L$9:$L$128,$F92)="Adelanto","Prev. "&TEXT(INDEX(Encargado!$C$9:$C$128,$F92),"dd/mm"),INDEX(Encargado!$C$9:$C$128,$F92))) | E92: =IF($F92=0,"",INDEX(Encargado!$Y$9:$Y$128,$F92)&CHAR(10)&"Vto. previsto: "&TEXT(INDEX(Encargado!$Q$9:$Q$128,$F92),"dd/mm/yy")) | F92: =IFERROR(MATCH(85,Encargado!$V$9:$V$128,0),0) -> 0
A93: =IF($F93=0,"",INDEX(Encargado!$AL$9:$AL$128,$F93)) | B93: =IF($F93=0,"",INDEX(Encargado!$A$9:$A$128,$F93)&IF(INDEX(Encargado!$L$9:$L$128,$F93)="Adelanto"," · Adelanto para stock","")&IF(AND(ISNUMBER(INDEX(Encargado!$D$9:$D$128,$F93)),ISNUMBER(INDEX(Encargado!$E$9:$E$128,$F93))),CHAR(10)&TEXT(INDEX(Encargado!$D$9:$D$128,$F93),"dd/mm")&" al "&TEXT(INDEX(Encargado!$E$9:$E$128,$F93),"dd/mm"),"")) | C93: =IF($F93=0,"",ROUND(INDEX(Encargado!$J$9:$J$128,$F93),3)&" "&INDEX(Encargado!$F$9:$F$128,$F93)) | D93: =IF($F93=0,"",IF(INDEX(Encargado!$L$9:$L$128,$F93)="Adelanto","Prev. "&TEXT(INDEX(Encargado!$C$9:$C$128,$F93),"dd/mm"),INDEX(Encargado!$C$9:$C$128,$F93))) | E93: =IF($F93=0,"",INDEX(Encargado!$Y$9:$Y$128,$F93)&CHAR(10)&"Vto. previsto: "&TEXT(INDEX(Encargado!$Q$9:$Q$128,$F93),"dd/mm/yy")) | F93: =IFERROR(MATCH(86,Encargado!$V$9:$V$128,0),0) -> 0
A94: =IF($F94=0,"",INDEX(Encargado!$AL$9:$AL$128,$F94)) | B94: =IF($F94=0,"",INDEX(Encargado!$A$9:$A$128,$F94)&IF(INDEX(Encargado!$L$9:$L$128,$F94)="Adelanto"," · Adelanto para stock","")&IF(AND(ISNUMBER(INDEX(Encargado!$D$9:$D$128,$F94)),ISNUMBER(INDEX(Encargado!$E$9:$E$128,$F94))),CHAR(10)&TEXT(INDEX(Encargado!$D$9:$D$128,$F94),"dd/mm")&" al "&TEXT(INDEX(Encargado!$E$9:$E$128,$F94),"dd/mm"),"")) | C94: =IF($F94=0,"",ROUND(INDEX(Encargado!$J$9:$J$128,$F94),3)&" "&INDEX(Encargado!$F$9:$F$128,$F94)) | D94: =IF($F94=0,"",IF(INDEX(Encargado!$L$9:$L$128,$F94)="Adelanto","Prev. "&TEXT(INDEX(Encargado!$C$9:$C$128,$F94),"dd/mm"),INDEX(Encargado!$C$9:$C$128,$F94))) | E94: =IF($F94=0,"",INDEX(Encargado!$Y$9:$Y$128,$F94)&CHAR(10)&"Vto. previsto: "&TEXT(INDEX(Encargado!$Q$9:$Q$128,$F94),"dd/mm/yy")) | F94: =IFERROR(MATCH(87,Encargado!$V$9:$V$128,0),0) -> 0
A95: =IF($F95=0,"",INDEX(Encargado!$AL$9:$AL$128,$F95)) | B95: =IF($F95=0,"",INDEX(Encargado!$A$9:$A$128,$F95)&IF(INDEX(Encargado!$L$9:$L$128,$F95)="Adelanto"," · Adelanto para stock","")&IF(AND(ISNUMBER(INDEX(Encargado!$D$9:$D$128,$F95)),ISNUMBER(INDEX(Encargado!$E$9:$E$128,$F95))),CHAR(10)&TEXT(INDEX(Encargado!$D$9:$D$128,$F95),"dd/mm")&" al "&TEXT(INDEX(Encargado!$E$9:$E$128,$F95),"dd/mm"),"")) | C95: =IF($F95=0,"",ROUND(INDEX(Encargado!$J$9:$J$128,$F95),3)&" "&INDEX(Encargado!$F$9:$F$128,$F95)) | D95: =IF($F95=0,"",IF(INDEX(Encargado!$L$9:$L$128,$F95)="Adelanto","Prev. "&TEXT(INDEX(Encargado!$C$9:$C$128,$F95),"dd/mm"),INDEX(Encargado!$C$9:$C$128,$F95))) | E95: =IF($F95=0,"",INDEX(Encargado!$Y$9:$Y$128,$F95)&CHAR(10)&"Vto. previsto: "&TEXT(INDEX(Encargado!$Q$9:$Q$128,$F95),"dd/mm/yy")) | F95: =IFERROR(MATCH(88,Encargado!$V$9:$V$128,0),0) -> 0
A96: =IF($F96=0,"",INDEX(Encargado!$AL$9:$AL$128,$F96)) | B96: =IF($F96=0,"",INDEX(Encargado!$A$9:$A$128,$F96)&IF(INDEX(Encargado!$L$9:$L$128,$F96)="Adelanto"," · Adelanto para stock","")&IF(AND(ISNUMBER(INDEX(Encargado!$D$9:$D$128,$F96)),ISNUMBER(INDEX(Encargado!$E$9:$E$128,$F96))),CHAR(10)&TEXT(INDEX(Encargado!$D$9:$D$128,$F96),"dd/mm")&" al "&TEXT(INDEX(Encargado!$E$9:$E$128,$F96),"dd/mm"),"")) | C96: =IF($F96=0,"",ROUND(INDEX(Encargado!$J$9:$J$128,$F96),3)&" "&INDEX(Encargado!$F$9:$F$128,$F96)) | D96: =IF($F96=0,"",IF(INDEX(Encargado!$L$9:$L$128,$F96)="Adelanto","Prev. "&TEXT(INDEX(Encargado!$C$9:$C$128,$F96),"dd/mm"),INDEX(Encargado!$C$9:$C$128,$F96))) | E96: =IF($F96=0,"",INDEX(Encargado!$Y$9:$Y$128,$F96)&CHAR(10)&"Vto. previsto: "&TEXT(INDEX(Encargado!$Q$9:$Q$128,$F96),"dd/mm/yy")) | F96: =IFERROR(MATCH(89,Encargado!$V$9:$V$128,0),0) -> 0
A97: =IF($F97=0,"",INDEX(Encargado!$AL$9:$AL$128,$F97)) | B97: =IF($F97=0,"",INDEX(Encargado!$A$9:$A$128,$F97)&IF(INDEX(Encargado!$L$9:$L$128,$F97)="Adelanto"," · Adelanto para stock","")&IF(AND(ISNUMBER(INDEX(Encargado!$D$9:$D$128,$F97)),ISNUMBER(INDEX(Encargado!$E$9:$E$128,$F97))),CHAR(10)&TEXT(INDEX(Encargado!$D$9:$D$128,$F97),"dd/mm")&" al "&TEXT(INDEX(Encargado!$E$9:$E$128,$F97),"dd/mm"),"")) | C97: =IF($F97=0,"",ROUND(INDEX(Encargado!$J$9:$J$128,$F97),3)&" "&INDEX(Encargado!$F$9:$F$128,$F97)) | D97: =IF($F97=0,"",IF(INDEX(Encargado!$L$9:$L$128,$F97)="Adelanto","Prev. "&TEXT(INDEX(Encargado!$C$9:$C$128,$F97),"dd/mm"),INDEX(Encargado!$C$9:$C$128,$F97))) | E97: =IF($F97=0,"",INDEX(Encargado!$Y$9:$Y$128,$F97)&CHAR(10)&"Vto. previsto: "&TEXT(INDEX(Encargado!$Q$9:$Q$128,$F97),"dd/mm/yy")) | F97: =IFERROR(MATCH(90,Encargado!$V$9:$V$128,0),0) -> 0
A98: =IF($F98=0,"",INDEX(Encargado!$AL$9:$AL$128,$F98)) | B98: =IF($F98=0,"",INDEX(Encargado!$A$9:$A$128,$F98)&IF(INDEX(Encargado!$L$9:$L$128,$F98)="Adelanto"," · Adelanto para stock","")&IF(AND(ISNUMBER(INDEX(Encargado!$D$9:$D$128,$F98)),ISNUMBER(INDEX(Encargado!$E$9:$E$128,$F98))),CHAR(10)&TEXT(INDEX(Encargado!$D$9:$D$128,$F98),"dd/mm")&" al "&TEXT(INDEX(Encargado!$E$9:$E$128,$F98),"dd/mm"),"")) | C98: =IF($F98=0,"",ROUND(INDEX(Encargado!$J$9:$J$128,$F98),3)&" "&INDEX(Encargado!$F$9:$F$128,$F98)) | D98: =IF($F98=0,"",IF(INDEX(Encargado!$L$9:$L$128,$F98)="Adelanto","Prev. "&TEXT(INDEX(Encargado!$C$9:$C$128,$F98),"dd/mm"),INDEX(Encargado!$C$9:$C$128,$F98))) | E98: =IF($F98=0,"",INDEX(Encargado!$Y$9:$Y$128,$F98)&CHAR(10)&"Vto. previsto: "&TEXT(INDEX(Encargado!$Q$9:$Q$128,$F98),"dd/mm/yy")) | F98: =IFERROR(MATCH(91,Encargado!$V$9:$V$128,0),0) -> 0
A99: =IF($F99=0,"",INDEX(Encargado!$AL$9:$AL$128,$F99)) | B99: =IF($F99=0,"",INDEX(Encargado!$A$9:$A$128,$F99)&IF(INDEX(Encargado!$L$9:$L$128,$F99)="Adelanto"," · Adelanto para stock","")&IF(AND(ISNUMBER(INDEX(Encargado!$D$9:$D$128,$F99)),ISNUMBER(INDEX(Encargado!$E$9:$E$128,$F99))),CHAR(10)&TEXT(INDEX(Encargado!$D$9:$D$128,$F99),"dd/mm")&" al "&TEXT(INDEX(Encargado!$E$9:$E$128,$F99),"dd/mm"),"")) | C99: =IF($F99=0,"",ROUND(INDEX(Encargado!$J$9:$J$128,$F99),3)&" "&INDEX(Encargado!$F$9:$F$128,$F99)) | D99: =IF($F99=0,"",IF(INDEX(Encargado!$L$9:$L$128,$F99)="Adelanto","Prev. "&TEXT(INDEX(Encargado!$C$9:$C$128,$F99),"dd/mm"),INDEX(Encargado!$C$9:$C$128,$F99))) | E99: =IF($F99=0,"",INDEX(Encargado!$Y$9:$Y$128,$F99)&CHAR(10)&"Vto. previsto: "&TEXT(INDEX(Encargado!$Q$9:$Q$128,$F99),"dd/mm/yy")) | F99: =IFERROR(MATCH(92,Encargado!$V$9:$V$128,0),0) -> 0
A100: =IF($F100=0,"",INDEX(Encargado!$AL$9:$AL$128,$F100)) | B100: =IF($F100=0,"",INDEX(Encargado!$A$9:$A$128,$F100)&IF(INDEX(Encargado!$L$9:$L$128,$F100)="Adelanto"," · Adelanto para stock","")&IF(AND(ISNUMBER(INDEX(Encargado!$D$9:$D$128,$F100)),ISNUMBER(INDEX(Encargado!$E$9:$E$128,$F100))),CHAR(10)&TEXT(INDEX(Encargado!$D$9:$D$128,$F100),"dd/mm")&" al "&TEXT(INDEX(Encargado!$E$9:$E$128,$F100),"dd/mm"),"")) | C100: =IF($F100=0,"",ROUND(INDEX(Encargado!$J$9:$J$128,$F100),3)&" "&INDEX(Encargado!$F$9:$F$128,$F100)) | D100: =IF($F100=0,"",IF(INDEX(Encargado!$L$9:$L$128,$F100)="Adelanto","Prev. "&TEXT(INDEX(Encargado!$C$9:$C$128,$F100),"dd/mm"),INDEX(Encargado!$C$9:$C$128,$F100))) | E100: =IF($F100=0,"",INDEX(Encargado!$Y$9:$Y$128,$F100)&CHAR(10)&"Vto. previsto: "&TEXT(INDEX(Encargado!$Q$9:$Q$128,$F100),"dd/mm/yy")) | F100: =IFERROR(MATCH(93,Encargado!$V$9:$V$128,0),0) -> 0
...

Sheet Encargado
A1: Carrasco / Pedidos y producción
A2: «Previsto» parte de los pedidos por quincena del verano pasado. «Retiro» es orientativo hasta que Punta y Carrasco confirmen la fecha. Buscá la fila por producto y retiro. Actualizá «Retiro» con el día acordado y cargá «Pedido real» y «Stock reservado» (0 si no hay). | P2: Kg / jornada PDE | Q2: 25
A3: Sin pedido de Punta: dejá «Pedido real» vacío. Elegí «Adelanto» en «¿Mandar a preparar?» y, en la celda de al lado, anotá la cantidad. Con pedido confirmado, usá «Sí». | P3: L / jornada PDE | Q3: 40
A4: Amarillo = completar. En «Hecho», anotá el total elaborado en esa fila. En «Stock reservado», cargá solo otros lotes y su vencimiento. Los botones + muestran más detalle. | P4: Apertura 30/11 | Q4: Pendiente | AH4: =IF(SUM($AH$9:$AH$128)=0,"","Calendario incompleto: "&SUM($AH$9:$AH$128)&" tanda(s) sin fecha válida dentro del calendario. Revisá Encargado desde la fila "&(MATCH(1,$AH$9:$AH$128,0)+8)&".")
A5: Si hay varias tandas para un pedido, repartí el total entre ellas. Usá una fila libre solo para un producto y días de uso que no estén previstos. | AH5: =IF(Q4="Sin servicio","30/11: Punta confirmó que no hay servicio.",IF(Q4="Cubierta","30/11: el encargado confirmó que la apertura está cubierta.","Apertura 30/11 pendiente: confirmar si hay servicio y con qué stock o pedido se cubre.")) -> Apertura 30/11 pendiente: confirmar si hay servicio y con qué stock o pedido se cubre.
A6: Antes de marcar «Sí», revisá insumos, fechas y tiempo disponible. Si dice «Acordar envases», acordá la cantidad con Punta.
A7: Apertura del 30/11: reservá stock vigente o planificá un retiro previo. En los ajustes, marcá «Cubierta» cuando esté resuelto.
A8: Producto | B8: Elaborar | C8: Retiro | D8: Usar desde | E8: Usar hasta | F8: Unidad | G8: Previsto | H8: Pedido real | I8: Stock reservado | J8: Falta hacer | K8: Vence stock | L8: ¿Mandar a preparar? | M8: Cant. a adelantar | N8: Hecho | O8: Situación | P8: Antes del 21/12 | Q8: Vence cerrado
A9: Manteca Batayaki | B9: 46335 | C9: 46356 | D9: 46357 | E9: 46371 | F9: =IF(R9=0,"",INDEX(criterio!$B$11:$B$22,R9)) -> kg | G9: =IFERROR(IF(INDEX(criterio!$B$31:$B$111,MATCH(W9,criterio!$A$31:$A$111,0))=A9,INDEX(criterio!$C$31:$C$111,MATCH(W9,criterio!$A$31:$A$111,0)),""),"") -> 5 | J9: =IF(AND(ISNUMBER(AM9),OR(ISBLANK(H9),ISNUMBER(I9))),MAX(0,ROUND(AM9-IF(ISBLANK(H9),0,N(I9))-N(N9),3)),"") | O9: =IF(AL9="Reasignar sobrante","Sobran "&ROUND(N9-MAX(0,H9-N(I9)),3)&" "&F9&" para stock",IF(AND(ISNUMBER(H9),L9="Adelanto",AL9="Por confirmar"),IF(J9>0,IF(J9=1,"Falta ","Faltan ")&ROUND(J9,3)&" "&F9&". Elegí «Sí»"&CHAR(10)&"en «¿Mandar a preparar?».","No falta producir."),IF(AL9="Acordar envases",AL9&" ("&INT(AE9/AK9)&" o "&ROUNDUP(AE9/AK9,0)&")",AL9)&IF(P9="","",CHAR(10)&"Adelanto movido al pico"))) -> Previsión | P9: =IFERROR(IF(AND(INDEX(criterio!$I$31:$I$111,MATCH(W9,criterio!$A$31:$A$111,0))=1,INDEX(criterio!$B$31:$B$111,MATCH(W9,criterio!$A$31:$A$111,0))=A9,ISNUMBER(B9),B9>=criterio!$B$5,D9<=criterio!$B$6,E9>=criterio!$B$5),"Fuera de la previa del 20/12",""),"") | Q9: =IF(AND(R9>0,ISNUMBER(B9)),IF(U9="mes",EDATE(B9,T9),B9+T9),"") -> 46425 | R9: =IFERROR(MATCH(A9,criterio!$A$11:$A$22,0),0) -> 1 | S9: =IF(R9=0,"",INDEX(criterio!$E$11:$E$22,R9)) -> 0 | T9: =IF(R9=0,"",INDEX(criterio!$C$11:$C$22,R9)) -> 90 | U9: =IF(R9=0,"",INDEX(criterio!$D$11:$D$22,R9)) -> días | V9: =IF(AND(ISNUMBER(B9),B9=Turno!$B$3,OR(AL9="Preparar",AL9="Completar")),MAX($V$8:V8)+1,0) -> 0 | W9: T001 | Y9: =IF(R9=0,"",INDEX(criterio!$I$11:$I$22,R9)) -> Freezer −18 °C. Abierta en heladera: 3 días, sin superar vencimiento. | Z9: =IF(AC9=1,0,IF(A9="","",IF(ISNUMBER(H9),MAX(IF(ISNUMBER(N9),N9,0),H9-IF(ISNUMBER(I9),I9,0),0),IF(ISNUMBER(AM9),MAX(AM9,N(N9)),IF(ISNUMBER(G9),MAX(G9,N(N9)),N(N9)))))) -> 5 | AA9: =IF(OR(A9="",COUNT(B9:C9)<>2),"",IF(OR(WEEKDAY(B9,2)>5,COUNTIF(criterio!$B$25:$E$25,B9)>0),"Cambiar día de elaboración",IF(OR(WEEKDAY(C9,2)>5,COUNTIF(criterio!$B$25:$E$25,C9)>0),"Cambiar día de retiro",IF(SUMIF($B$9:$B$128,B9,$AD$9:$AD$128)>criterio!$D$26,"Más de dos recetas",IF(OR(A9="",NOT(ISNUMBER(B9))),"",IF(OR(NOT(ISNUMBER($Q$2)),NOT(ISNUMBER($Q$3)),$Q$2<=0,$Q$3<=0),"Revisar topes de carga",IF(SUMIFS($Z$9:$Z$128,$B$9:$B$128,B9,$F$9:$F$128,"kg")/$Q$2+SUMIFS($Z$9:$Z$128,$B$9:$B$128,B9,$F$9:$F$128,"L")/$Q$3>1.000001,"Repartir carga del día",""))))))) | AB9: =IF(COUNTA(A9:E9,H9:I9,K9:N9)=0,"",IF(R9=0,"Elegir producto",IF(COUNT(B9:E9)<>4,"Completar fechas",IF(E9<D9,"Revisar días de uso",IF(C9+criterio!$B$3>D9,"El retiro llega tarde",IF(AND(N9<>"",OR(NOT(ISNUMBER(N9)),N9<0)),"Revisar cantidad hecha",IF(AND(M9<>"",OR(NOT(ISNUMBER(M9)),M9<0)),"Revisar cant. a adelantar",IF(AND(AND(ISBLANK(H9),L9="Adelanto"),NOT(ISNUMBER(AM9))),"Cargar cant. a adelantar",IF(AND(AND(ISBLANK(H9),L9="Adelanto"),I9<>"",OR(NOT(ISNUMBER(I9)),I9<>0)),"Revisar stock del adelanto",IF(AND(ISNUMBER(N9),N9>0,L9<>"Sí",L9<>"Adelanto",N(M9)<=0),"Hecho sin liberar",IF(AND(ISBLANK(H9),L9<>"Adelanto",OR(I9<>"",L9="Sí")),"Falta pedido real",IF(AND(H9<>"",OR(NOT(ISNUMBER(H9)),H9<0)),"Revisar pedido",IF(AND(ISNUMBER(H9),H9=0,N(M9)>0,N(N9)>0,N(I9)=0),"Reasignar sobrante",IF(AND(ISNUMBER(H9),H9=0,OR(N9>0,I9>0)),"Revisar pedido y cantidades",IF(AND(ISNUMBER(H9),H9=0),"Sin pedido",IF(AND(ISNUMBER(H9),ISBLANK(I9)),"Falta anotar stock",IF(AND(I9<>"",OR(NOT(ISNUMBER(I9)),I9<0,AND(ISNUMBER(H9),I9>H9))),"Revisar stock asignado",IF(AND(ISNUMBER(I9),I9>0,NOT(ISNUMBER(K9))),"Falta vencimiento de stock",IF(AND(ISNUMBER(I9),I9>0,K9<E9+criterio!$B$4),"El stock no cubre el uso",IF(AND(ISNUMBER(H9),ISNUMBER(I9),H9=I9,OR(N9="",N9=0)),"Cubierto con stock",IF(B9=criterio!$B$25,"Jornada bloqueada",IF(B9+S9>C9,"No llega al retiro",IF(Q9<E9,"Vence antes del último uso",IF(Q9<E9+criterio!$B$4,"Falta margen de vida útil",IF(AND(ISBLANK(H9),L9<>"Adelanto",N(N9)>0,N(M9)>0),"Adelanto en pausa",IF(NOT(ISNUMBER(AM9)),"Previsión",IF(AND(ISNUMBER(H9),N(M9)>0,N(N9)>ROUND(H9-N(I9),3)),"Reasignar sobrante",IF(AND(ISNUMBER(N9),N9>ROUND(AM9-N(I9),3)),"Revisar excedente",IF(AND(ISNUMBER(H9),L9<>"Sí",NOT(AND(N(M9)>0,J9=0))),"Por confirmar",IF(J9=0,"Hecho",IF(AND(ISNUMBER(N9),N9>0),"Completar","Preparar"))))))))))))))))))))))))))))))) -> Previsión | AC9: =IF(OR(W9<>"",AJ9=0),0,IF(COUNTIFS($A$9:$A$128,A9,$AJ$9:$AJ$128,1,$D$9:$D$128,"<="&E9,$E$9:$E$128,">="&D9)>1,1,0)) -> 0 | AD9: =IF(OR(NOT(ISNUMBER(B9)),A9="",NOT(ISNUMBER(Z9)),Z9<=0),0,IF(COUNTIFS($A$9:A9,A9,$B$9:B9,B9,$Z$9:Z9,">0")=1,1,0)) -> 1 | AE9: =IF(OR(AK9<=0,AC9=1),0,IF(AND(A9="Tsue",NOT(AND(ISBLANK(H9),L9="Adelanto"))),IF(ISNUMBER(C9),SUMIFS($H$9:$H$128,$A$9:$A$128,A9,$C$9:$C$128,C9,$AC$9:$AC$128,0,$H$9:$H$128,">0"),0),IF(ISNUMBER(Z9),Z9,0))) -> 0 | AF9: =IF(OR(AE9<=0,AK9<=0),0,IF(ABS(AE9/AK9-ROUND(AE9/AK9,0))>0.000001,1,0)) -> 0 | AG9: =IF(OR(AF9=0,AK9<=0),"",IF(A9="Tsue","Retiro: ","Tanda: ")&ROUND(AE9,3)&" "&F9&". Acordar "&INT(AE9/AK9)&" o "&ROUNDUP(AE9/AK9,0)&IF(A9="Tsue"," envases de 5 L."," porciones de 500 g.")) | AH9: =IF(COUNTA(A9:E9,H9:I9,K9:L9,N9)=0,0,IF(OR(NOT(ISNUMBER(B9)),B9<'Por semana'!$C$45,B9>'Por semana'!$J$46+6),1,0)) -> 0 | AI9: =IF(OR(AC9=1,A9=""),0,IF(ISNUMBER(H9),MAX(0,H9),IF(ISNUMBER(G9),G9,0))) -> 5 | AJ9: =IF(OR(A9="",NOT(ISNUMBER(D9)),NOT(ISNUMBER(E9)),AND(ISNUMBER(H9),H9=0)),0,1) -> 1 | AK9: =IF(R9=0,0,IFERROR(INDEX(criterio!$J$11:$J$22,R9)+0,0)) -> 0 | AL9: =IF(AC9=1,"Usar la fila ya prevista",IF(AND(AF9=1,OR(AB9="Preparar",AB9="Completar",AB9="Por confirmar"),AA9=""),"Acordar envases",IF(AND(OR(AB9="Previsión",AB9="Por confirmar",AB9="Preparar",AB9="Completar"),AA9<>""),AA9,AB9))) -> Previsión | AM9: =IF(ISNUMBER(H9),H9,IF(AND(ISBLANK(H9),L9="Adelanto",ISNUMBER(M9),M9>0),M9,""))
A10: Manteca Batayaki | B10: 46335 | C10: 46371 | D10: 46372 | E10: 46387 | F10: =IF(R10=0,"",INDEX(criterio!$B$11:$B$22,R10)) -> kg | G10: =IFERROR(IF(INDEX(criterio!$B$31:$B$111,MATCH(W10,criterio!$A$31:$A$111,0))=A10,INDEX(criterio!$C$31:$C$111,MATCH(W10,criterio!$A$31:$A$111,0)),""),"") -> 13 | J10: =IF(AND(ISNUMBER(AM10),OR(ISBLANK(H10),ISNUMBER(I10))),MAX(0,ROUND(AM10-IF(ISBLANK(H10),0,N(I10))-N(N10),3)),"") | O10: =IF(AL10="Reasignar sobrante","Sobran "&ROUND(N10-MAX(0,H10-N(I10)),3)&" "&F10&" para stock",IF(AND(ISNUMBER(H10),L10="Adelanto",AL10="Por confirmar"),IF(J10>0,IF(J10=1,"Falta ","Faltan ")&ROUND(J10,3)&" "&F10&". Elegí «Sí»"&CHAR(10)&"en «¿Mandar a preparar?».","No falta producir."),IF(AL10="Acordar envases",AL10&" ("&INT(AE10/AK10)&" o "&ROUNDUP(AE10/AK10,0)&")",AL10)&IF(P10="","",CHAR(10)&"Adelanto movido al pico"))) -> Previsión | P10: =IFERROR(IF(AND(INDEX(criterio!$I$31:$I$111,MATCH(W10,criterio!$A$31:$A$111,0))=1,INDEX(criterio!$B$31:$B$111,MATCH(W10,criterio!$A$31:$A$111,0))=A10,ISNUMBER(B10),B10>=criterio!$B$5,D10<=criterio!$B$6,E10>=criterio!$B$5),"Fuera de la previa del 20/12",""),"") | Q10: =IF(AND(R10>0,ISNUMBER(B10)),IF(U10="mes",EDATE(B10,T10),B10+T10),"") -> 46425 | R10: =IFERROR(MATCH(A10,criterio!$A$11:$A$22,0),0) -> 1 | S10: =IF(R10=0,"",INDEX(criterio!$E$11:$E$22,R10)) -> 0 | T10: =IF(R10=0,"",INDEX(criterio!$C$11:$C$22,R10)) -> 90 | U10: =IF(R10=0,"",INDEX(criterio!$D$11:$D$22,R10)) -> días | V10: =IF(AND(ISNUMBER(B10),B10=Turno!$B$3,OR(AL10="Preparar",AL10="Completar")),MAX($V$8:V9)+1,0) -> 0 | W10: T002 | Y10: =IF(R10=0,"",INDEX(criterio!$I$11:$I$22,R10)) -> Freezer −18 °C. Abierta en heladera: 3 días, sin superar vencimiento. | Z10: =IF(AC10=1,0,IF(A10="","",IF(ISNUMBER(H10),MAX(IF(ISNUMBER(N10),N10,0),H10-IF(ISNUMBER(I10),I10,0),0),IF(ISNUMBER(AM10),MAX(AM10,N(N10)),IF(ISNUMBER(G10),MAX(G10,N(N10)),N(N10)))))) -> 13 | AA10: =IF(OR(A10="",COUNT(B10:C10)<>2),"",IF(OR(WEEKDAY(B10,2)>5,COUNTIF(criterio!$B$25:$E$25,B10)>0),"Cambiar día de elaboración",IF(OR(WEEKDAY(C10,2)>5,COUNTIF(criterio!$B$25:$E$25,C10)>0),"Cambiar día de retiro",IF(SUMIF($B$9:$B$128,B10,$AD$9:$AD$128)>criterio!$D$26,"Más de dos recetas",IF(OR(A10="",NOT(ISNUMBER(B10))),"",IF(OR(NOT(ISNUMBER($Q$2)),NOT(ISNUMBER($Q$3)),$Q$2<=0,$Q$3<=0),"Revisar topes de carga",IF(SUMIFS($Z$9:$Z$128,$B$9:$B$128,B10,$F$9:$F$128,"kg")/$Q$2+SUMIFS($Z$9:$Z$128,$B$9:$B$128,B10,$F$9:$F$128,"L")/$Q$3>1.000001,"Repartir carga del día",""))))))) | AB10: =IF(COUNTA(A10:E10,H10:I10,K10:N10)=0,"",IF(R10=0,"Elegir producto",IF(COUNT(B10:E10)<>4,"Completar fechas",IF(E10<D10,"Revisar días de uso",IF(C10+criterio!$B$3>D10,"El retiro llega tarde",IF(AND(N10<>"",OR(NOT(ISNUMBER(N10)),N10<0)),"Revisar cantidad hecha",IF(AND(M10<>"",OR(NOT(ISNUMBER(M10)),M10<0)),"Revisar cant. a adelantar",IF(AND(AND(ISBLANK(H10),L10="Adelanto"),NOT(ISNUMBER(AM10))),"Cargar cant. a adelantar",IF(AND(AND(ISBLANK(H10),L10="Adelanto"),I10<>"",OR(NOT(ISNUMBER(I10)),I10<>0)),"Revisar stock del adelanto",IF(AND(ISNUMBER(N10),N10>0,L10<>"Sí",L10<>"Adelanto",N(M10)<=0),"Hecho sin liberar",IF(AND(ISBLANK(H10),L10<>"Adelanto",OR(I10<>"",L10="Sí")),"Falta pedido real",IF(AND(H10<>"",OR(NOT(ISNUMBER(H10)),H10<0)),"Revisar pedido",IF(AND(ISNUMBER(H10),H10=0,N(M10)>0,N(N10)>0,N(I10)=0),"Reasignar sobrante",IF(AND(ISNUMBER(H10),H10=0,OR(N10>0,I10>0)),"Revisar pedido y cantidades",IF(AND(ISNUMBER(H10),H10=0),"Sin pedido",IF(AND(ISNUMBER(H10),ISBLANK(I10)),"Falta anotar stock",IF(AND(I10<>"",OR(NOT(ISNUMBER(I10)),I10<0,AND(ISNUMBER(H10),I10>H10))),"Revisar stock asignado",IF(AND(ISNUMBER(I10),I10>0,NOT(ISNUMBER(K10))),"Falta vencimiento de stock",IF(AND(ISNUMBER(I10),I10>0,K10<E10+criterio!$B$4),"El stock no cubre el uso",IF(AND(ISNUMBER(H10),ISNUMBER(I10),H10=I10,OR(N10="",N10=0)),"Cubierto con stock",IF(B10=criterio!$B$25,"Jornada bloqueada",IF(B10+S10>C10,"No llega al retiro",IF(Q10<E10,"Vence antes del último uso",IF(Q10<E10+criterio!$B$4,"Falta margen de vida útil",IF(AND(ISBLANK(H10),L10<>"Adelanto",N(N10)>0,N(M10)>0),"Adelanto en pausa",IF(NOT(ISNUMBER(AM10)),"Previsión",IF(AND(ISNUMBER(H10),N(M10)>0,N(N10)>ROUND(H10-N(I10),3)),"Reasignar sobrante",IF(AND(ISNUMBER(N10),N10>ROUND(AM10-N(I10),3)),"Revisar excedente",IF(AND(ISNUMBER(H10),L10<>"Sí",NOT(AND(N(M10)>0,J10=0))),"Por confirmar",IF(J10=0,"Hecho",IF(AND(ISNUMBER(N10),N10>0),"Completar","Preparar"))))))))))))))))))))))))))))))) -> Previsión | AC10: =IF(OR(W10<>"",AJ10=0),0,IF(COUNTIFS($A$9:$A$128,A10,$AJ$9:$AJ$128,1,$D$9:$D$128,"<="&E10,$E$9:$E$128,">="&D10)>1,1,0)) -> 0 | AD10: =IF(OR(NOT(ISNUMBER(B10)),A10="",NOT(ISNUMBER(Z10)),Z10<=0),0,IF(COUNTIFS($A$9:A10,A10,$B$9:B10,B10,$Z$9:Z10,">0")=1,1,0)) -> 0 | AE10: =IF(OR(AK10<=0,AC10=1),0,IF(AND(A10="Tsue",NOT(AND(ISBLANK(H10),L10="Adelanto"))),IF(ISNUMBER(C10),SUMIFS($H$9:$H$128,$A$9:$A$128,A10,$C$9:$C$128,C10,$AC$9:$AC$128,0,$H$9:$H$128,">0"),0),IF(ISNUMBER(Z10),Z10,0))) -> 0 | AF10: =IF(OR(AE10<=0,AK10<=0),0,IF(ABS(AE10/AK10-ROUND(AE10/AK10,0))>0.000001,1,0)) -> 0 | AG10: =IF(OR(AF10=0,AK10<=0),"",IF(A10="Tsue","Retiro: ","Tanda: ")&ROUND(AE10,3)&" "&F10&". Acordar "&INT(AE10/AK10)&" o "&ROUNDUP(AE10/AK10,0)&IF(A10="Tsue"," envases de 5 L."," porciones de 500 g.")) | AH10: =IF(COUNTA(A10:E10,H10:I10,K10:L10,N10)=0,0,IF(OR(NOT(ISNUMBER(B10)),B10<'Por semana'!$C$45,B10>'Por semana'!$J$46+6),1,0)) -> 0 | AI10: =IF(OR(AC10=1,A10=""),0,IF(ISNUMBER(H10),MAX(0,H10),IF(ISNUMBER(G10),G10,0))) -> 13 | AJ10: =IF(OR(A10="",NOT(ISNUMBER(D10)),NOT(ISNUMBER(E10)),AND(ISNUMBER(H10),H10=0)),0,1) -> 1 | AK10: =IF(R10=0,0,IFERROR(INDEX(criterio!$J$11:$J$22,R10)+0,0)) -> 0 | AL10: =IF(AC10=1,"Usar la fila ya prevista",IF(AND(AF10=1,OR(AB10="Preparar",AB10="Completar",AB10="Por confirmar"),AA10=""),"Acordar envases",IF(AND(OR(AB10="Previsión",AB10="Por confirmar",AB10="Preparar",AB10="Completar"),AA10<>""),AA10,AB10))) -> Previsión | AM10: =IF(ISNUMBER(H10),H10,IF(AND(ISBLANK(H10),L10="Adelanto",ISNUMBER(M10),M10>0),M10,""))
A11: Manteca Hisosu | B11: 46336 | C11: 46356 | D11: 46357 | E11: 46371 | F11: =IF(R11=0,"",INDEX(criterio!$B$11:$B$22,R11)) -> kg | G11: =IFERROR(IF(INDEX(criterio!$B$31:$B$111,MATCH(W11,criterio!$A$31:$A$111,0))=A11,INDEX(criterio!$C$31:$C$111,MATCH(W11,criterio!$A$31:$A$111,0)),""),"") -> 5 | J11: =IF(AND(ISNUMBER(AM11),OR(ISBLANK(H11),ISNUMBER(I11))),MAX(0,ROUND(AM11-IF(ISBLANK(H11),0,N(I11))-N(N11),3)),"") | O11: =IF(AL11="Reasignar sobrante","Sobran "&ROUND(N11-MAX(0,H11-N(I11)),3)&" "&F11&" para stock",IF(AND(ISNUMBER(H11),L11="Adelanto",AL11="Por confirmar"),IF(J11>0,IF(J11=1,"Falta ","Faltan ")&ROUND(J11,3)&" "&F11&". Elegí «Sí»"&CHAR(10)&"en «¿Mandar a preparar?».","No falta producir."),IF(AL11="Acordar envases",AL11&" ("&INT(AE11/AK11)&" o "&ROUNDUP(AE11/AK11,0)&")",AL11)&IF(P11="","",CHAR(10)&"Adelanto movido al pico"))) -> Previsión | P11: =IFERROR(IF(AND(INDEX(criterio!$I$31:$I$111,MATCH(W11,criterio!$A$31:$A$111,0))=1,INDEX(criterio!$B$31:$B$111,MATCH(W11,criterio!$A$31:$A$111,0))=A11,ISNUMBER(B11),B11>=criterio!$B$5,D11<=criterio!$B$6,E11>=criterio!$B$5),"Fuera de la previa del 20/12",""),"") | Q11: =IF(AND(R11>0,ISNUMBER(B11)),IF(U11="mes",EDATE(B11,T11),B11+T11),"") -> 46426 | R11: =IFERROR(MATCH(A11,criterio!$A$11:$A$22,0),0) -> 2 | S11: =IF(R11=0,"",INDEX(criterio!$E$11:$E$22,R11)) -> 0 | T11: =IF(R11=0,"",INDEX(criterio!$C$11:$C$22,R11)) -> 90 | U11: =IF(R11=0,"",INDEX(criterio!$D$11:$D$22,R11)) -> días | V11: =IF(AND(ISNUMBER(B11),B11=Turno!$B$3,OR(AL11="Preparar",AL11="Completar")),MAX($V$8:V10)+1,0) -> 0 | W11: T003 | Y11: =IF(R11=0,"",INDEX(criterio!$I$11:$I$22,R11)) -> Freezer −18 °C. Abierta en heladera: 3 días, sin superar vencimiento. | Z11: =IF(AC11=1,0,IF(A11="","",IF(ISNUMBER(H11),MAX(IF(ISNUMBER(N11),N11,0),H11-IF(ISNUMBER(I11),I11,0),0),IF(ISNUMBER(AM11),MAX(AM11,N(N11)),IF(ISNUMBER(G11),MAX(G11,N(N11)),N(N11)))))) -> 5 | AA11: =IF(OR(A11="",COUNT(B11:C11)<>2),"",IF(OR(WEEKDAY(B11,2)>5,COUNTIF(criterio!$B$25:$E$25,B11)>0),"Cambiar día de elaboración",IF(OR(WEEKDAY(C11,2)>5,COUNTIF(criterio!$B$25:$E$25,C11)>0),"Cambiar día de retiro",IF(SUMIF($B$9:$B$128,B11,$AD$9:$AD$128)>criterio!$D$26,"Más de dos recetas",IF(OR(A11="",NOT(ISNUMBER(B11))),"",IF(OR(NOT(ISNUMBER($Q$2)),NOT(ISNUMBER($Q$3)),$Q$2<=0,$Q$3<=0),"Revisar topes de carga",IF(SUMIFS($Z$9:$Z$128,$B$9:$B$128,B11,$F$9:$F$128,"kg")/$Q$2+SUMIFS($Z$9:$Z$128,$B$9:$B$128,B11,$F$9:$F$128,"L")/$Q$3>1.000001,"Repartir carga del día",""))))))) | AB11: =IF(COUNTA(A11:E11,H11:I11,K11:N11)=0,"",IF(R11=0,"Elegir producto",IF(COUNT(B11:E11)<>4,"Completar fechas",IF(E11<D11,"Revisar días de uso",IF(C11+criterio!$B$3>D11,"El retiro llega tarde",IF(AND(N11<>"",OR(NOT(ISNUMBER(N11)),N11<0)),"Revisar cantidad hecha",IF(AND(M11<>"",OR(NOT(ISNUMBER(M11)),M11<0)),"Revisar cant. a adelantar",IF(AND(AND(ISBLANK(H11),L11="Adelanto"),NOT(ISNUMBER(AM11))),"Cargar cant. a adelantar",IF(AND(AND(ISBLANK(H11),L11="Adelanto"),I11<>"",OR(NOT(ISNUMBER(I11)),I11<>0)),"Revisar stock del adelanto",IF(AND(ISNUMBER(N11),N11>0,L11<>"Sí",L11<>"Adelanto",N(M11)<=0),"Hecho sin liberar",IF(AND(ISBLANK(H11),L11<>"Adelanto",OR(I11<>"",L11="Sí")),"Falta pedido real",IF(AND(H11<>"",OR(NOT(ISNUMBER(H11)),H11<0)),"Revisar pedido",IF(AND(ISNUMBER(H11),H11=0,N(M11)>0,N(N11)>0,N(I11)=0),"Reasignar sobrante",IF(AND(ISNUMBER(H11),H11=0,OR(N11>0,I11>0)),"Revisar pedido y cantidades",IF(AND(ISNUMBER(H11),H11=0),"Sin pedido",IF(AND(ISNUMBER(H11),ISBLANK(I11)),"Falta anotar stock",IF(AND(I11<>"",OR(NOT(ISNUMBER(I11)),I11<0,AND(ISNUMBER(H11),I11>H11))),"Revisar stock asignado",IF(AND(ISNUMBER(I11),I11>0,NOT(ISNUMBER(K11))),"Falta vencimiento de stock",IF(AND(ISNUMBER(I11),I11>0,K11<E11+criterio!$B$4),"El stock no cubre el uso",IF(AND(ISNUMBER(H11),ISNUMBER(I11),H11=I11,OR(N11="",N11=0)),"Cubierto con stock",IF(B11=criterio!$B$25,"Jornada bloqueada",IF(B11+S11>C11,"No llega al retiro",IF(Q11<E11,"Vence antes del último uso",IF(Q11<E11+criterio!$B$4,"Falta margen de vida útil",IF(AND(ISBLANK(H11),L11<>"Adelanto",N(N11)>0,N(M11)>0),"Adelanto en pausa",IF(NOT(ISNUMBER(AM11)),"Previsión",IF(AND(ISNUMBER(H11),N(M11)>0,N(N11)>ROUND(H11-N(I11),3)),"Reasignar sobrante",IF(AND(ISNUMBER(N11),N11>ROUND(AM11-N(I11),3)),"Revisar excedente",IF(AND(ISNUMBER(H11),L11<>"Sí",NOT(AND(N(M11)>0,J11=0))),"Por confirmar",IF(J11=0,"Hecho",IF(AND(ISNUMBER(N11),N11>0),"Completar","Preparar"))))))))))))))))))))))))))))))) -> Previsión | AC11: =IF(OR(W11<>"",AJ11=0),0,IF(COUNTIFS($A$9:$A$128,A11,$AJ$9:$AJ$128,1,$D$9:$D$128,"<="&E11,$E$9:$E$128,">="&D11)>1,1,0)) -> 0 | AD11: =IF(OR(NOT(ISNUMBER(B11)),A11="",NOT(ISNUMBER(Z11)),Z11<=0),0,IF(COUNTIFS($A$9:A11,A11,$B$9:B11,B11,$Z$9:Z11,">0")=1,1,0)) -> 1 | AE11: =IF(OR(AK11<=0,AC11=1),0,IF(AND(A11="Tsue",NOT(AND(ISBLANK(H11),L11="Adelanto"))),IF(ISNUMBER(C11),SUMIFS($H$9:$H$128,$A$9:$A$128,A11,$C$9:$C$128,C11,$AC$9:$AC$128,0,$H$9:$H$128,">0"),0),IF(ISNUMBER(Z11),Z11,0))) -> 0 | AF11: =IF(OR(AE11<=0,AK11<=0),0,IF(ABS(AE11/AK11-ROUND(AE11/AK11,0))>0.000001,1,0)) -> 0 | AG11: =IF(OR(AF11=0,AK11<=0),"",IF(A11="Tsue","Retiro: ","Tanda: ")&ROUND(AE11,3)&" "&F11&". Acordar "&INT(AE11/AK11)&" o "&ROUNDUP(AE11/AK11,0)&IF(A11="Tsue"," envases de 5 L."," porciones de 500 g.")) | AH11: =IF(COUNTA(A11:E11,H11:I11,K11:L11,N11)=0,0,IF(OR(NOT(ISNUMBER(B11)),B11<'Por semana'!$C$45,B11>'Por semana'!$J$46+6),1,0)) -> 0 | AI11: =IF(OR(AC11=1,A11=""),0,IF(ISNUMBER(H11),MAX(0,H11),IF(ISNUMBER(G11),G11,0))) -> 5 | AJ11: =IF(OR(A11="",NOT(ISNUMBER(D11)),NOT(ISNUMBER(E11)),AND(ISNUMBER(H11),H11=0)),0,1) -> 1 | AK11: =IF(R11=0,0,IFERROR(INDEX(criterio!$J$11:$J$22,R11)+0,0)) -> 0 | AL11: =IF(AC11=1,"Usar la fila ya prevista",IF(AND(AF11=1,OR(AB11="Preparar",AB11="Completar",AB11="Por confirmar"),AA11=""),"Acordar envases",IF(AND(OR(AB11="Previsión",AB11="Por confirmar",AB11="Preparar",AB11="Completar"),AA11<>""),AA11,AB11))) -> Previsión | AM11: =IF(ISNUMBER(H11),H11,IF(AND(ISBLANK(H11),L11="Adelanto",ISNUMBER(M11),M11>0),M11,""))
A12: Manteca Hisosu | B12: 46336 | C12: 46371 | D12: 46372 | E12: 46387 | F12: =IF(R12=0,"",INDEX(criterio!$B$11:$B$22,R12)) -> kg | G12: =IFERROR(IF(INDEX(criterio!$B$31:$B$111,MATCH(W12,criterio!$A$31:$A$111,0))=A12,INDEX(criterio!$C$31:$C$111,MATCH(W12,criterio!$A$31:$A$111,0)),""),"") -> 13 | J12: =IF(AND(ISNUMBER(AM12),OR(ISBLANK(H12),ISNUMBER(I12))),MAX(0,ROUND(AM12-IF(ISBLANK(H12),0,N(I12))-N(N12),3)),"") | O12: =IF(AL12="Reasignar sobrante","Sobran "&ROUND(N12-MAX(0,H12-N(I12)),3)&" "&F12&" para stock",IF(AND(ISNUMBER(H12),L12="Adelanto",AL12="Por confirmar"),IF(J12>0,IF(J12=1,"Falta ","Faltan ")&ROUND(J12,3)&" "&F12&". Elegí «Sí»"&CHAR(10)&"en «¿Mandar a preparar?».","No falta producir."),IF(AL12="Acordar envases",AL12&" ("&INT(AE12/AK12)&" o "&ROUNDUP(AE12/AK12,0)&")",AL12)&IF(P12="","",CHAR(10)&"Adelanto movido al pico"))) -> Previsión | P12: =IFERROR(IF(AND(INDEX(criterio!$I$31:$I$111,MATCH(W12,criterio!$A$31:$A$111,0))=1,INDEX(criterio!$B$31:$B$111,MATCH(W12,criterio!$A$31:$A$111,0))=A12,ISNUMBER(B12),B12>=criterio!$B$5,D12<=criterio!$B$6,E12>=criterio!$B$5),"Fuera de la previa del 20/12",""),"") | Q12: =IF(AND(R12>0,ISNUMBER(B12)),IF(U12="mes",EDATE(B12,T12),B12+T12),"") -> 46426 | R12: =IFERROR(MATCH(A12,criterio!$A$11:$A$22,0),0) -> 2 | S12: =IF(R12=0,"",INDEX(criterio!$E$11:$E$22,R12)) -> 0 | T12: =IF(R12=0,"",INDEX(criterio!$C$11:$C$22,R12)) -> 90 | U12: =IF(R12=0,"",INDEX(criterio!$D$11:$D$22,R12)) -> días | V12: =IF(AND(ISNUMBER(B12),B12=Turno!$B$3,OR(AL12="Preparar",AL12="Completar")),MAX($V$8:V11)+1,0) -> 0 | W12: T004 | Y12: =IF(R12=0,"",INDEX(criterio!$I$11:$I$22,R12)) -> Freezer −18 °C. Abierta en heladera: 3 días, sin superar vencimiento. | Z12: =IF(AC12=1,0,IF(A12="","",IF(ISNUMBER(H12),MAX(IF(ISNUMBER(N12),N12,0),H12-IF(ISNUMBER(I12),I12,0),0),IF(ISNUMBER(AM12),MAX(AM12,N(N12)),IF(ISNUMBER(G12),MAX(G12,N(N12)),N(N12)))))) -> 13 | AA12: =IF(OR(A12="",COUNT(B12:C12)<>2),"",IF(OR(WEEKDAY(B12,2)>5,COUNTIF(criterio!$B$25:$E$25,B12)>0),"Cambiar día de elaboración",IF(OR(WEEKDAY(C12,2)>5,COUNTIF(criterio!$B$25:$E$25,C12)>0),"Cambiar día de retiro",IF(SUMIF($B$9:$B$128,B12,$AD$9:$AD$128)>criterio!$D$26,"Más de dos recetas",IF(OR(A12="",NOT(ISNUMBER(B12))),"",IF(OR(NOT(ISNUMBER($Q$2)),NOT(ISNUMBER($Q$3)),$Q$2<=0,$Q$3<=0),"Revisar topes de carga",IF(SUMIFS($Z$9:$Z$128,$B$9:$B$128,B12,$F$9:$F$128,"kg")/$Q$2+SUMIFS($Z$9:$Z$128,$B$9:$B$128,B12,$F$9:$F$128,"L")/$Q$3>1.000001,"Repartir carga del día",""))))))) | AB12: =IF(COUNTA(A12:E12,H12:I12,K12:N12)=0,"",IF(R12=0,"Elegir producto",IF(COUNT(B12:E12)<>4,"Completar fechas",IF(E12<D12,"Revisar días de uso",IF(C12+criterio!$B$3>D12,"El retiro llega tarde",IF(AND(N12<>"",OR(NOT(ISNUMBER(N12)),N12<0)),"Revisar cantidad hecha",IF(AND(M12<>"",OR(NOT(ISNUMBER(M12)),M12<0)),"Revisar cant. a adelantar",IF(AND(AND(ISBLANK(H12),L12="Adelanto"),NOT(ISNUMBER(AM12))),"Cargar cant. a adelantar",IF(AND(AND(ISBLANK(H12),L12="Adelanto"),I12<>"",OR(NOT(ISNUMBER(I12)),I12<>0)),"Revisar stock del adelanto",IF(AND(ISNUMBER(N12),N12>0,L12<>"Sí",L12<>"Adelanto",N(M12)<=0),"Hecho sin liberar",IF(AND(ISBLANK(H12),L12<>"Adelanto",OR(I12<>"",L12="Sí")),"Falta pedido real",IF(AND(H12<>"",OR(NOT(ISNUMBER(H12)),H12<0)),"Revisar pedido",IF(AND(ISNUMBER(H12),H12=0,N(M12)>0,N(N12)>0,N(I12)=0),"Reasignar sobrante",IF(AND(ISNUMBER(H12),H12=0,OR(N12>0,I12>0)),"Revisar pedido y cantidades",IF(AND(ISNUMBER(H12),H12=0),"Sin pedido",IF(AND(ISNUMBER(H12),ISBLANK(I12)),"Falta anotar stock",IF(AND(I12<>"",OR(NOT(ISNUMBER(I12)),I12<0,AND(ISNUMBER(H12),I12>H12))),"Revisar stock asignado",IF(AND(ISNUMBER(I12),I12>0,NOT(ISNUMBER(K12))),"Falta vencimiento de stock",IF(AND(ISNUMBER(I12),I12>0,K12<E12+criterio!$B$4),"El stock no cubre el uso",IF(AND(ISNUMBER(H12),ISNUMBER(I12),H12=I12,OR(N12="",N12=0)),"Cubierto con stock",IF(B12=criterio!$B$25,"Jornada bloqueada",IF(B12+S12>C12,"No llega al retiro",IF(Q12<E12,"Vence antes del último uso",IF(Q12<E12+criterio!$B$4,"Falta margen de vida útil",IF(AND(ISBLANK(H12),L12<>"Adelanto",N(N12)>0,N(M12)>0),"Adelanto en pausa",IF(NOT(ISNUMBER(AM12)),"Previsión",IF(AND(ISNUMBER(H12),N(M12)>0,N(N12)>ROUND(H12-N(I12),3)),"Reasignar sobrante",IF(AND(ISNUMBER(N12),N12>ROUND(AM12-N(I12),3)),"Revisar excedente",IF(AND(ISNUMBER(H12),L12<>"Sí",NOT(AND(N(M12)>0,J12=0))),"Por confirmar",IF(J12=0,"Hecho",IF(AND(ISNUMBER(N12),N12>0),"Completar","Preparar"))))))))))))))))))))))))))))))) -> Previsión | AC12: =IF(OR(W12<>"",AJ12=0),0,IF(COUNTIFS($A$9:$A$128,A12,$AJ$9:$AJ$128,1,$D$9:$D$128,"<="&E12,$E$9:$E$128,">="&D12)>1,1,0)) -> 0 | AD12: =IF(OR(NOT(ISNUMBER(B12)),A12="",NOT(ISNUMBER(Z12)),Z12<=0),0,IF(COUNTIFS($A$9:A12,A12,$B$9:B12,B12,$Z$9:Z12,">0")=1,1,0)) -> 0 | AE12: =IF(OR(AK12<=0,AC12=1),0,IF(AND(A12="Tsue",NOT(AND(ISBLANK(H12),L12="Adelanto"))),IF(ISNUMBER(C12),SUMIFS($H$9:$H$128,$A$9:$A$128,A12,$C$9:$C$128,C12,$AC$9:$AC$128,0,$H$9:$H$128,">0"),0),IF(ISNUMBER(Z12),Z12,0))) -> 0 | AF12: =IF(OR(AE12<=0,AK12<=0),0,IF(ABS(AE12/AK12-ROUND(AE12/AK12,0))>0.000001,1,0)) -> 0 | AG12: =IF(OR(AF12=0,AK12<=0),"",IF(A12="Tsue","Retiro: ","Tanda: ")&ROUND(AE12,3)&" "&F12&". Acordar "&INT(AE12/AK12)&" o "&ROUNDUP(AE12/AK12,0)&IF(A12="Tsue"," envases de 5 L."," porciones de 500 g.")) | AH12: =IF(COUNTA(A12:E12,H12:I12,K12:L12,N12)=0,0,IF(OR(NOT(ISNUMBER(B12)),B12<'Por semana'!$C$45,B12>'Por semana'!$J$46+6),1,0)) -> 0 | AI12: =IF(OR(AC12=1,A12=""),0,IF(ISNUMBER(H12),MAX(0,H12),IF(ISNUMBER(G12),G12,0))) -> 13 | AJ12: =IF(OR(A12="",NOT(ISNUMBER(D12)),NOT(ISNUMBER(E12)),AND(ISNUMBER(H12),H12=0)),0,1) -> 1 | AK12: =IF(R12=0,0,IFERROR(INDEX(criterio!$J$11:$J$22,R12)+0,0)) -> 0 | AL12: =IF(AC12=1,"Usar la fila ya prevista",IF(AND(AF12=1,OR(AB12="Preparar",AB12="Completar",AB12="Por confirmar"),AA12=""),"Acordar envases",IF(AND(OR(AB12="Previsión",AB12="Por confirmar",AB12="Preparar",AB12="Completar"),AA12<>""),AA12,AB12))) -> Previsión | AM12: =IF(ISNUMBER(H12),H12,IF(AND(ISBLANK(H12),L12="Adelanto",ISNUMBER(M12),M12>0),M12,""))
A13: Tsue | B13: 46343 | C13: 46356 | D13: 46357 | E13: 46371 | F13: =IF(R13=0,"",INDEX(criterio!$B$11:$B$22,R13)) -> L | G13: =IFERROR(IF(INDEX(criterio!$B$31:$B$111,MATCH(W13,criterio!$A$31:$A$111,0))=A13,INDEX(criterio!$C$31:$C$111,MATCH(W13,criterio!$A$31:$A$111,0)),""),"") -> 20 | J13: =IF(AND(ISNUMBER(AM13),OR(ISBLANK(H13),ISNUMBER(I13))),MAX(0,ROUND(AM13-IF(ISBLANK(H13),0,N(I13))-N(N13),3)),"") | O13: =IF(AL13="Reasignar sobrante","Sobran "&ROUND(N13-MAX(0,H13-N(I13)),3)&" "&F13&" para stock",IF(AND(ISNUMBER(H13),L13="Adelanto",AL13="Por confirmar"),IF(J13>0,IF(J13=1,"Falta ","Faltan ")&ROUND(J13,3)&" "&F13&". Elegí «Sí»"&CHAR(10)&"en «¿Mandar a preparar?».","No falta producir."),IF(AL13="Acordar envases",AL13&" ("&INT(AE13/AK13)&" o "&ROUNDUP(AE13/AK13,0)&")",AL13)&IF(P13="","",CHAR(10)&"Adelanto movido al pico"))) -> Previsión | P13: =IFERROR(IF(AND(INDEX(criterio!$I$31:$I$111,MATCH(W13,criterio!$A$31:$A$111,0))=1,INDEX(criterio!$B$31:$B$111,MATCH(W13,criterio!$A$31:$A$111,0))=A13,ISNUMBER(B13),B13>=criterio!$B$5,D13<=criterio!$B$6,E13>=criterio!$B$5),"Fuera de la previa del 20/12",""),"") | Q13: =IF(AND(R13>0,ISNUMBER(B13)),IF(U13="mes",EDATE(B13,T13),B13+T13),"") -> 46373 | R13: =IFERROR(MATCH(A13,criterio!$A$11:$A$22,0),0) -> 8 | S13: =IF(R13=0,"",INDEX(criterio!$E$11:$E$22,R13)) -> 0 | T13: =IF(R13=0,"",INDEX(criterio!$C$11:$C$22,R13)) -> 1 | U13: =IF(R13=0,"",INDEX(criterio!$D$11:$D$22,R13)) -> mes | V13: =IF(AND(ISNUMBER(B13),B13=Turno!$B$3,OR(AL13="Preparar",AL13="Completar")),MAX($V$8:V12)+1,0) -> 0 | W13: T005 | Y13: =IF(R13=0,"",INDEX(criterio!$I$11:$I$22,R13)) -> Lugar fresco y seco, 15–30 °C. Proteger de luz y calor. | Z13: =IF(AC13=1,0,IF(A13="","",IF(ISNUMBER(H13),MAX(IF(ISNUMBER(N13),N13,0),H13-IF(ISNUMBER(I13),I13,0),0),IF(ISNUMBER(AM13),MAX(AM13,N(N13)),IF(ISNUMBER(G13),MAX(G13,N(N13)),N(N13)))))) -> 20 | AA13: =IF(OR(A13="",COUNT(B13:C13)<>2),"",IF(OR(WEEKDAY(B13,2)>5,COUNTIF(criterio!$B$25:$E$25,B13)>0),"Cambiar día de elaboración",IF(OR(WEEKDAY(C13,2)>5,COUNTIF(criterio!$B$25:$E$25,C13)>0),"Cambiar día de retiro",IF(SUMIF($B$9:$B$128,B13,$AD$9:$AD$128)>criterio!$D$26,"Más de dos recetas",IF(OR(A13="",NOT(ISNUMBER(B13))),"",IF(OR(NOT(ISNUMBER($Q$2)),NOT(ISNUMBER($Q$3)),$Q$2<=0,$Q$3<=0),"Revisar topes de carga",IF(SUMIFS($Z$9:$Z$128,$B$9:$B$128,B13,$F$9:$F$128,"kg")/$Q$2+SUMIFS($Z$9:$Z$128,$B$9:$B$128,B13,$F$9:$F$128,"L")/$Q$3>1.000001,"Repartir carga del día",""))))))) | AB13: =IF(COUNTA(A13:E13,H13:I13,K13:N13)=0,"",IF(R13=0,"Elegir producto",IF(COUNT(B13:E13)<>4,"Completar fechas",IF(E13<D13,"Revisar días de uso",IF(C13+criterio!$B$3>D13,"El retiro llega tarde",IF(AND(N13<>"",OR(NOT(ISNUMBER(N13)),N13<0)),"Revisar cantidad hecha",IF(AND(M13<>"",OR(NOT(ISNUMBER(M13)),M13<0)),"Revisar cant. a adelantar",IF(AND(AND(ISBLANK(H13),L13="Adelanto"),NOT(ISNUMBER(AM13))),"Cargar cant. a adelantar",IF(AND(AND(ISBLANK(H13),L13="Adelanto"),I13<>"",OR(NOT(ISNUMBER(I13)),I13<>0)),"Revisar stock del adelanto",IF(AND(ISNUMBER(N13),N13>0,L13<>"Sí",L13<>"Adelanto",N(M13)<=0),"Hecho sin liberar",IF(AND(ISBLANK(H13),L13<>"Adelanto",OR(I13<>"",L13="Sí")),"Falta pedido real",IF(AND(H13<>"",OR(NOT(ISNUMBER(H13)),H13<0)),"Revisar pedido",IF(AND(ISNUMBER(H13),H13=0,N(M13)>0,N(N13)>0,N(I13)=0),"Reasignar sobrante",IF(AND(ISNUMBER(H13),H13=0,OR(N13>0,I13>0)),"Revisar pedido y cantidades",IF(AND(ISNUMBER(H13),H13=0),"Sin pedido",IF(AND(ISNUMBER(H13),ISBLANK(I13)),"Falta anotar stock",IF(AND(I13<>"",OR(NOT(ISNUMBER(I13)),I13<0,AND(ISNUMBER(H13),I13>H13))),"Revisar stock asignado",IF(AND(ISNUMBER(I13),I13>0,NOT(ISNUMBER(K13))),"Falta vencimiento de stock",IF(AND(ISNUMBER(I13),I13>0,K13<E13+criterio!$B$4),"El stock no cubre el uso",IF(AND(ISNUMBER(H13),ISNUMBER(I13),H13=I13,OR(N13="",N13=0)),"Cubierto con stock",IF(B13=criterio!$B$25,"Jornada bloqueada",IF(B13+S13>C13,"No llega al retiro",IF(Q13<E13,"Vence antes del último uso",IF(Q13<E13+criterio!$B$4,"Falta margen de vida útil",IF(AND(ISBLANK(H13),L13<>"Adelanto",N(N13)>0,N(M13)>0),"Adelanto en pausa",IF(NOT(ISNUMBER(AM13)),"Previsión",IF(AND(ISNUMBER(H13),N(M13)>0,N(N13)>ROUND(H13-N(I13),3)),"Reasignar sobrante",IF(AND(ISNUMBER(N13),N13>ROUND(AM13-N(I13),3)),"Revisar excedente",IF(AND(ISNUMBER(H13),L13<>"Sí",NOT(AND(N(M13)>0,J13=0))),"Por confirmar",IF(J13=0,"Hecho",IF(AND(ISNUMBER(N13),N13>0),"Completar","Preparar"))))))))))))))))))))))))))))))) -> Previsión | AC13: =IF(OR(W13<>"",AJ13=0),0,IF(COUNTIFS($A$9:$A$128,A13,$AJ$9:$AJ$128,1,$D$9:$D$128,"<="&E13,$E$9:$E$128,">="&D13)>1,1,0)) -> 0 | AD13: =IF(OR(NOT(ISNUMBER(B13)),A13="",NOT(ISNUMBER(Z13)),Z13<=0),0,IF(COUNTIFS($A$9:A13,A13,$B$9:B13,B13,$Z$9:Z13,">0")=1,1,0)) -> 1 | AE13: =IF(OR(AK13<=0,AC13=1),0,IF(AND(A13="Tsue",NOT(AND(ISBLANK(H13),L13="Adelanto"))),IF(ISNUMBER(C13),SUMIFS($H$9:$H$128,$A$9:$A$128,A13,$C$9:$C$128,C13,$AC$9:$AC$128,0,$H$9:$H$128,">0"),0),IF(ISNUMBER(Z13),Z13,0))) -> 0 | AF13: =IF(OR(AE13<=0,AK13<=0),0,IF(ABS(AE13/AK13-ROUND(AE13/AK13,0))>0.000001,1,0)) -> 0 | AG13: =IF(OR(AF13=0,AK13<=0),"",IF(A13="Tsue","Retiro: ","Tanda: ")&ROUND(AE13,3)&" "&F13&". Acordar "&INT(AE13/AK13)&" o "&ROUNDUP(AE13/AK13,0)&IF(A13="Tsue"," envases de 5 L."," porciones de 500 g.")) | AH13: =IF(COUNTA(A13:E13,H13:I13,K13:L13,N13)=0,0,IF(OR(NOT(ISNUMBER(B13)),B13<'Por semana'!$C$45,B13>'Por semana'!$J$46+6),1,0)) -> 0 | AI13: =IF(OR(AC13=1,A13=""),0,IF(ISNUMBER(H13),MAX(0,H13),IF(ISNUMBER(G13),G13,0))) -> 20 | AJ13: =IF(OR(A13="",NOT(ISNUMBER(D13)),NOT(ISNUMBER(E13)),AND(ISNUMBER(H13),H13=0)),0,1) -> 1 | AK13: =IF(R13=0,0,IFERROR(INDEX(criterio!$J$11:$J$22,R13)+0,0)) -> 5 | AL13: =IF(AC13=1,"Usar la fila ya prevista",IF(AND(AF13=1,OR(AB13="Preparar",AB13="Completar",AB13="Por confirmar"),AA13=""),"Acordar envases",IF(AND(OR(AB13="Previsión",AB13="Por confirmar",AB13="Preparar",AB13="Completar"),AA13<>""),AA13,AB13))) -> Previsión | AM13: =IF(ISNUMBER(H13),H13,IF(AND(ISBLANK(H13),L13="Adelanto",ISNUMBER(M13),M13>0),M13,""))
A14: Furilot | B14: 46344 | C14: 46356 | D14: 46357 | E14: 46371 | F14: =IF(R14=0,"",INDEX(criterio!$B$11:$B$22,R14)) -> kg | G14: =IFERROR(IF(INDEX(criterio!$B$31:$B$111,MATCH(W14,criterio!$A$31:$A$111,0))=A14,INDEX(criterio!$C$31:$C$111,MATCH(W14,criterio!$A$31:$A$111,0)),""),"") -> 3 | J14: =IF(AND(ISNUMBER(AM14),OR(ISBLANK(H14),ISNUMBER(I14))),MAX(0,ROUND(AM14-IF(ISBLANK(H14),0,N(I14))-N(N14),3)),"") | O14: =IF(AL14="Reasignar sobrante","Sobran "&ROUND(N14-MAX(0,H14-N(I14)),3)&" "&F14&" para stock",IF(AND(ISNUMBER(H14),L14="Adelanto",AL14="Por confirmar"),IF(J14>0,IF(J14=1,"Falta ","Faltan ")&ROUND(J14,3)&" "&F14&". Elegí «Sí»"&CHAR(10)&"en «¿Mandar a preparar?».","No falta producir."),IF(AL14="Acordar envases",AL14&" ("&INT(AE14/AK14)&" o "&ROUNDUP(AE14/AK14,0)&")",AL14)&IF(P14="","",CHAR(10)&"Adelanto movido al pico"))) -> Previsión | P14: =IFERROR(IF(AND(INDEX(criterio!$I$31:$I$111,MATCH(W14,criterio!$A$31:$A$111,0))=1,INDEX(criterio!$B$31:$B$111,MATCH(W14,criterio!$A$31:$A$111,0))=A14,ISNUMBER(B14),B14>=criterio!$B$5,D14<=criterio!$B$6,E14>=criterio!$B$5),"Fuera de la previa del 20/12",""),"") | Q14: =IF(AND(R14>0,ISNUMBER(B14)),IF(U14="mes",EDATE(B14,T14),B14+T14),"") -> 46404 | R14: =IFERROR(MATCH(A14,criterio!$A$11:$A$22,0),0) -> 4 | S14: =IF(R14=0,"",INDEX(criterio!$E$11:$E$22,R14)) -> 0 | T14: =IF(R14=0,"",INDEX(criterio!$C$11:$C$22,R14)) -> 60 | U14: =IF(R14=0,"",INDEX(criterio!$D$11:$D$22,R14)) -> días | V14: =IF(AND(ISNUMBER(B14),B14=Turno!$B$3,OR(AL14="Preparar",AL14="Completar")),MAX($V$8:V13)+1,0) -> 0 | W14: T006 | Y14: =IF(R14=0,"",INDEX(criterio!$I$11:$I$22,R14)) -> Seco, cerrado y sin humedad. Abierto: 7 días, sin superar vencimiento. | Z14: =IF(AC14=1,0,IF(A14="","",IF(ISNUMBER(H14),MAX(IF(ISNUMBER(N14),N14,0),H14-IF(ISNUMBER(I14),I14,0),0),IF(ISNUMBER(AM14),MAX(AM14,N(N14)),IF(ISNUMBER(G14),MAX(G14,N(N14)),N(N14)))))) -> 3 | AA14: =IF(OR(A14="",COUNT(B14:C14)<>2),"",IF(OR(WEEKDAY(B14,2)>5,COUNTIF(criterio!$B$25:$E$25,B14)>0),"Cambiar día de elaboración",IF(OR(WEEKDAY(C14,2)>5,COUNTIF(criterio!$B$25:$E$25,C14)>0),"Cambiar día de retiro",IF(SUMIF($B$9:$B$128,B14,$AD$9:$AD$128)>criterio!$D$26,"Más de dos recetas",IF(OR(A14="",NOT(ISNUMBER(B14))),"",IF(OR(NOT(ISNUMBER($Q$2)),NOT(ISNUMBER($Q$3)),$Q$2<=0,$Q$3<=0),"Revisar topes de carga",IF(SUMIFS($Z$9:$Z$128,$B$9:$B$128,B14,$F$9:$F$128,"kg")/$Q$2+SUMIFS($Z$9:$Z$128,$B$9:$B$128,B14,$F$9:$F$128,"L")/$Q$3>1.000001,"Repartir carga del día",""))))))) | AB14: =IF(COUNTA(A14:E14,H14:I14,K14:N14)=0,"",IF(R14=0,"Elegir producto",IF(COUNT(B14:E14)<>4,"Completar fechas",IF(E14<D14,"Revisar días de uso",IF(C14+criterio!$B$3>D14,"El retiro llega tarde",IF(AND(N14<>"",OR(NOT(ISNUMBER(N14)),N14<0)),"Revisar cantidad hecha",IF(AND(M14<>"",OR(NOT(ISNUMBER(M14)),M14<0)),"Revisar cant. a adelantar",IF(AND(AND(ISBLANK(H14),L14="Adelanto"),NOT(ISNUMBER(AM14))),"Cargar cant. a adelantar",IF(AND(AND(ISBLANK(H14),L14="Adelanto"),I14<>"",OR(NOT(ISNUMBER(I14)),I14<>0)),"Revisar stock del adelanto",IF(AND(ISNUMBER(N14),N14>0,L14<>"Sí",L14<>"Adelanto",N(M14)<=0),"Hecho sin liberar",IF(AND(ISBLANK(H14),L14<>"Adelanto",OR(I14<>"",L14="Sí")),"Falta pedido real",IF(AND(H14<>"",OR(NOT(ISNUMBER(H14)),H14<0)),"Revisar pedido",IF(AND(ISNUMBER(H14),H14=0,N(M14)>0,N(N14)>0,N(I14)=0),"Reasignar sobrante",IF(AND(ISNUMBER(H14),H14=0,OR(N14>0,I14>0)),"Revisar pedido y cantidades",IF(AND(ISNUMBER(H14),H14=0),"Sin pedido",IF(AND(ISNUMBER(H14),ISBLANK(I14)),"Falta anotar stock",IF(AND(I14<>"",OR(NOT(ISNUMBER(I14)),I14<0,AND(ISNUMBER(H14),I14>H14))),"Revisar stock asignado",IF(AND(ISNUMBER(I14),I14>0,NOT(ISNUMBER(K14))),"Falta vencimiento de stock",IF(AND(ISNUMBER(I14),I14>0,K14<E14+criterio!$B$4),"El stock no cubre el uso",IF(AND(ISNUMBER(H14),ISNUMBER(I14),H14=I14,OR(N14="",N14=0)),"Cubierto con stock",IF(B14=criterio!$B$25,"Jornada bloqueada",IF(B14+S14>C14,"No llega al retiro",IF(Q14<E14,"Vence antes del último uso",IF(Q14<E14+criterio!$B$4,"Falta margen de vida útil",IF(AND(ISBLANK(H14),L14<>"Adelanto",N(N14)>0,N(M14)>0),"Adelanto en pausa",IF(NOT(ISNUMBER(AM14)),"Previsión",IF(AND(ISNUMBER(H14),N(M14)>0,N(N14)>ROUND(H14-N(I14),3)),"Reasignar sobrante",IF(AND(ISNUMBER(N14),N14>ROUND(AM14-N(I14),3)),"Revisar excedente",IF(AND(ISNUMBER(H14),L14<>"Sí",NOT(AND(N(M14)>0,J14=0))),"Por confirmar",IF(J14=0,"Hecho",IF(AND(ISNUMBER(N14),N14>0),"Completar","Preparar"))))))))))))))))))))))))))))))) -> Previsión | AC14: =IF(OR(W14<>"",AJ14=0),0,IF(COUNTIFS($A$9:$A$128,A14,$AJ$9:$AJ$128,1,$D$9:$D$128,"<="&E14,$E$9:$E$128,">="&D14)>1,1,0)) -> 0 | AD14: =IF(OR(NOT(ISNUMBER(B14)),A14="",NOT(ISNUMBER(Z14)),Z14<=0),0,IF(COUNTIFS($A$9:A14,A14,$B$9:B14,B14,$Z$9:Z14,">0")=1,1,0)) -> 1 | AE14: =IF(OR(AK14<=0,AC14=1),0,IF(AND(A14="Tsue",NOT(AND(ISBLANK(H14),L14="Adelanto"))),IF(ISNUMBER(C14),SUMIFS($H$9:$H$128,$A$9:$A$128,A14,$C$9:$C$128,C14,$AC$9:$AC$128,0,$H$9:$H$128,">0"),0),IF(ISNUMBER(Z14),Z14,0))) -> 0 | AF14: =IF(OR(AE14<=0,AK14<=0),0,IF(ABS(AE14/AK14-ROUND(AE14/AK14,0))>0.000001,1,0)) -> 0 | AG14: =IF(OR(AF14=0,AK14<=0),"",IF(A14="Tsue","Retiro: ","Tanda: ")&ROUND(AE14,3)&" "&F14&". Acordar "&INT(AE14/AK14)&" o "&ROUNDUP(AE14/AK14,0)&IF(A14="Tsue"," envases de 5 L."," porciones de 500 g.")) | AH14: =IF(COUNTA(A14:E14,H14:I14,K14:L14,N14)=0,0,IF(OR(NOT(ISNUMBER(B14)),B14<'Por semana'!$C$45,B14>'Por semana'!$J$46+6),1,0)) -> 0 | AI14: =IF(OR(AC14=1,A14=""),0,IF(ISNUMBER(H14),MAX(0,H14),IF(ISNUMBER(G14),G14,0))) -> 3 | AJ14: =IF(OR(A14="",NOT(ISNUMBER(D14)),NOT(ISNUMBER(E14)),AND(ISNUMBER(H14),H14=0)),0,1) -> 1 | AK14: =IF(R14=0,0,IFERROR(INDEX(criterio!$J$11:$J$22,R14)+0,0)) -> 0 | AL14: =IF(AC14=1,"Usar la fila ya prevista",IF(AND(AF14=1,OR(AB14="Preparar",AB14="Completar",AB14="Por confirmar"),AA14=""),"Acordar envases",IF(AND(OR(AB14="Previsión",AB14="Por confirmar",AB14="Preparar",AB14="Completar"),AA14<>""),AA14,AB14))) -> Previsión | AM14: =IF(ISNUMBER(H14),H14,IF(AND(ISBLANK(H14),L14="Adelanto",ISNUMBER(M14),M14>0),M14,""))
A15: Furilot | B15: 46344 | C15: 46371 | D15: 46372 | E15: 46387 | F15: =IF(R15=0,"",INDEX(criterio!$B$11:$B$22,R15)) -> kg | G15: =IFERROR(IF(INDEX(criterio!$B$31:$B$111,MATCH(W15,criterio!$A$31:$A$111,0))=A15,INDEX(criterio!$C$31:$C$111,MATCH(W15,criterio!$A$31:$A$111,0)),""),"") -> 4 | J15: =IF(AND(ISNUMBER(AM15),OR(ISBLANK(H15),ISNUMBER(I15))),MAX(0,ROUND(AM15-IF(ISBLANK(H15),0,N(I15))-N(N15),3)),"") | O15: =IF(AL15="Reasignar sobrante","Sobran "&ROUND(N15-MAX(0,H15-N(I15)),3)&" "&F15&" para stock",IF(AND(ISNUMBER(H15),L15="Adelanto",AL15="Por confirmar"),IF(J15>0,IF(J15=1,"Falta ","Faltan ")&ROUND(J15,3)&" "&F15&". Elegí «Sí»"&CHAR(10)&"en «¿Mandar a preparar?».","No falta producir."),IF(AL15="Acordar envases",AL15&" ("&INT(AE15/AK15)&" o "&ROUNDUP(AE15/AK15,0)&")",AL15)&IF(P15="","",CHAR(10)&"Adelanto movido al pico"))) -> Previsión | P15: =IFERROR(IF(AND(INDEX(criterio!$I$31:$I$111,MATCH(W15,criterio!$A$31:$A$111,0))=1,INDEX(criterio!$B$31:$B$111,MATCH(W15,criterio!$A$31:$A$111,0))=A15,ISNUMBER(B15),B15>=criterio!$B$5,D15<=criterio!$B$6,E15>=criterio!$B$5),"Fuera de la previa del 20/12",""),"") | Q15: =IF(AND(R15>0,ISNUMBER(B15)),IF(U15="mes",EDATE(B15,T15),B15+T15),"") -> 46404 | R15: =IFERROR(MATCH(A15,criterio!$A$11:$A$22,0),0) -> 4 | S15: =IF(R15=0,"",INDEX(criterio!$E$11:$E$22,R15)) -> 0 | T15: =IF(R15=0,"",INDEX(criterio!$C$11:$C$22,R15)) -> 60 | U15: =IF(R15=0,"",INDEX(criterio!$D$11:$D$22,R15)) -> días | V15: =IF(AND(ISNUMBER(B15),B15=Turno!$B$3,OR(AL15="Preparar",AL15="Completar")),MAX($V$8:V14)+1,0) -> 0 | W15: T007 | Y15: =IF(R15=0,"",INDEX(criterio!$I$11:$I$22,R15)) -> Seco, cerrado y sin humedad. Abierto: 7 días, sin superar vencimiento. | Z15: =IF(AC15=1,0,IF(A15="","",IF(ISNUMBER(H15),MAX(IF(ISNUMBER(N15),N15,0),H15-IF(ISNUMBER(I15),I15,0),0),IF(ISNUMBER(AM15),MAX(AM15,N(N15)),IF(ISNUMBER(G15),MAX(G15,N(N15)),N(N15)))))) -> 4 | AA15: =IF(OR(A15="",COUNT(B15:C15)<>2),"",IF(OR(WEEKDAY(B15,2)>5,COUNTIF(criterio!$B$25:$E$25,B15)>0),"Cambiar día de elaboración",IF(OR(WEEKDAY(C15,2)>5,COUNTIF(criterio!$B$25:$E$25,C15)>0),"Cambiar día de retiro",IF(SUMIF($B$9:$B$128,B15,$AD$9:$AD$128)>criterio!$D$26,"Más de dos recetas",IF(OR(A15="",NOT(ISNUMBER(B15))),"",IF(OR(NOT(ISNUMBER($Q$2)),NOT(ISNUMBER($Q$3)),$Q$2<=0,$Q$3<=0),"Revisar topes de carga",IF(SUMIFS($Z$9:$Z$128,$B$9:$B$128,B15,$F$9:$F$128,"kg")/$Q$2+SUMIFS($Z$9:$Z$128,$B$9:$B$128,B15,$F$9:$F$128,"L")/$Q$3>1.000001,"Repartir carga del día",""))))))) | AB15: =IF(COUNTA(A15:E15,H15:I15,K15:N15)=0,"",IF(R15=0,"Elegir producto",IF(COUNT(B15:E15)<>4,"Completar fechas",IF(E15<D15,"Revisar días de uso",IF(C15+criterio!$B$3>D15,"El retiro llega tarde",IF(AND(N15<>"",OR(NOT(ISNUMBER(N15)),N15<0)),"Revisar cantidad hecha",IF(AND(M15<>"",OR(NOT(ISNUMBER(M15)),M15<0)),"Revisar cant. a adelantar",IF(AND(AND(ISBLANK(H15),L15="Adelanto"),NOT(ISNUMBER(AM15))),"Cargar cant. a adelantar",IF(AND(AND(ISBLANK(H15),L15="Adelanto"),I15<>"",OR(NOT(ISNUMBER(I15)),I15<>0)),"Revisar stock del adelanto",IF(AND(ISNUMBER(N15),N15>0,L15<>"Sí",L15<>"Adelanto",N(M15)<=0),"Hecho sin liberar",IF(AND(ISBLANK(H15),L15<>"Adelanto",OR(I15<>"",L15="Sí")),"Falta pedido real",IF(AND(H15<>"",OR(NOT(ISNUMBER(H15)),H15<0)),"Revisar pedido",IF(AND(ISNUMBER(H15),H15=0,N(M15)>0,N(N15)>0,N(I15)=0),"Reasignar sobrante",IF(AND(ISNUMBER(H15),H15=0,OR(N15>0,I15>0)),"Revisar pedido y cantidades",IF(AND(ISNUMBER(H15),H15=0),"Sin pedido",IF(AND(ISNUMBER(H15),ISBLANK(I15)),"Falta anotar stock",IF(AND(I15<>"",OR(NOT(ISNUMBER(I15)),I15<0,AND(ISNUMBER(H15),I15>H15))),"Revisar stock asignado",IF(AND(ISNUMBER(I15),I15>0,NOT(ISNUMBER(K15))),"Falta vencimiento de stock",IF(AND(ISNUMBER(I15),I15>0,K15<E15+criterio!$B$4),"El stock no cubre el uso",IF(AND(ISNUMBER(H15),ISNUMBER(I15),H15=I15,OR(N15="",N15=0)),"Cubierto con stock",IF(B15=criterio!$B$25,"Jornada bloqueada",IF(B15+S15>C15,"No llega al retiro",IF(Q15<E15,"Vence antes del último uso",IF(Q15<E15+criterio!$B$4,"Falta margen de vida útil",IF(AND(ISBLANK(H15),L15<>"Adelanto",N(N15)>0,N(M15)>0),"Adelanto en pausa",IF(NOT(ISNUMBER(AM15)),"Previsión",IF(AND(ISNUMBER(H15),N(M15)>0,N(N15)>ROUND(H15-N(I15),3)),"Reasignar sobrante",IF(AND(ISNUMBER(N15),N15>ROUND(AM15-N(I15),3)),"Revisar excedente",IF(AND(ISNUMBER(H15),L15<>"Sí",NOT(AND(N(M15)>0,J15=0))),"Por confirmar",IF(J15=0,"Hecho",IF(AND(ISNUMBER(N15),N15>0),"Completar","Preparar"))))))))))))))))))))))))))))))) -> Previsión | AC15: =IF(OR(W15<>"",AJ15=0),0,IF(COUNTIFS($A$9:$A$128,A15,$AJ$9:$AJ$128,1,$D$9:$D$128,"<="&E15,$E$9:$E$128,">="&D15)>1,1,0)) -> 0 | AD15: =IF(OR(NOT(ISNUMBER(B15)),A15="",NOT(ISNUMBER(Z15)),Z15<=0),0,IF(COUNTIFS($A$9:A15,A15,$B$9:B15,B15,$Z$9:Z15,">0")=1,1,0)) -> 0 | AE15: =IF(OR(AK15<=0,AC15=1),0,IF(AND(A15="Tsue",NOT(AND(ISBLANK(H15),L15="Adelanto"))),IF(ISNUMBER(C15),SUMIFS($H$9:$H$128,$A$9:$A$128,A15,$C$9:$C$128,C15,$AC$9:$AC$128,0,$H$9:$H$128,">0"),0),IF(ISNUMBER(Z15),Z15,0))) -> 0 | AF15: =IF(OR(AE15<=0,AK15<=0),0,IF(ABS(AE15/AK15-ROUND(AE15/AK15,0))>0.000001,1,0)) -> 0 | AG15: =IF(OR(AF15=0,AK15<=0),"",IF(A15="Tsue","Retiro: ","Tanda: ")&ROUND(AE15,3)&" "&F15&". Acordar "&INT(AE15/AK15)&" o "&ROUNDUP(AE15/AK15,0)&IF(A15="Tsue"," envases de 5 L."," porciones de 500 g.")) | AH15: =IF(COUNTA(A15:E15,H15:I15,K15:L15,N15)=0,0,IF(OR(NOT(ISNUMBER(B15)),B15<'Por semana'!$C$45,B15>'Por semana'!$J$46+6),1,0)) -> 0 | AI15: =IF(OR(AC15=1,A15=""),0,IF(ISNUMBER(H15),MAX(0,H15),IF(ISNUMBER(G15),G15,0))) -> 4 | AJ15: =IF(OR(A15="",NOT(ISNUMBER(D15)),NOT(ISNUMBER(E15)),AND(ISNUMBER(H15),H15=0)),0,1) -> 1 | AK15: =IF(R15=0,0,IFERROR(INDEX(criterio!$J$11:$J$22,R15)+0,0)) -> 0 | AL15: =IF(AC15=1,"Usar la fila ya prevista",IF(AND(AF15=1,OR(AB15="Preparar",AB15="Completar",AB15="Por confirmar"),AA15=""),"Acordar envases",IF(AND(OR(AB15="Previsión",AB15="Por confirmar",AB15="Preparar",AB15="Completar"),AA15<>""),AA15,AB15))) -> Previsión | AM15: =IF(ISNUMBER(H15),H15,IF(AND(ISBLANK(H15),L15="Adelanto",ISNUMBER(M15),M15>0),M15,""))
A16: Furilot | B16: 46344 | C16: 46386 | D16: 46388 | E16: 46402 | F16: =IF(R16=0,"",INDEX(criterio!$B$11:$B$22,R16)) -> kg | G16: =IFERROR(IF(INDEX(criterio!$B$31:$B$111,MATCH(W16,criterio!$A$31:$A$111,0))=A16,INDEX(criterio!$C$31:$C$111,MATCH(W16,criterio!$A$31:$A$111,0)),""),"") -> 7 | J16: =IF(AND(ISNUMBER(AM16),OR(ISBLANK(H16),ISNUMBER(I16))),MAX(0,ROUND(AM16-IF(ISBLANK(H16),0,N(I16))-N(N16),3)),"") | O16: =IF(AL16="Reasignar sobrante","Sobran "&ROUND(N16-MAX(0,H16-N(I16)),3)&" "&F16&" para stock",IF(AND(ISNUMBER(H16),L16="Adelanto",AL16="Por confirmar"),IF(J16>0,IF(J16=1,"Falta ","Faltan ")&ROUND(J16,3)&" "&F16&". Elegí «Sí»"&CHAR(10)&"en «¿Mandar a preparar?».","No falta producir."),IF(AL16="Acordar envases",AL16&" ("&INT(AE16/AK16)&" o "&ROUNDUP(AE16/AK16,0)&")",AL16)&IF(P16="","",CHAR(10)&"Adelanto movido al pico"))) -> Previsión | P16: =IFERROR(IF(AND(INDEX(criterio!$I$31:$I$111,MATCH(W16,criterio!$A$31:$A$111,0))=1,INDEX(criterio!$B$31:$B$111,MATCH(W16,criterio!$A$31:$A$111,0))=A16,ISNUMBER(B16),B16>=criterio!$B$5,D16<=criterio!$B$6,E16>=criterio!$B$5),"Fuera de la previa del 20/12",""),"") | Q16: =IF(AND(R16>0,ISNUMBER(B16)),IF(U16="mes",EDATE(B16,T16),B16+T16),"") -> 46404 | R16: =IFERROR(MATCH(A16,criterio!$A$11:$A$22,0),0) -> 4 | S16: =IF(R16=0,"",INDEX(criterio!$E$11:$E$22,R16)) -> 0 | T16: =IF(R16=0,"",INDEX(criterio!$C$11:$C$22,R16)) -> 60 | U16: =IF(R16=0,"",INDEX(criterio!$D$11:$D$22,R16)) -> días | V16: =IF(AND(ISNUMBER(B16),B16=Turno!$B$3,OR(AL16="Preparar",AL16="Completar")),MAX($V$8:V15)+1,0) -> 0 | W16: T008 | Y16: =IF(R16=0,"",INDEX(criterio!$I$11:$I$22,R16)) -> Seco, cerrado y sin humedad. Abierto: 7 días, sin superar vencimiento. | Z16: =IF(AC16=1,0,IF(A16="","",IF(ISNUMBER(H16),MAX(IF(ISNUMBER(N16),N16,0),H16-IF(ISNUMBER(I16),I16,0),0),IF(ISNUMBER(AM16),MAX(AM16,N(N16)),IF(ISNUMBER(G16),MAX(G16,N(N16)),N(N16)))))) -> 7 | AA16: =IF(OR(A16="",COUNT(B16:C16)<>2),"",IF(OR(WEEKDAY(B16,2)>5,COUNTIF(criterio!$B$25:$E$25,B16)>0),"Cambiar día de elaboración",IF(OR(WEEKDAY(C16,2)>5,COUNTIF(criterio!$B$25:$E$25,C16)>0),"Cambiar día de retiro",IF(SUMIF($B$9:$B$128,B16,$AD$9:$AD$128)>criterio!$D$26,"Más de dos recetas",IF(OR(A16="",NOT(ISNUMBER(B16))),"",IF(OR(NOT(ISNUMBER($Q$2)),NOT(ISNUMBER($Q$3)),$Q$2<=0,$Q$3<=0),"Revisar topes de carga",IF(SUMIFS($Z$9:$Z$128,$B$9:$B$128,B16,$F$9:$F$128,"kg")/$Q$2+SUMIFS($Z$9:$Z$128,$B$9:$B$128,B16,$F$9:$F$128,"L")/$Q$3>1.000001,"Repartir carga del día",""))))))) | AB16: =IF(COUNTA(A16:E16,H16:I16,K16:N16)=0,"",IF(R16=0,"Elegir producto",IF(COUNT(B16:E16)<>4,"Completar fechas",IF(E16<D16,"Revisar días de uso",IF(C16+criterio!$B$3>D16,"El retiro llega tarde",IF(AND(N16<>"",OR(NOT(ISNUMBER(N16)),N16<0)),"Revisar cantidad hecha",IF(AND(M16<>"",OR(NOT(ISNUMBER(M16)),M16<0)),"Revisar cant. a adelantar",IF(AND(AND(ISBLANK(H16),L16="Adelanto"),NOT(ISNUMBER(AM16))),"Cargar cant. a adelantar",IF(AND(AND(ISBLANK(H16),L16="Adelanto"),I16<>"",OR(NOT(ISNUMBER(I16)),I16<>0)),"Revisar stock del adelanto",IF(AND(ISNUMBER(N16),N16>0,L16<>"Sí",L16<>"Adelanto",N(M16)<=0),"Hecho sin liberar",IF(AND(ISBLANK(H16),L16<>"Adelanto",OR(I16<>"",L16="Sí")),"Falta pedido real",IF(AND(H16<>"",OR(NOT(ISNUMBER(H16)),H16<0)),"Revisar pedido",IF(AND(ISNUMBER(H16),H16=0,N(M16)>0,N(N16)>0,N(I16)=0),"Reasignar sobrante",IF(AND(ISNUMBER(H16),H16=0,OR(N16>0,I16>0)),"Revisar pedido y cantidades",IF(AND(ISNUMBER(H16),H16=0),"Sin pedido",IF(AND(ISNUMBER(H16),ISBLANK(I16)),"Falta anotar stock",IF(AND(I16<>"",OR(NOT(ISNUMBER(I16)),I16<0,AND(ISNUMBER(H16),I16>H16))),"Revisar stock asignado",IF(AND(ISNUMBER(I16),I16>0,NOT(ISNUMBER(K16))),"Falta vencimiento de stock",IF(AND(ISNUMBER(I16),I16>0,K16<E16+criterio!$B$4),"El stock no cubre el uso",IF(AND(ISNUMBER(H16),ISNUMBER(I16),H16=I16,OR(N16="",N16=0)),"Cubierto con stock",IF(B16=criterio!$B$25,"Jornada bloqueada",IF(B16+S16>C16,"No llega al retiro",IF(Q16<E16,"Vence antes del último uso",IF(Q16<E16+criterio!$B$4,"Falta margen de vida útil",IF(AND(ISBLANK(H16),L16<>"Adelanto",N(N16)>0,N(M16)>0),"Adelanto en pausa",IF(NOT(ISNUMBER(AM16)),"Previsión",IF(AND(ISNUMBER(H16),N(M16)>0,N(N16)>ROUND(H16-N(I16),3)),"Reasignar sobrante",IF(AND(ISNUMBER(N16),N16>ROUND(AM16-N(I16),3)),"Revisar excedente",IF(AND(ISNUMBER(H16),L16<>"Sí",NOT(AND(N(M16)>0,J16=0))),"Por confirmar",IF(J16=0,"Hecho",IF(AND(ISNUMBER(N16),N16>0),"Completar","Preparar"))))))))))))))))))))))))))))))) -> Previsión | AC16: =IF(OR(W16<>"",AJ16=0),0,IF(COUNTIFS($A$9:$A$128,A16,$AJ$9:$AJ$128,1,$D$9:$D$128,"<="&E16,$E$9:$E$128,">="&D16)>1,1,0)) -> 0 | AD16: =IF(OR(NOT(ISNUMBER(B16)),A16="",NOT(ISNUMBER(Z16)),Z16<=0),0,IF(COUNTIFS($A$9:A16,A16,$B$9:B16,B16,$Z$9:Z16,">0")=1,1,0)) -> 0 | AE16: =IF(OR(AK16<=0,AC16=1),0,IF(AND(A16="Tsue",NOT(AND(ISBLANK(H16),L16="Adelanto"))),IF(ISNUMBER(C16),SUMIFS($H$9:$H$128,$A$9:$A$128,A16,$C$9:$C$128,C16,$AC$9:$AC$128,0,$H$9:$H$128,">0"),0),IF(ISNUMBER(Z16),Z16,0))) -> 0 | AF16: =IF(OR(AE16<=0,AK16<=0),0,IF(ABS(AE16/AK16-ROUND(AE16/AK16,0))>0.000001,1,0)) -> 0 | AG16: =IF(OR(AF16=0,AK16<=0),"",IF(A16="Tsue","Retiro: ","Tanda: ")&ROUND(AE16,3)&" "&F16&". Acordar "&INT(AE16/AK16)&" o "&ROUNDUP(AE16/AK16,0)&IF(A16="Tsue"," envases de 5 L."," porciones de 500 g.")) | AH16: =IF(COUNTA(A16:E16,H16:I16,K16:L16,N16)=0,0,IF(OR(NOT(ISNUMBER(B16)),B16<'Por semana'!$C$45,B16>'Por semana'!$J$46+6),1,0)) -> 0 | AI16: =IF(OR(AC16=1,A16=""),0,IF(ISNUMBER(H16),MAX(0,H16),IF(ISNUMBER(G16),G16,0))) -> 7 | AJ16: =IF(OR(A16="",NOT(ISNUMBER(D16)),NOT(ISNUMBER(E16)),AND(ISNUMBER(H16),H16=0)),0,1) -> 1 | AK16: =IF(R16=0,0,IFERROR(INDEX(criterio!$J$11:$J$22,R16)+0,0)) -> 0 | AL16: =IF(AC16=1,"Usar la fila ya prevista",IF(AND(AF16=1,OR(AB16="Preparar",AB16="Completar",AB16="Por confirmar"),AA16=""),"Acordar envases",IF(AND(OR(AB16="Previsión",AB16="Por confirmar",AB16="Preparar",AB16="Completar"),AA16<>""),AA16,AB16))) -> Previsión | AM16: =IF(ISNUMBER(H16),H16,IF(AND(ISBLANK(H16),L16="Adelanto",ISNUMBER(M16),M16>0),M16,""))
A17: Pachikay | B17: 46345 | C17: 46356 | D17: 46357 | E17: 46371 | F17: =IF(R17=0,"",INDEX(criterio!$B$11:$B$22,R17)) -> kg | G17: =IFERROR(IF(INDEX(criterio!$B$31:$B$111,MATCH(W17,criterio!$A$31:$A$111,0))=A17,INDEX(criterio!$C$31:$C$111,MATCH(W17,criterio!$A$31:$A$111,0)),""),"") -> 3 | J17: =IF(AND(ISNUMBER(AM17),OR(ISBLANK(H17),ISNUMBER(I17))),MAX(0,ROUND(AM17-IF(ISBLANK(H17),0,N(I17))-N(N17),3)),"") | O17: =IF(AL17="Reasignar sobrante","Sobran "&ROUND(N17-MAX(0,H17-N(I17)),3)&" "&F17&" para stock",IF(AND(ISNUMBER(H17),L17="Adelanto",AL17="Por confirmar"),IF(J17>0,IF(J17=1,"Falta ","Faltan ")&ROUND(J17,3)&" "&F17&". Elegí «Sí»"&CHAR(10)&"en «¿Mandar a preparar?».","No falta producir."),IF(AL17="Acordar envases",AL17&" ("&INT(AE17/AK17)&" o "&ROUNDUP(AE17/AK17,0)&")",AL17)&IF(P17="","",CHAR(10)&"Adelanto movido al pico"))) -> Previsión | P17: =IFERROR(IF(AND(INDEX(criterio!$I$31:$I$111,MATCH(W17,criterio!$A$31:$A$111,0))=1,INDEX(criterio!$B$31:$B$111,MATCH(W17,criterio!$A$31:$A$111,0))=A17,ISNUMBER(B17),B17>=criterio!$B$5,D17<=criterio!$B$6,E17>=criterio!$B$5),"Fuera de la previa del 20/12",""),"") | Q17: =IF(AND(R17>0,ISNUMBER(B17)),IF(U17="mes",EDATE(B17,T17),B17+T17),"") -> 46405 | R17: =IFERROR(MATCH(A17,criterio!$A$11:$A$22,0),0) -> 5 | S17: =IF(R17=0,"",INDEX(criterio!$E$11:$E$22,R17)) -> 0 | T17: =IF(R17=0,"",INDEX(criterio!$C$11:$C$22,R17)) -> 60 | U17: =IF(R17=0,"",INDEX(criterio!$D$11:$D$22,R17)) -> días | V17: =IF(AND(ISNUMBER(B17),B17=Turno!$B$3,OR(AL17="Preparar",AL17="Completar")),MAX($V$8:V16)+1,0) -> 0 | W17: T009 | Y17: =IF(R17=0,"",INDEX(criterio!$I$11:$I$22,R17)) -> Seco, cerrado y sin humedad. Abierto: 7 días, sin superar vencimiento. | Z17: =IF(AC17=1,0,IF(A17="","",IF(ISNUMBER(H17),MAX(IF(ISNUMBER(N17),N17,0),H17-IF(ISNUMBER(I17),I17,0),0),IF(ISNUMBER(AM17),MAX(AM17,N(N17)),IF(ISNUMBER(G17),MAX(G17,N(N17)),N(N17)))))) -> 3 | AA17: =IF(OR(A17="",COUNT(B17:C17)<>2),"",IF(OR(WEEKDAY(B17,2)>5,COUNTIF(criterio!$B$25:$E$25,B17)>0),"Cambiar día de elaboración",IF(OR(WEEKDAY(C17,2)>5,COUNTIF(criterio!$B$25:$E$25,C17)>0),"Cambiar día de retiro",IF(SUMIF($B$9:$B$128,B17,$AD$9:$AD$128)>criterio!$D$26,"Más de dos recetas",IF(OR(A17="",NOT(ISNUMBER(B17))),"",IF(OR(NOT(ISNUMBER($Q$2)),NOT(ISNUMBER($Q$3)),$Q$2<=0,$Q$3<=0),"Revisar topes de carga",IF(SUMIFS($Z$9:$Z$128,$B$9:$B$128,B17,$F$9:$F$128,"kg")/$Q$2+SUMIFS($Z$9:$Z$128,$B$9:$B$128,B17,$F$9:$F$128,"L")/$Q$3>1.000001,"Repartir carga del día",""))))))) | AB17: =IF(COUNTA(A17:E17,H17:I17,K17:N17)=0,"",IF(R17=0,"Elegir producto",IF(COUNT(B17:E17)<>4,"Completar fechas",IF(E17<D17,"Revisar días de uso",IF(C17+criterio!$B$3>D17,"El retiro llega tarde",IF(AND(N17<>"",OR(NOT(ISNUMBER(N17)),N17<0)),"Revisar cantidad hecha",IF(AND(M17<>"",OR(NOT(ISNUMBER(M17)),M17<0)),"Revisar cant. a adelantar",IF(AND(AND(ISBLANK(H17),L17="Adelanto"),NOT(ISNUMBER(AM17))),"Cargar cant. a adelantar",IF(AND(AND(ISBLANK(H17),L17="Adelanto"),I17<>"",OR(NOT(ISNUMBER(I17)),I17<>0)),"Revisar stock del adelanto",IF(AND(ISNUMBER(N17),N17>0,L17<>"Sí",L17<>"Adelanto",N(M17)<=0),"Hecho sin liberar",IF(AND(ISBLANK(H17),L17<>"Adelanto",OR(I17<>"",L17="Sí")),"Falta pedido real",IF(AND(H17<>"",OR(NOT(ISNUMBER(H17)),H17<0)),"Revisar pedido",IF(AND(ISNUMBER(H17),H17=0,N(M17)>0,N(N17)>0,N(I17)=0),"Reasignar sobrante",IF(AND(ISNUMBER(H17),H17=0,OR(N17>0,I17>0)),"Revisar pedido y cantidades",IF(AND(ISNUMBER(H17),H17=0),"Sin pedido",IF(AND(ISNUMBER(H17),ISBLANK(I17)),"Falta anotar stock",IF(AND(I17<>"",OR(NOT(ISNUMBER(I17)),I17<0,AND(ISNUMBER(H17),I17>H17))),"Revisar stock asignado",IF(AND(ISNUMBER(I17),I17>0,NOT(ISNUMBER(K17))),"Falta vencimiento de stock",IF(AND(ISNUMBER(I17),I17>0,K17<E17+criterio!$B$4),"El stock no cubre el uso",IF(AND(ISNUMBER(H17),ISNUMBER(I17),H17=I17,OR(N17="",N17=0)),"Cubierto con stock",IF(B17=criterio!$B$25,"Jornada bloqueada",IF(B17+S17>C17,"No llega al retiro",IF(Q17<E17,"Vence antes del último uso",IF(Q17<E17+criterio!$B$4,"Falta margen de vida útil",IF(AND(ISBLANK(H17),L17<>"Adelanto",N(N17)>0,N(M17)>0),"Adelanto en pausa",IF(NOT(ISNUMBER(AM17)),"Previsión",IF(AND(ISNUMBER(H17),N(M17)>0,N(N17)>ROUND(H17-N(I17),3)),"Reasignar sobrante",IF(AND(ISNUMBER(N17),N17>ROUND(AM17-N(I17),3)),"Revisar excedente",IF(AND(ISNUMBER(H17),L17<>"Sí",NOT(AND(N(M17)>0,J17=0))),"Por confirmar",IF(J17=0,"Hecho",IF(AND(ISNUMBER(N17),N17>0),"Completar","Preparar"))))))))))))))))))))))))))))))) -> Previsión | AC17: =IF(OR(W17<>"",AJ17=0),0,IF(COUNTIFS($A$9:$A$128,A17,$AJ$9:$AJ$128,1,$D$9:$D$128,"<="&E17,$E$9:$E$128,">="&D17)>1,1,0)) -> 0 | AD17: =IF(OR(NOT(ISNUMBER(B17)),A17="",NOT(ISNUMBER(Z17)),Z17<=0),0,IF(COUNTIFS($A$9:A17,A17,$B$9:B17,B17,$Z$9:Z17,">0")=1,1,0)) -> 1 | AE17: =IF(OR(AK17<=0,AC17=1),0,IF(AND(A17="Tsue",NOT(AND(ISBLANK(H17),L17="Adelanto"))),IF(ISNUMBER(C17),SUMIFS($H$9:$H$128,$A$9:$A$128,A17,$C$9:$C$128,C17,$AC$9:$AC$128,0,$H$9:$H$128,">0"),0),IF(ISNUMBER(Z17),Z17,0))) -> 0 | AF17: =IF(OR(AE17<=0,AK17<=0),0,IF(ABS(AE17/AK17-ROUND(AE17/AK17,0))>0.000001,1,0)) -> 0 | AG17: =IF(OR(AF17=0,AK17<=0),"",IF(A17="Tsue","Retiro: ","Tanda: ")&ROUND(AE17,3)&" "&F17&". Acordar "&INT(AE17/AK17)&" o "&ROUNDUP(AE17/AK17,0)&IF(A17="Tsue"," envases de 5 L."," porciones de 500 g.")) | AH17: =IF(COUNTA(A17:E17,H17:I17,K17:L17,N17)=0,0,IF(OR(NOT(ISNUMBER(B17)),B17<'Por semana'!$C$45,B17>'Por semana'!$J$46+6),1,0)) -> 0 | AI17: =IF(OR(AC17=1,A17=""),0,IF(ISNUMBER(H17),MAX(0,H17),IF(ISNUMBER(G17),G17,0))) -> 3 | AJ17: =IF(OR(A17="",NOT(ISNUMBER(D17)),NOT(ISNUMBER(E17)),AND(ISNUMBER(H17),H17=0)),0,1) -> 1 | AK17: =IF(R17=0,0,IFERROR(INDEX(criterio!$J$11:$J$22,R17)+0,0)) -> 0 | AL17: =IF(AC17=1,"Usar la fila ya prevista",IF(AND(AF17=1,OR(AB17="Preparar",AB17="Completar",AB17="Por confirmar"),AA17=""),"Acordar envases",IF(AND(OR(AB17="Previsión",AB17="Por confirmar",AB17="Preparar",AB17="Completar"),AA17<>""),AA17,AB17))) -> Previsión | AM17: =IF(ISNUMBER(H17),H17,IF(AND(ISBLANK(H17),L17="Adelanto",ISNUMBER(M17),M17>0),M17,""))
A18: Pachikay | B18: 46345 | C18: 46386 | D18: 46388 | E18: 46402 | F18: =IF(R18=0,"",INDEX(criterio!$B$11:$B$22,R18)) -> kg | G18: =IFERROR(IF(INDEX(criterio!$B$31:$B$111,MATCH(W18,criterio!$A$31:$A$111,0))=A18,INDEX(criterio!$C$31:$C$111,MATCH(W18,criterio!$A$31:$A$111,0)),""),"") -> 4 | J18: =IF(AND(ISNUMBER(AM18),OR(ISBLANK(H18),ISNUMBER(I18))),MAX(0,ROUND(AM18-IF(ISBLANK(H18),0,N(I18))-N(N18),3)),"") | O18: =IF(AL18="Reasignar sobrante","Sobran "&ROUND(N18-MAX(0,H18-N(I18)),3)&" "&F18&" para stock",IF(AND(ISNUMBER(H18),L18="Adelanto",AL18="Por confirmar"),IF(J18>0,IF(J18=1,"Falta ","Faltan ")&ROUND(J18,3)&" "&F18&". Elegí «Sí»"&CHAR(10)&"en «¿Mandar a preparar?».","No falta producir."),IF(AL18="Acordar envases",AL18&" ("&INT(AE18/AK18)&" o "&ROUNDUP(AE18/AK18,0)&")",AL18)&IF(P18="","",CHAR(10)&"Adelanto movido al pico"))) -> Previsión | P18: =IFERROR(IF(AND(INDEX(criterio!$I$31:$I$111,MATCH(W18,criterio!$A$31:$A$111,0))=1,INDEX(criterio!$B$31:$B$111,MATCH(W18,criterio!$A$31:$A$111,0))=A18,ISNUMBER(B18),B18>=criterio!$B$5,D18<=criterio!$B$6,E18>=criterio!$B$5),"Fuera de la previa del 20/12",""),"") | Q18: =IF(AND(R18>0,ISNUMBER(B18)),IF(U18="mes",EDATE(B18,T18),B18+T18),"") -> 46405 | R18: =IFERROR(MATCH(A18,criterio!$A$11:$A$22,0),0) -> 5 | S18: =IF(R18=0,"",INDEX(criterio!$E$11:$E$22,R18)) -> 0 | T18: =IF(R18=0,"",INDEX(criterio!$C$11:$C$22,R18)) -> 60 | U18: =IF(R18=0,"",INDEX(criterio!$D$11:$D$22,R18)) -> días | V18: =IF(AND(ISNUMBER(B18),B18=Turno!$B$3,OR(AL18="Preparar",AL18="Completar")),MAX($V$8:V17)+1,0) -> 0 | W18: T010 | Y18: =IF(R18=0,"",INDEX(criterio!$I$11:$I$22,R18)) -> Seco, cerrado y sin humedad. Abierto: 7 días, sin superar vencimiento. | Z18: =IF(AC18=1,0,IF(A18="","",IF(ISNUMBER(H18),MAX(IF(ISNUMBER(N18),N18,0),H18-IF(ISNUMBER(I18),I18,0),0),IF(ISNUMBER(AM18),MAX(AM18,N(N18)),IF(ISNUMBER(G18),MAX(G18,N(N18)),N(N18)))))) -> 4 | AA18: =IF(OR(A18="",COUNT(B18:C18)<>2),"",IF(OR(WEEKDAY(B18,2)>5,COUNTIF(criterio!$B$25:$E$25,B18)>0),"Cambiar día de elaboración",IF(OR(WEEKDAY(C18,2)>5,COUNTIF(criterio!$B$25:$E$25,C18)>0),"Cambiar día de retiro",IF(SUMIF($B$9:$B$128,B18,$AD$9:$AD$128)>criterio!$D$26,"Más de dos recetas",IF(OR(A18="",NOT(ISNUMBER(B18))),"",IF(OR(NOT(ISNUMBER($Q$2)),NOT(ISNUMBER($Q$3)),$Q$2<=0,$Q$3<=0),"Revisar topes de carga",IF(SUMIFS($Z$9:$Z$128,$B$9:$B$128,B18,$F$9:$F$128,"kg")/$Q$2+SUMIFS($Z$9:$Z$128,$B$9:$B$128,B18,$F$9:$F$128,"L")/$Q$3>1.000001,"Repartir carga del día",""))))))) | AB18: =IF(COUNTA(A18:E18,H18:I18,K18:N18)=0,"",IF(R18=0,"Elegir producto",IF(COUNT(B18:E18)<>4,"Completar fechas",IF(E18<D18,"Revisar días de uso",IF(C18+criterio!$B$3>D18,"El retiro llega tarde",IF(AND(N18<>"",OR(NOT(ISNUMBER(N18)),N18<0)),"Revisar cantidad hecha",IF(AND(M18<>"",OR(NOT(ISNUMBER(M18)),M18<0)),"Revisar cant. a adelantar",IF(AND(AND(ISBLANK(H18),L18="Adelanto"),NOT(ISNUMBER(AM18))),"Cargar cant. a adelantar",IF(AND(AND(ISBLANK(H18),L18="Adelanto"),I18<>"",OR(NOT(ISNUMBER(I18)),I18<>0)),"Revisar stock del adelanto",IF(AND(ISNUMBER(N18),N18>0,L18<>"Sí",L18<>"Adelanto",N(M18)<=0),"Hecho sin liberar",IF(AND(ISBLANK(H18),L18<>"Adelanto",OR(I18<>"",L18="Sí")),"Falta pedido real",IF(AND(H18<>"",OR(NOT(ISNUMBER(H18)),H18<0)),"Revisar pedido",IF(AND(ISNUMBER(H18),H18=0,N(M18)>0,N(N18)>0,N(I18)=0),"Reasignar sobrante",IF(AND(ISNUMBER(H18),H18=0,OR(N18>0,I18>0)),"Revisar pedido y cantidades",IF(AND(ISNUMBER(H18),H18=0),"Sin pedido",IF(AND(ISNUMBER(H18),ISBLANK(I18)),"Falta anotar stock",IF(AND(I18<>"",OR(NOT(ISNUMBER(I18)),I18<0,AND(ISNUMBER(H18),I18>H18))),"Revisar stock asignado",IF(AND(ISNUMBER(I18),I18>0,NOT(ISNUMBER(K18))),"Falta vencimiento de stock",IF(AND(ISNUMBER(I18),I18>0,K18<E18+criterio!$B$4),"El stock no cubre el uso",IF(AND(ISNUMBER(H18),ISNUMBER(I18),H18=I18,OR(N18="",N18=0)),"Cubierto con stock",IF(B18=criterio!$B$25,"Jornada bloqueada",IF(B18+S18>C18,"No llega al retiro",IF(Q18<E18,"Vence antes del último uso",IF(Q18<E18+criterio!$B$4,"Falta margen de vida útil",IF(AND(ISBLANK(H18),L18<>"Adelanto",N(N18)>0,N(M18)>0),"Adelanto en pausa",IF(NOT(ISNUMBER(AM18)),"Previsión",IF(AND(ISNUMBER(H18),N(M18)>0,N(N18)>ROUND(H18-N(I18),3)),"Reasignar sobrante",IF(AND(ISNUMBER(N18),N18>ROUND(AM18-N(I18),3)),"Revisar excedente",IF(AND(ISNUMBER(H18),L18<>"Sí",NOT(AND(N(M18)>0,J18=0))),"Por confirmar",IF(J18=0,"Hecho",IF(AND(ISNUMBER(N18),N18>0),"Completar","Preparar"))))))))))))))))))))))))))))))) -> Previsión | AC18: =IF(OR(W18<>"",AJ18=0),0,IF(COUNTIFS($A$9:$A$128,A18,$AJ$9:$AJ$128,1,$D$9:$D$128,"<="&E18,$E$9:$E$128,">="&D18)>1,1,0)) -> 0 | AD18: =IF(OR(NOT(ISNUMBER(B18)),A18="",NOT(ISNUMBER(Z18)),Z18<=0),0,IF(COUNTIFS($A$9:A18,A18,$B$9:B18,B18,$Z$9:Z18,">0")=1,1,0)) -> 0 | AE18: =IF(OR(AK18<=0,AC18=1),0,IF(AND(A18="Tsue",NOT(AND(ISBLANK(H18),L18="Adelanto"))),IF(ISNUMBER(C18),SUMIFS($H$9:$H$128,$A$9:$A$128,A18,$C$9:$C$128,C18,$AC$9:$AC$128,0,$H$9:$H$128,">0"),0),IF(ISNUMBER(Z18),Z18,0))) -> 0 | AF18: =IF(OR(AE18<=0,AK18<=0),0,IF(ABS(AE18/AK18-ROUND(AE18/AK18,0))>0.000001,1,0)) -> 0 | AG18: =IF(OR(AF18=0,AK18<=0),"",IF(A18="Tsue","Retiro: ","Tanda: ")&ROUND(AE18,3)&" "&F18&". Acordar "&INT(AE18/AK18)&" o "&ROUNDUP(AE18/AK18,0)&IF(A18="Tsue"," envases de 5 L."," porciones de 500 g.")) | AH18: =IF(COUNTA(A18:E18,H18:I18,K18:L18,N18)=0,0,IF(OR(NOT(ISNUMBER(B18)),B18<'Por semana'!$C$45,B18>'Por semana'!$J$46+6),1,0)) -> 0 | AI18: =IF(OR(AC18=1,A18=""),0,IF(ISNUMBER(H18),MAX(0,H18),IF(ISNUMBER(G18),G18,0))) -> 4 | AJ18: =IF(OR(A18="",NOT(ISNUMBER(D18)),NOT(ISNUMBER(E18)),AND(ISNUMBER(H18),H18=0)),0,1) -> 1 | AK18: =IF(R18=0,0,IFERROR(INDEX(criterio!$J$11:$J$22,R18)+0,0)) -> 0 | AL18: =IF(AC18=1,"Usar la fila ya prevista",IF(AND(AF18=1,OR(AB18="Preparar",AB18="Completar",AB18="Por confirmar"),AA18=""),"Acordar envases",IF(AND(OR(AB18="Previsión",AB18="Por confirmar",AB18="Preparar",AB18="Completar"),AA18<>""),AA18,AB18))) -> Previsión | AM18: =IF(ISNUMBER(H18),H18,IF(AND(ISBLANK(H18),L18="Adelanto",ISNUMBER(M18),M18>0),M18,""))
A19: Salsa Teriyaki | B19: 46345 | C19: 46356 | D19: 46357 | E19: 46371 | F19: =IF(R19=0,"",INDEX(criterio!$B$11:$B$22,R19)) -> L | G19: =IFERROR(IF(INDEX(criterio!$B$31:$B$111,MATCH(W19,criterio!$A$31:$A$111,0))=A19,INDEX(criterio!$C$31:$C$111,MATCH(W19,criterio!$A$31:$A$111,0)),""),"") -> 10 | J19: =IF(AND(ISNUMBER(AM19),OR(ISBLANK(H19),ISNUMBER(I19))),MAX(0,ROUND(AM19-IF(ISBLANK(H19),0,N(I19))-N(N19),3)),"") | O19: =IF(AL19="Reasignar sobrante","Sobran "&ROUND(N19-MAX(0,H19-N(I19)),3)&" "&F19&" para stock",IF(AND(ISNUMBER(H19),L19="Adelanto",AL19="Por confirmar"),IF(J19>0,IF(J19=1,"Falta ","Faltan ")&ROUND(J19,3)&" "&F19&". Elegí «Sí»"&CHAR(10)&"en «¿Mandar a preparar?».","No falta producir."),IF(AL19="Acordar envases",AL19&" ("&INT(AE19/AK19)&" o "&ROUNDUP(AE19/AK19,0)&")",AL19)&IF(P19="","",CHAR(10)&"Adelanto movido al pico"))) -> Previsión | P19: =IFERROR(IF(AND(INDEX(criterio!$I$31:$I$111,MATCH(W19,criterio!$A$31:$A$111,0))=1,INDEX(criterio!$B$31:$B$111,MATCH(W19,criterio!$A$31:$A$111,0))=A19,ISNUMBER(B19),B19>=criterio!$B$5,D19<=criterio!$B$6,E19>=criterio!$B$5),"Fuera de la previa del 20/12",""),"") | Q19: =IF(AND(R19>0,ISNUMBER(B19)),IF(U19="mes",EDATE(B19,T19),B19+T19),"") -> 46375 | R19: =IFERROR(MATCH(A19,criterio!$A$11:$A$22,0),0) -> 9 | S19: =IF(R19=0,"",INDEX(criterio!$E$11:$E$22,R19)) -> 0 | T19: =IF(R19=0,"",INDEX(criterio!$C$11:$C$22,R19)) -> 1 | U19: =IF(R19=0,"",INDEX(criterio!$D$11:$D$22,R19)) -> mes | V19: =IF(AND(ISNUMBER(B19),B19=Turno!$B$3,OR(AL19="Preparar",AL19="Completar")),MAX($V$8:V18)+1,0) -> 0 | W19: T011 | Y19: =IF(R19=0,"",INDEX(criterio!$I$11:$I$22,R19)) -> Temperatura ambiente. | Z19: =IF(AC19=1,0,IF(A19="","",IF(ISNUMBER(H19),MAX(IF(ISNUMBER(N19),N19,0),H19-IF(ISNUMBER(I19),I19,0),0),IF(ISNUMBER(AM19),MAX(AM19,N(N19)),IF(ISNUMBER(G19),MAX(G19,N(N19)),N(N19)))))) -> 10 | AA19: =IF(OR(A19="",COUNT(B19:C19)<>2),"",IF(OR(WEEKDAY(B19,2)>5,COUNTIF(criterio!$B$25:$E$25,B19)>0),"Cambiar día de elaboración",IF(OR(WEEKDAY(C19,2)>5,COUNTIF(criterio!$B$25:$E$25,C19)>0),"Cambiar día de retiro",IF(SUMIF($B$9:$B$128,B19,$AD$9:$AD$128)>criterio!$D$26,"Más de dos recetas",IF(OR(A19="",NOT(ISNUMBER(B19))),"",IF(OR(NOT(ISNUMBER($Q$2)),NOT(ISNUMBER($Q$3)),$Q$2<=0,$Q$3<=0),"Revisar topes de carga",IF(SUMIFS($Z$9:$Z$128,$B$9:$B$128,B19,$F$9:$F$128,"kg")/$Q$2+SUMIFS($Z$9:$Z$128,$B$9:$B$128,B19,$F$9:$F$128,"L")/$Q$3>1.000001,"Repartir carga del día",""))))))) | AB19: =IF(COUNTA(A19:E19,H19:I19,K19:N19)=0,"",IF(R19=0,"Elegir producto",IF(COUNT(B19:E19)<>4,"Completar fechas",IF(E19<D19,"Revisar días de uso",IF(C19+criterio!$B$3>D19,"El retiro llega tarde",IF(AND(N19<>"",OR(NOT(ISNUMBER(N19)),N19<0)),"Revisar cantidad hecha",IF(AND(M19<>"",OR(NOT(ISNUMBER(M19)),M19<0)),"Revisar cant. a adelantar",IF(AND(AND(ISBLANK(H19),L19="Adelanto"),NOT(ISNUMBER(AM19))),"Cargar cant. a adelantar",IF(AND(AND(ISBLANK(H19),L19="Adelanto"),I19<>"",OR(NOT(ISNUMBER(I19)),I19<>0)),"Revisar stock del adelanto",IF(AND(ISNUMBER(N19),N19>0,L19<>"Sí",L19<>"Adelanto",N(M19)<=0),"Hecho sin liberar",IF(AND(ISBLANK(H19),L19<>"Adelanto",OR(I19<>"",L19="Sí")),"Falta pedido real",IF(AND(H19<>"",OR(NOT(ISNUMBER(H19)),H19<0)),"Revisar pedido",IF(AND(ISNUMBER(H19),H19=0,N(M19)>0,N(N19)>0,N(I19)=0),"Reasignar sobrante",IF(AND(ISNUMBER(H19),H19=0,OR(N19>0,I19>0)),"Revisar pedido y cantidades",IF(AND(ISNUMBER(H19),H19=0),"Sin pedido",IF(AND(ISNUMBER(H19),ISBLANK(I19)),"Falta anotar stock",IF(AND(I19<>"",OR(NOT(ISNUMBER(I19)),I19<0,AND(ISNUMBER(H19),I19>H19))),"Revisar stock asignado",IF(AND(ISNUMBER(I19),I19>0,NOT(ISNUMBER(K19))),"Falta vencimiento de stock",IF(AND(ISNUMBER(I19),I19>0,K19<E19+criterio!$B$4),"El stock no cubre el uso",IF(AND(ISNUMBER(H19),ISNUMBER(I19),H19=I19,OR(N19="",N19=0)),"Cubierto con stock",IF(B19=criterio!$B$25,"Jornada bloqueada",IF(B19+S19>C19,"No llega al retiro",IF(Q19<E19,"Vence antes del último uso",IF(Q19<E19+criterio!$B$4,"Falta margen de vida útil",IF(AND(ISBLANK(H19),L19<>"Adelanto",N(N19)>0,N(M19)>0),"Adelanto en pausa",IF(NOT(ISNUMBER(AM19)),"Previsión",IF(AND(ISNUMBER(H19),N(M19)>0,N(N19)>ROUND(H19-N(I19),3)),"Reasignar sobrante",IF(AND(ISNUMBER(N19),N19>ROUND(AM19-N(I19),3)),"Revisar excedente",IF(AND(ISNUMBER(H19),L19<>"Sí",NOT(AND(N(M19)>0,J19=0))),"Por confirmar",IF(J19=0,"Hecho",IF(AND(ISNUMBER(N19),N19>0),"Completar","Preparar"))))))))))))))))))))))))))))))) -> Previsión | AC19: =IF(OR(W19<>"",AJ19=0),0,IF(COUNTIFS($A$9:$A$128,A19,$AJ$9:$AJ$128,1,$D$9:$D$128,"<="&E19,$E$9:$E$128,">="&D19)>1,1,0)) -> 0 | AD19: =IF(OR(NOT(ISNUMBER(B19)),A19="",NOT(ISNUMBER(Z19)),Z19<=0),0,IF(COUNTIFS($A$9:A19,A19,$B$9:B19,B19,$Z$9:Z19,">0")=1,1,0)) -> 1 | AE19: =IF(OR(AK19<=0,AC19=1),0,IF(AND(A19="Tsue",NOT(AND(ISBLANK(H19),L19="Adelanto"))),IF(ISNUMBER(C19),SUMIFS($H$9:$H$128,$A$9:$A$128,A19,$C$9:$C$128,C19,$AC$9:$AC$128,0,$H$9:$H$128,">0"),0),IF(ISNUMBER(Z19),Z19,0))) -> 0 | AF19: =IF(OR(AE19<=0,AK19<=0),0,IF(ABS(AE19/AK19-ROUND(AE19/AK19,0))>0.000001,1,0)) -> 0 | AG19: =IF(OR(AF19=0,AK19<=0),"",IF(A19="Tsue","Retiro: ","Tanda: ")&ROUND(AE19,3)&" "&F19&". Acordar "&INT(AE19/AK19)&" o "&ROUNDUP(AE19/AK19,0)&IF(A19="Tsue"," envases de 5 L."," porciones de 500 g.")) | AH19: =IF(COUNTA(A19:E19,H19:I19,K19:L19,N19)=0,0,IF(OR(NOT(ISNUMBER(B19)),B19<'Por semana'!$C$45,B19>'Por semana'!$J$46+6),1,0)) -> 0 | AI19: =IF(OR(AC19=1,A19=""),0,IF(ISNUMBER(H19),MAX(0,H19),IF(ISNUMBER(G19),G19,0))) -> 10 | AJ19: =IF(OR(A19="",NOT(ISNUMBER(D19)),NOT(ISNUMBER(E19)),AND(ISNUMBER(H19),H19=0)),0,1) -> 1 | AK19: =IF(R19=0,0,IFERROR(INDEX(criterio!$J$11:$J$22,R19)+0,0)) -> 0 | AL19: =IF(AC19=1,"Usar la fila ya prevista",IF(AND(AF19=1,OR(AB19="Preparar",AB19="Completar",AB19="Por confirmar"),AA19=""),"Acordar envases",IF(AND(OR(AB19="Previsión",AB19="Por confirmar",AB19="Preparar",AB19="Completar"),AA19<>""),AA19,AB19))) -> Previsión | AM19: =IF(ISNUMBER(H19),H19,IF(AND(ISBLANK(H19),L19="Adelanto",ISNUMBER(M19),M19>0),M19,""))
A20: Salsa Nori | B20: 46346 | C20: 46356 | D20: 46357 | E20: 46371 | F20: =IF(R20=0,"",INDEX(criterio!$B$11:$B$22,R20)) -> L | G20: =IFERROR(IF(INDEX(criterio!$B$31:$B$111,MATCH(W20,criterio!$A$31:$A$111,0))=A20,INDEX(criterio!$C$31:$C$111,MATCH(W20,criterio!$A$31:$A$111,0)),""),"") -> 5 | J20: =IF(AND(ISNUMBER(AM20),OR(ISBLANK(H20),ISNUMBER(I20))),MAX(0,ROUND(AM20-IF(ISBLANK(H20),0,N(I20))-N(N20),3)),"") | O20: =IF(AL20="Reasignar sobrante","Sobran "&ROUND(N20-MAX(0,H20-N(I20)),3)&" "&F20&" para stock",IF(AND(ISNUMBER(H20),L20="Adelanto",AL20="Por confirmar"),IF(J20>0,IF(J20=1,"Falta ","Faltan ")&ROUND(J20,3)&" "&F20&". Elegí «Sí»"&CHAR(10)&"en «¿Mandar a preparar?».","No falta producir."),IF(AL20="Acordar envases",AL20&" ("&INT(AE20/AK20)&" o "&ROUNDUP(AE20/AK20,0)&")",AL20)&IF(P20="","",CHAR(10)&"Adelanto movido al pico"))) -> Previsión | P20: =IFERROR(IF(AND(INDEX(criterio!$I$31:$I$111,MATCH(W20,criterio!$A$31:$A$111,0))=1,INDEX(criterio!$B$31:$B$111,MATCH(W20,criterio!$A$31:$A$111,0))=A20,ISNUMBER(B20),B20>=criterio!$B$5,D20<=criterio!$B$6,E20>=criterio!$B$5),"Fuera de la previa del 20/12",""),"") | Q20: =IF(AND(R20>0,ISNUMBER(B20)),IF(U20="mes",EDATE(B20,T20),B20+T20),"") -> 46376 | R20: =IFERROR(MATCH(A20,criterio!$A$11:$A$22,0),0) -> 10 | S20: =IF(R20=0,"",INDEX(criterio!$E$11:$E$22,R20)) -> 0 | T20: =IF(R20=0,"",INDEX(criterio!$C$11:$C$22,R20)) -> 1 | U20: =IF(R20=0,"",INDEX(criterio!$D$11:$D$22,R20)) -> mes | V20: =IF(AND(ISNUMBER(B20),B20=Turno!$B$3,OR(AL20="Preparar",AL20="Completar")),MAX($V$8:V19)+1,0) -> 0 | W20: T012 | Y20: =IF(R20=0,"",INDEX(criterio!$I$11:$I$22,R20)) -> Heladera 0–5 °C. | Z20: =IF(AC20=1,0,IF(A20="","",IF(ISNUMBER(H20),MAX(IF(ISNUMBER(N20),N20,0),H20-IF(ISNUMBER(I20),I20,0),0),IF(ISNUMBER(AM20),MAX(AM20,N(N20)),IF(ISNUMBER(G20),MAX(G20,N(N20)),N(N20)))))) -> 5 | AA20: =IF(OR(A20="",COUNT(B20:C20)<>2),"",IF(OR(WEEKDAY(B20,2)>5,COUNTIF(criterio!$B$25:$E$25,B20)>0),"Cambiar día de elaboración",IF(OR(WEEKDAY(C20,2)>5,COUNTIF(criterio!$B$25:$E$25,C20)>0),"Cambiar día de retiro",IF(SUMIF($B$9:$B$128,B20,$AD$9:$AD$128)>criterio!$D$26,"Más de dos recetas",IF(OR(A20="",NOT(ISNUMBER(B20))),"",IF(OR(NOT(ISNUMBER($Q$2)),NOT(ISNUMBER($Q$3)),$Q$2<=0,$Q$3<=0),"Revisar topes de carga",IF(SUMIFS($Z$9:$Z$128,$B$9:$B$128,B20,$F$9:$F$128,"kg")/$Q$2+SUMIFS($Z$9:$Z$128,$B$9:$B$128,B20,$F$9:$F$128,"L")/$Q$3>1.000001,"Repartir carga del día",""))))))) | AB20: =IF(COUNTA(A20:E20,H20:I20,K20:N20)=0,"",IF(R20=0,"Elegir producto",IF(COUNT(B20:E20)<>4,"Completar fechas",IF(E20<D20,"Revisar días de uso",IF(C20+criterio!$B$3>D20,"El retiro llega tarde",IF(AND(N20<>"",OR(NOT(ISNUMBER(N20)),N20<0)),"Revisar cantidad hecha",IF(AND(M20<>"",OR(NOT(ISNUMBER(M20)),M20<0)),"Revisar cant. a adelantar",IF(AND(AND(ISBLANK(H20),L20="Adelanto"),NOT(ISNUMBER(AM20))),"Cargar cant. a adelantar",IF(AND(AND(ISBLANK(H20),L20="Adelanto"),I20<>"",OR(NOT(ISNUMBER(I20)),I20<>0)),"Revisar stock del adelanto",IF(AND(ISNUMBER(N20),N20>0,L20<>"Sí",L20<>"Adelanto",N(M20)<=0),"Hecho sin liberar",IF(AND(ISBLANK(H20),L20<>"Adelanto",OR(I20<>"",L20="Sí")),"Falta pedido real",IF(AND(H20<>"",OR(NOT(ISNUMBER(H20)),H20<0)),"Revisar pedido",IF(AND(ISNUMBER(H20),H20=0,N(M20)>0,N(N20)>0,N(I20)=0),"Reasignar sobrante",IF(AND(ISNUMBER(H20),H20=0,OR(N20>0,I20>0)),"Revisar pedido y cantidades",IF(AND(ISNUMBER(H20),H20=0),"Sin pedido",IF(AND(ISNUMBER(H20),ISBLANK(I20)),"Falta anotar stock",IF(AND(I20<>"",OR(NOT(ISNUMBER(I20)),I20<0,AND(ISNUMBER(H20),I20>H20))),"Revisar stock asignado",IF(AND(ISNUMBER(I20),I20>0,NOT(ISNUMBER(K20))),"Falta vencimiento de stock",IF(AND(ISNUMBER(I20),I20>0,K20<E20+criterio!$B$4),"El stock no cubre el uso",IF(AND(ISNUMBER(H20),ISNUMBER(I20),H20=I20,OR(N20="",N20=0)),"Cubierto con stock",IF(B20=criterio!$B$25,"Jornada bloqueada",IF(B20+S20>C20,"No llega al retiro",IF(Q20<E20,"Vence antes del último uso",IF(Q20<E20+criterio!$B$4,"Falta margen de vida útil",IF(AND(ISBLANK(H20),L20<>"Adelanto",N(N20)>0,N(M20)>0),"Adelanto en pausa",IF(NOT(ISNUMBER(AM20)),"Previsión",IF(AND(ISNUMBER(H20),N(M20)>0,N(N20)>ROUND(H20-N(I20),3)),"Reasignar sobrante",IF(AND(ISNUMBER(N20),N20>ROUND(AM20-N(I20),3)),"Revisar excedente",IF(AND(ISNUMBER(H20),L20<>"Sí",NOT(AND(N(M20)>0,J20=0))),"Por confirmar",IF(J20=0,"Hecho",IF(AND(ISNUMBER(N20),N20>0),"Completar","Preparar"))))))))))))))))))))))))))))))) -> Previsión | AC20: =IF(OR(W20<>"",AJ20=0),0,IF(COUNTIFS($A$9:$A$128,A20,$AJ$9:$AJ$128,1,$D$9:$D$128,"<="&E20,$E$9:$E$128,">="&D20)>1,1,0)) -> 0 | AD20: =IF(OR(NOT(ISNUMBER(B20)),A20="",NOT(ISNUMBER(Z20)),Z20<=0),0,IF(COUNTIFS($A$9:A20,A20,$B$9:B20,B20,$Z$9:Z20,">0")=1,1,0)) -> 1 | AE20: =IF(OR(AK20<=0,AC20=1),0,IF(AND(A20="Tsue",NOT(AND(ISBLANK(H20),L20="Adelanto"))),IF(ISNUMBER(C20),SUMIFS($H$9:$H$128,$A$9:$A$128,A20,$C$9:$C$128,C20,$AC$9:$AC$128,0,$H$9:$H$128,">0"),0),IF(ISNUMBER(Z20),Z20,0))) -> 0 | AF20: =IF(OR(AE20<=0,AK20<=0),0,IF(ABS(AE20/AK20-ROUND(AE20/AK20,0))>0.000001,1,0)) -> 0 | AG20: =IF(OR(AF20=0,AK20<=0),"",IF(A20="Tsue","Retiro: ","Tanda: ")&ROUND(AE20,3)&" "&F20&". Acordar "&INT(AE20/AK20)&" o "&ROUNDUP(AE20/AK20,0)&IF(A20="Tsue"," envases de 5 L."," porciones de 500 g.")) | AH20: =IF(COUNTA(A20:E20,H20:I20,K20:L20,N20)=0,0,IF(OR(NOT(ISNUMBER(B20)),B20<'Por semana'!$C$45,B20>'Por semana'!$J$46+6),1,0)) -> 0 | AI20: =IF(OR(AC20=1,A20=""),0,IF(ISNUMBER(H20),MAX(0,H20),IF(ISNUMBER(G20),G20,0))) -> 5 | AJ20: =IF(OR(A20="",NOT(ISNUMBER(D20)),NOT(ISNUMBER(E20)),AND(ISNUMBER(H20),H20=0)),0,1) -> 1 | AK20: =IF(R20=0,0,IFERROR(INDEX(criterio!$J$11:$J$22,R20)+0,0)) -> 0 | AL20: =IF(AC20=1,"Usar la fila ya prevista",IF(AND(AF20=1,OR(AB20="Preparar",AB20="Completar",AB20="Por confirmar"),AA20=""),"Acordar envases",IF(AND(OR(AB20="Previsión",AB20="Por confirmar",AB20="Preparar",AB20="Completar"),AA20<>""),AA20,AB20))) -> Previsión | AM20: =IF(ISNUMBER(H20),H20,IF(AND(ISBLANK(H20),L20="Adelanto",ISNUMBER(M20),M20>0),M20,""))
... A89: Gari | B89: 46351 | C89: 46356 | D89: 46357 | E89: 46371 | F89: =IF(R89=0,"",INDEX(criterio!$B$11:$B$22,R89)) -> kg | G89: =IFERROR(IF(INDEX(criterio!$B$31:$B$111,MATCH(W89,criterio!$A$31:$A$111,0))=A89,INDEX(criterio!$C$31:$C$111,MATCH(W89,criterio!$A$31:$A$111,0)),""),"") -> 10 | J89: =IF(AND(ISNUMBER(AM89),OR(ISBLANK(H89),ISNUMBER(I89))),MAX(0,ROUND(AM89-IF(ISBLANK(H89),0,N(I89))-N(N89),3)),"") | O89: =IF(AL89="Reasignar sobrante","Sobran "&ROUND(N89-MAX(0,H89-N(I89)),3)&" "&F89&" para stock",IF(AND(ISNUMBER(H89),L89="Adelanto",AL89="Por confirmar"),IF(J89>0,IF(J89=1,"Falta ","Faltan ")&ROUND(J89,3)&" "&F89&". Elegí «Sí»"&CHAR(10)&"en «¿Mandar a preparar?».","No falta producir."),IF(AL89="Acordar envases",AL89&" ("&INT(AE89/AK89)&" o "&ROUNDUP(AE89/AK89,0)&")",AL89)&IF(P89="","",CHAR(10)&"Adelanto movido al pico"))) -> Previsión | P89: =IFERROR(IF(AND(INDEX(criterio!$I$31:$I$111,MATCH(W89,criterio!$A$31:$A$111,0))=1,INDEX(criterio!$B$31:$B$111,MATCH(W89,criterio!$A$31:$A$111,0))=A89,ISNUMBER(B89),B89>=criterio!$B$5,D89<=criterio!$B$6,E89>=criterio!$B$5),"Fuera de la previa del 20/12",""),"") | Q89: =IF(AND(R89>0,ISNUMBER(B89)),IF(U89="mes",EDATE(B89,T89),B89+T89),"") -> 46381 | R89: =IFERROR(MATCH(A89,criterio!$A$11:$A$22,0),0) -> 7 | S89: =IF(R89=0,"",INDEX(criterio!$E$11:$E$22,R89)) -> 1 | T89: =IF(R89=0,"",INDEX(criterio!$C$11:$C$22,R89)) -> 30 | U89: =IF(R89=0,"",INDEX(criterio!$D$11:$D$22,R89)) -> días | V89: =IF(AND(ISNUMBER(B89),B89=Turno!$B$3,OR(AL89="Preparar",AL89="Completar")),MAX($V$8:V88)+1,0) -> 0 | W89: T081 | Y89: =IF(R89=0,"",INDEX(criterio!$I$11:$I$22,R89)) -> Heladera 0–5 °C. Marinar 24 h. Abierto: 7 días, sin superar vencimiento. | Z89: =IF(AC89=1,0,IF(A89="","",IF(ISNUMBER(H89),MAX(IF(ISNUMBER(N89),N89,0),H89-IF(ISNUMBER(I89),I89,0),0),IF(ISNUMBER(AM89),MAX(AM89,N(N89)),IF(ISNUMBER(G89),MAX(G89,N(N89)),N(N89)))))) -> 10 | AA89: =IF(OR(A89="",COUNT(B89:C89)<>2),"",IF(OR(WEEKDAY(B89,2)>5,COUNTIF(criterio!$B$25:$E$25,B89)>0),"Cambiar día de elaboración",IF(OR(WEEKDAY(C89,2)>5,COUNTIF(criterio!$B$25:$E$25,C89)>0),"Cambiar día de retiro",IF(SUMIF($B$9:$B$128,B89,$AD$9:$AD$128)>criterio!$D$26,"Más de dos recetas",IF(OR(A89="",NOT(ISNUMBER(B89))),"",IF(OR(NOT(ISNUMBER($Q$2)),NOT(ISNUMBER($Q$3)),$Q$2<=0,$Q$3<=0),"Revisar topes de carga",IF(SUMIFS($Z$9:$Z$128,$B$9:$B$128,B89,$F$9:$F$128,"kg")/$Q$2+SUMIFS($Z$9:$Z$128,$B$9:$B$128,B89,$F$9:$F$128,"L")/$Q$3>1.000001,"Repartir carga del día",""))))))) | AB89: =IF(COUNTA(A89:E89,H89:I89,K89:N89)=0,"",IF(R89=0,"Elegir producto",IF(COUNT(B89:E89)<>4,"Completar fechas",IF(E89<D89,"Revisar días de uso",IF(C89+criterio!$B$3>D89,"El retiro llega tarde",IF(AND(N89<>"",OR(NOT(ISNUMBER(N89)),N89<0)),"Revisar cantidad hecha",IF(AND(M89<>"",OR(NOT(ISNUMBER(M89)),M89<0)),"Revisar cant. a adelantar",IF(AND(AND(ISBLANK(H89),L89="Adelanto"),NOT(ISNUMBER(AM89))),"Cargar cant. a adelantar",IF(AND(AND(ISBLANK(H89),L89="Adelanto"),I89<>"",OR(NOT(ISNUMBER(I89)),I89<>0)),"Revisar stock del adelanto",IF(AND(ISNUMBER(N89),N89>0,L89<>"Sí",L89<>"Adelanto",N(M89)<=0),"Hecho sin liberar",IF(AND(ISBLANK(H89),L89<>"Adelanto",OR(I89<>"",L89="Sí")),"Falta pedido real",IF(AND(H89<>"",OR(NOT(ISNUMBER(H89)),H89<0)),"Revisar pedido",IF(AND(ISNUMBER(H89),H89=0,N(M89)>0,N(N89)>0,N(I89)=0),"Reasignar sobrante",IF(AND(ISNUMBER(H89),H89=0,OR(N89>0,I89>0)),"Revisar pedido y cantidades",IF(AND(ISNUMBER(H89),H89=0),"Sin pedido",IF(AND(ISNUMBER(H89),ISBLANK(I89)),"Falta anotar stock",IF(AND(I89<>"",OR(NOT(ISNUMBER(I89)),I89<0,AND(ISNUMBER(H89),I89>H89))),"Revisar stock asignado",IF(AND(ISNUMBER(I89),I89>0,NOT(ISNUMBER(K89))),"Falta vencimiento de stock",IF(AND(ISNUMBER(I89),I89>0,K89<E89+criterio!$B$4),"El stock no cubre el uso",IF(AND(ISNUMBER(H89),ISNUMBER(I89),H89=I89,OR(N89="",N89=0)),"Cubierto con stock",IF(B89=criterio!$B$25,"Jornada bloqueada",IF(B89+S89>C89,"No llega al retiro",IF(Q89<E89,"Vence antes del último uso",IF(Q89<E89+criterio!$B$4,"Falta margen de vida útil",IF(AND(ISBLANK(H89),L89<>"Adelanto",N(N89)>0,N(M89)>0),"Adelanto en pausa",IF(NOT(ISNUMBER(AM89)),"Previsión",IF(AND(ISNUMBER(H89),N(M89)>0,N(N89)>ROUND(H89-N(I89),3)),"Reasignar sobrante",IF(AND(ISNUMBER(N89),N89>ROUND(AM89-N(I89),3)),"Revisar excedente",IF(AND(ISNUMBER(H89),L89<>"Sí",NOT(AND(N(M89)>0,J89=0))),"Por confirmar",IF(J89=0,"Hecho",IF(AND(ISNUMBER(N89),N89>0),"Completar","Preparar"))))))))))))))))))))))))))))))) -> Previsión | AC89: =IF(OR(W89<>"",AJ89=0),0,IF(COUNTIFS($A$9:$A$128,A89,$AJ$9:$AJ$128,1,$D$9:$D$128,"<="&E89,$E$9:$E$128,">="&D89)>1,1,0)) -> 0 | AD89: =IF(OR(NOT(ISNUMBER(B89)),A89="",NOT(ISNUMBER(Z89)),Z89<=0),0,IF(COUNTIFS($A$9:A89,A89,$B$9:B89,B89,$Z$9:Z89,">0")=1,1,0)) -> 1 | AE89: =IF(OR(AK89<=0,AC89=1),0,IF(AND(A89="Tsue",NOT(AND(ISBLANK(H89),L89="Adelanto"))),IF(ISNUMBER(C89),SUMIFS($H$9:$H$128,$A$9:$A$128,A89,$C$9:$C$128,C89,$AC$9:$AC$128,0,$H$9:$H$128,">0"),0),IF(ISNUMBER(Z89),Z89,0))) -> 0 | AF89: =IF(OR(AE89<=0,AK89<=0),0,IF(ABS(AE89/AK89-ROUND(AE89/AK89,0))>0.000001,1,0)) -> 0 | AG89: =IF(OR(AF89=0,AK89<=0),"",IF(A89="Tsue","Retiro: ","Tanda: ")&ROUND(AE89,3)&" "&F89&". Acordar "&INT(AE89/AK89)&" o "&ROUNDUP(AE89/AK89,0)&IF(A89="Tsue"," envases de 5 L."," porciones de 500 g.")) | AH89: =IF(COUNTA(A89:E89,H89:I89,K89:L89,N89)=0,0,IF(OR(NOT(ISNUMBER(B89)),B89<'Por semana'!$C$45,B89>'Por semana'!$J$46+6),1,0)) -> 0 | AI89: =IF(OR(AC89=1,A89=""),0,IF(ISNUMBER(H89),MAX(0,H89),IF(ISNUMBER(G89),G89,0))) -> 10 | AJ89: =IF(OR(A89="",NOT(ISNUMBER(D89)),NOT(ISNUMBER(E89)),AND(ISNUMBER(H89),H89=0)),0,1) -> 1 | AK89: =IF(R89=0,0,IFERROR(INDEX(criterio!$J$11:$J$22,R89)+0,0)) -> 0 | AL89: =IF(AC89=1,"Usar la fila ya prevista",IF(AND(AF89=1,OR(AB89="Preparar",AB89="Completar",AB89="Por confirmar"),AA89=""),"Acordar envases",IF(AND(OR(AB89="Previsión",AB89="Por confirmar",AB89="Preparar",AB89="Completar"),AA89<>""),AA89,AB89))) -> Previsión | AM89: =IF(ISNUMBER(H89),H89,IF(AND(ISBLANK(H89),L89="Adelanto",ISNUMBER(M89),M89>0),M89,""))
F90: =IF(R90=0,"",INDEX(criterio!$B$11:$B$22,R90)) | G90: =IFERROR(IF(INDEX(criterio!$B$31:$B$111,MATCH(W90,criterio!$A$31:$A$111,0))=A90,INDEX(criterio!$C$31:$C$111,MATCH(W90,criterio!$A$31:$A$111,0)),""),"") | J90: =IF(AND(ISNUMBER(AM90),OR(ISBLANK(H90),ISNUMBER(I90))),MAX(0,ROUND(AM90-IF(ISBLANK(H90),0,N(I90))-N(N90),3)),"") | O90: =IF(AL90="Reasignar sobrante","Sobran "&ROUND(N90-MAX(0,H90-N(I90)),3)&" "&F90&" para stock",IF(AND(ISNUMBER(H90),L90="Adelanto",AL90="Por confirmar"),IF(J90>0,IF(J90=1,"Falta ","Faltan ")&ROUND(J90,3)&" "&F90&". Elegí «Sí»"&CHAR(10)&"en «¿Mandar a preparar?».","No falta producir."),IF(AL90="Acordar envases",AL90&" ("&INT(AE90/AK90)&" o "&ROUNDUP(AE90/AK90,0)&")",AL90)&IF(P90="","",CHAR(10)&"Adelanto movido al pico"))) | P90: =IFERROR(IF(AND(INDEX(criterio!$I$31:$I$111,MATCH(W90,criterio!$A$31:$A$111,0))=1,INDEX(criterio!$B$31:$B$111,MATCH(W90,criterio!$A$31:$A$111,0))=A90,ISNUMBER(B90),B90>=criterio!$B$5,D90<=criterio!$B$6,E90>=criterio!$B$5),"Fuera de la previa del 20/12",""),"") | Q90: =IF(AND(R90>0,ISNUMBER(B90)),IF(U90="mes",EDATE(B90,T90),B90+T90),"") | R90: =IFERROR(MATCH(A90,criterio!$A$11:$A$22,0),0) -> 0 | S90: =IF(R90=0,"",INDEX(criterio!$E$11:$E$22,R90)) | T90: =IF(R90=0,"",INDEX(criterio!$C$11:$C$22,R90)) | U90: =IF(R90=0,"",INDEX(criterio!$D$11:$D$22,R90)) | V90: =IF(AND(ISNUMBER(B90),B90=Turno!$B$3,OR(AL90="Preparar",AL90="Completar")),MAX($V$8:V89)+1,0) -> 0 | Y90: =IF(R90=0,"",INDEX(criterio!$I$11:$I$22,R90)) | Z90: =IF(AC90=1,0,IF(A90="","",IF(ISNUMBER(H90),MAX(IF(ISNUMBER(N90),N90,0),H90-IF(ISNUMBER(I90),I90,0),0),IF(ISNUMBER(AM90),MAX(AM90,N(N90)),IF(ISNUMBER(G90),MAX(G90,N(N90)),N(N90)))))) | AA90: =IF(OR(A90="",COUNT(B90:C90)<>2),"",IF(OR(WEEKDAY(B90,2)>5,COUNTIF(criterio!$B$25:$E$25,B90)>0),"Cambiar día de elaboración",IF(OR(WEEKDAY(C90,2)>5,COUNTIF(criterio!$B$25:$E$25,C90)>0),"Cambiar día de retiro",IF(SUMIF($B$9:$B$128,B90,$AD$9:$AD$128)>criterio!$D$26,"Más de dos recetas",IF(OR(A90="",NOT(ISNUMBER(B90))),"",IF(OR(NOT(ISNUMBER($Q$2)),NOT(ISNUMBER($Q$3)),$Q$2<=0,$Q$3<=0),"Revisar topes de carga",IF(SUMIFS($Z$9:$Z$128,$B$9:$B$128,B90,$F$9:$F$128,"kg")/$Q$2+SUMIFS($Z$9:$Z$128,$B$9:$B$128,B90,$F$9:$F$128,"L")/$Q$3>1.000001,"Repartir carga del día",""))))))) | AB90: =IF(COUNTA(A90:E90,H90:I90,K90:N90)=0,"",IF(R90=0,"Elegir producto",IF(COUNT(B90:E90)<>4,"Completar fechas",IF(E90<D90,"Revisar días de uso",IF(C90+criterio!$B$3>D90,"El retiro llega tarde",IF(AND(N90<>"",OR(NOT(ISNUMBER(N90)),N90<0)),"Revisar cantidad hecha",IF(AND(M90<>"",OR(NOT(ISNUMBER(M90)),M90<0)),"Revisar cant. a adelantar",IF(AND(AND(ISBLANK(H90),L90="Adelanto"),NOT(ISNUMBER(AM90))),"Cargar cant. a adelantar",IF(AND(AND(ISBLANK(H90),L90="Adelanto"),I90<>"",OR(NOT(ISNUMBER(I90)),I90<>0)),"Revisar stock del adelanto",IF(AND(ISNUMBER(N90),N90>0,L90<>"Sí",L90<>"Adelanto",N(M90)<=0),"Hecho sin liberar",IF(AND(ISBLANK(H90),L90<>"Adelanto",OR(I90<>"",L90="Sí")),"Falta pedido real",IF(AND(H90<>"",OR(NOT(ISNUMBER(H90)),H90<0)),"Revisar pedido",IF(AND(ISNUMBER(H90),H90=0,N(M90)>0,N(N90)>0,N(I90)=0),"Reasignar sobrante",IF(AND(ISNUMBER(H90),H90=0,OR(N90>0,I90>0)),"Revisar pedido y cantidades",IF(AND(ISNUMBER(H90),H90=0),"Sin pedido",IF(AND(ISNUMBER(H90),ISBLANK(I90)),"Falta anotar stock",IF(AND(I90<>"",OR(NOT(ISNUMBER(I90)),I90<0,AND(ISNUMBER(H90),I90>H90))),"Revisar stock asignado",IF(AND(ISNUMBER(I90),I90>0,NOT(ISNUMBER(K90))),"Falta vencimiento de stock",IF(AND(ISNUMBER(I90),I90>0,K90<E90+criterio!$B$4),"El stock no cubre el uso",IF(AND(ISNUMBER(H90),ISNUMBER(I90),H90=I90,OR(N90="",N90=0)),"Cubierto con stock",IF(B90=criterio!$B$25,"Jornada bloqueada",IF(B90+S90>C90,"No llega al retiro",IF(Q90<E90,"Vence antes del último uso",IF(Q90<E90+criterio!$B$4,"Falta margen de vida útil",IF(AND(ISBLANK(H90),L90<>"Adelanto",N(N90)>0,N(M90)>0),"Adelanto en pausa",IF(NOT(ISNUMBER(AM90)),"Previsión",IF(AND(ISNUMBER(H90),N(M90)>0,N(N90)>ROUND(H90-N(I90),3)),"Reasignar sobrante",IF(AND(ISNUMBER(N90),N90>ROUND(AM90-N(I90),3)),"Revisar excedente",IF(AND(ISNUMBER(H90),L90<>"Sí",NOT(AND(N(M90)>0,J90=0))),"Por confirmar",IF(J90=0,"Hecho",IF(AND(ISNUMBER(N90),N90>0),"Completar","Preparar"))))))))))))))))))))))))))))))) | AC90: =IF(OR(W90<>"",AJ90=0),0,IF(COUNTIFS($A$9:$A$128,A90,$AJ$9:$AJ$128,1,$D$9:$D$128,"<="&E90,$E$9:$E$128,">="&D90)>1,1,0)) -> 0 | AD90: =IF(OR(NOT(ISNUMBER(B90)),A90="",NOT(ISNUMBER(Z90)),Z90<=0),0,IF(COUNTIFS($A$9:A90,A90,$B$9:B90,B90,$Z$9:Z90,">0")=1,1,0)) -> 0 | AE90: =IF(OR(AK90<=0,AC90=1),0,IF(AND(A90="Tsue",NOT(AND(ISBLANK(H90),L90="Adelanto"))),IF(ISNUMBER(C90),SUMIFS($H$9:$H$128,$A$9:$A$128,A90,$C$9:$C$128,C90,$AC$9:$AC$128,0,$H$9:$H$128,">0"),0),IF(ISNUMBER(Z90),Z90,0))) -> 0 | AF90: =IF(OR(AE90<=0,AK90<=0),0,IF(ABS(AE90/AK90-ROUND(AE90/AK90,0))>0.000001,1,0)) -> 0 | AG90: =IF(OR(AF90=0,AK90<=0),"",IF(A90="Tsue","Retiro: ","Tanda: ")&ROUND(AE90,3)&" "&F90&". Acordar "&INT(AE90/AK90)&" o "&ROUNDUP(AE90/AK90,0)&IF(A90="Tsue"," envases de 5 L."," porciones de 500 g.")) | AH90: =IF(COUNTA(A90:E90,H90:I90,K90:L90,N90)=0,0,IF(OR(NOT(ISNUMBER(B90)),B90<'Por semana'!$C$45,B90>'Por semana'!$J$46+6),1,0)) -> 0 | AI90: =IF(OR(AC90=1,A90=""),0,IF(ISNUMBER(H90),MAX(0,H90),IF(ISNUMBER(G90),G90,0))) -> 0 | AJ90: =IF(OR(A90="",NOT(ISNUMBER(D90)),NOT(ISNUMBER(E90)),AND(ISNUMBER(H90),H90=0)),0,1) -> 0 | AK90: =IF(R90=0,0,IFERROR(INDEX(criterio!$J$11:$J$22,R90)+0,0)) -> 0 | AL90: =IF(AC90=1,"Usar la fila ya prevista",IF(AND(AF90=1,OR(AB90="Preparar",AB90="Completar",AB90="Por confirmar"),AA90=""),"Acordar envases",IF(AND(OR(AB90="Previsión",AB90="Por confirmar",AB90="Preparar",AB90="Completar"),AA90<>""),AA90,AB90))) | AM90: =IF(ISNUMBER(H90),H90,IF(AND(ISBLANK(H90),L90="Adelanto",ISNUMBER(M90),M90>0),M90,""))
F91: =IF(R91=0,"",INDEX(criterio!$B$11:$B$22,R91)) | G91: =IFERROR(IF(INDEX(criterio!$B$31:$B$111,MATCH(W91,criterio!$A$31:$A$111,0))=A91,INDEX(criterio!$C$31:$C$111,MATCH(W91,criterio!$A$31:$A$111,0)),""),"") | J91: =IF(AND(ISNUMBER(AM91),OR(ISBLANK(H91),ISNUMBER(I91))),MAX(0,ROUND(AM91-IF(ISBLANK(H91),0,N(I91))-N(N91),3)),"") | O91: =IF(AL91="Reasignar sobrante","Sobran "&ROUND(N91-MAX(0,H91-N(I91)),3)&" "&F91&" para stock",IF(AND(ISNUMBER(H91),L91="Adelanto",AL91="Por confirmar"),IF(J91>0,IF(J91=1,"Falta ","Faltan ")&ROUND(J91,3)&" "&F91&". Elegí «Sí»"&CHAR(10)&"en «¿Mandar a preparar?».","No falta producir."),IF(AL91="Acordar envases",AL91&" ("&INT(AE91/AK91)&" o "&ROUNDUP(AE91/AK91,0)&")",AL91)&IF(P91="","",CHAR(10)&"Adelanto movido al pico"))) | P91: =IFERROR(IF(AND(INDEX(criterio!$I$31:$I$111,MATCH(W91,criterio!$A$31:$A$111,0))=1,INDEX(criterio!$B$31:$B$111,MATCH(W91,criterio!$A$31:$A$111,0))=A91,ISNUMBER(B91),B91>=criterio!$B$5,D91<=criterio!$B$6,E91>=criterio!$B$5),"Fuera de la previa del 20/12",""),"") | Q91: =IF(AND(R91>0,ISNUMBER(B91)),IF(U91="mes",EDATE(B91,T91),B91+T91),"") | R91: =IFERROR(MATCH(A91,criterio!$A$11:$A$22,0),0) -> 0 | S91: =IF(R91=0,"",INDEX(criterio!$E$11:$E$22,R91)) | T91: =IF(R91=0,"",INDEX(criterio!$C$11:$C$22,R91)) | U91: =IF(R91=0,"",INDEX(criterio!$D$11:$D$22,R91)) | V91: =IF(AND(ISNUMBER(B91),B91=Turno!$B$3,OR(AL91="Preparar",AL91="Completar")),MAX($V$8:V90)+1,0) -> 0 | Y91: =IF(R91=0,"",INDEX(criterio!$I$11:$I$22,R91)) | Z91: =IF(AC91=1,0,IF(A91="","",IF(ISNUMBER(H91),MAX(IF(ISNUMBER(N91),N91,0),H91-IF(ISNUMBER(I91),I91,0),0),IF(ISNUMBER(AM91),MAX(AM91,N(N91)),IF(ISNUMBER(G91),MAX(G91,N(N91)),N(N91)))))) | AA91: =IF(OR(A91="",COUNT(B91:C91)<>2),"",IF(OR(WEEKDAY(B91,2)>5,COUNTIF(criterio!$B$25:$E$25,B91)>0),"Cambiar día de elaboración",IF(OR(WEEKDAY(C91,2)>5,COUNTIF(criterio!$B$25:$E$25,C91)>0),"Cambiar día de retiro",IF(SUMIF($B$9:$B$128,B91,$AD$9:$AD$128)>criterio!$D$26,"Más de dos recetas",IF(OR(A91="",NOT(ISNUMBER(B91))),"",IF(OR(NOT(ISNUMBER($Q$2)),NOT(ISNUMBER($Q$3)),$Q$2<=0,$Q$3<=0),"Revisar topes de carga",IF(SUMIFS($Z$9:$Z$128,$B$9:$B$128,B91,$F$9:$F$128,"kg")/$Q$2+SUMIFS($Z$9:$Z$128,$B$9:$B$128,B91,$F$9:$F$128,"L")/$Q$3>1.000001,"Repartir carga del día",""))))))) | AB91: =IF(COUNTA(A91:E91,H91:I91,K91:N91)=0,"",IF(R91=0,"Elegir producto",IF(COUNT(B91:E91)<>4,"Completar fechas",IF(E91<D91,"Revisar días de uso",IF(C91+criterio!$B$3>D91,"El retiro llega tarde",IF(AND(N91<>"",OR(NOT(ISNUMBER(N91)),N91<0)),"Revisar cantidad hecha",IF(AND(M91<>"",OR(NOT(ISNUMBER(M91)),M91<0)),"Revisar cant. a adelantar",IF(AND(AND(ISBLANK(H91),L91="Adelanto"),NOT(ISNUMBER(AM91))),"Cargar cant. a adelantar",IF(AND(AND(ISBLANK(H91),L91="Adelanto"),I91<>"",OR(NOT(ISNUMBER(I91)),I91<>0)),"Revisar stock del adelanto",IF(AND(ISNUMBER(N91),N91>0,L91<>"Sí",L91<>"Adelanto",N(M91)<=0),"Hecho sin liberar",IF(AND(ISBLANK(H91),L91<>"Adelanto",OR(I91<>"",L91="Sí")),"Falta pedido real",IF(AND(H91<>"",OR(NOT(ISNUMBER(H91)),H91<0)),"Revisar pedido",IF(AND(ISNUMBER(H91),H91=0,N(M91)>0,N(N91)>0,N(I91)=0),"Reasignar sobrante",IF(AND(ISNUMBER(H91),H91=0,OR(N91>0,I91>0)),"Revisar pedido y cantidades",IF(AND(ISNUMBER(H91),H91=0),"Sin pedido",IF(AND(ISNUMBER(H91),ISBLANK(I91)),"Falta anotar stock",IF(AND(I91<>"",OR(NOT(ISNUMBER(I91)),I91<0,AND(ISNUMBER(H91),I91>H91))),"Revisar stock asignado",IF(AND(ISNUMBER(I91),I91>0,NOT(ISNUMBER(K91))),"Falta vencimiento de stock",IF(AND(ISNUMBER(I91),I91>0,K91<E91+criterio!$B$4),"El stock no cubre el uso",IF(AND(ISNUMBER(H91),ISNUMBER(I91),H91=I91,OR(N91="",N91=0)),"Cubierto con stock",IF(B91=criterio!$B$25,"Jornada bloqueada",IF(B91+S91>C91,"No llega al retiro",IF(Q91<E91,"Vence antes del último uso",IF(Q91<E91+criterio!$B$4,"Falta margen de vida útil",IF(AND(ISBLANK(H91),L91<>"Adelanto",N(N91)>0,N(M91)>0),"Adelanto en pausa",IF(NOT(ISNUMBER(AM91)),"Previsión",IF(AND(ISNUMBER(H91),N(M91)>0,N(N91)>ROUND(H91-N(I91),3)),"Reasignar sobrante",IF(AND(ISNUMBER(N91),N91>ROUND(AM91-N(I91),3)),"Revisar excedente",IF(AND(ISNUMBER(H91),L91<>"Sí",NOT(AND(N(M91)>0,J91=0))),"Por confirmar",IF(J91=0,"Hecho",IF(AND(ISNUMBER(N91),N91>0),"Completar","Preparar"))))))))))))))))))))))))))))))) | AC91: =IF(OR(W91<>"",AJ91=0),0,IF(COUNTIFS($A$9:$A$128,A91,$AJ$9:$AJ$128,1,$D$9:$D$128,"<="&E91,$E$9:$E$128,">="&D91)>1,1,0)) -> 0 | AD91: =IF(OR(NOT(ISNUMBER(B91)),A91="",NOT(ISNUMBER(Z91)),Z91<=0),0,IF(COUNTIFS($A$9:A91,A91,$B$9:B91,B91,$Z$9:Z91,">0")=1,1,0)) -> 0 | AE91: =IF(OR(AK91<=0,AC91=1),0,IF(AND(A91="Tsue",NOT(AND(ISBLANK(H91),L91="Adelanto"))),IF(ISNUMBER(C91),SUMIFS($H$9:$H$128,$A$9:$A$128,A91,$C$9:$C$128,C91,$AC$9:$AC$128,0,$H$9:$H$128,">0"),0),IF(ISNUMBER(Z91),Z91,0))) -> 0 | AF91: =IF(OR(AE91<=0,AK91<=0),0,IF(ABS(AE91/AK91-ROUND(AE91/AK91,0))>0.000001,1,0)) -> 0 | AG91: =IF(OR(AF91=0,AK91<=0),"",IF(A91="Tsue","Retiro: ","Tanda: ")&ROUND(AE91,3)&" "&F91&". Acordar "&INT(AE91/AK91)&" o "&ROUNDUP(AE91/AK91,0)&IF(A91="Tsue"," envases de 5 L."," porciones de 500 g.")) | AH91: =IF(COUNTA(A91:E91,H91:I91,K91:L91,N91)=0,0,IF(OR(NOT(ISNUMBER(B91)),B91<'Por semana'!$C$45,B91>'Por semana'!$J$46+6),1,0)) -> 0 | AI91: =IF(OR(AC91=1,A91=""),0,IF(ISNUMBER(H91),MAX(0,H91),IF(ISNUMBER(G91),G91,0))) -> 0 | AJ91: =IF(OR(A91="",NOT(ISNUMBER(D91)),NOT(ISNUMBER(E91)),AND(ISNUMBER(H91),H91=0)),0,1) -> 0 | AK91: =IF(R91=0,0,IFERROR(INDEX(criterio!$J$11:$J$22,R91)+0,0)) -> 0 | AL91: =IF(AC91=1,"Usar la fila ya prevista",IF(AND(AF91=1,OR(AB91="Preparar",AB91="Completar",AB91="Por confirmar"),AA91=""),"Acordar envases",IF(AND(OR(AB91="Previsión",AB91="Por confirmar",AB91="Preparar",AB91="Completar"),AA91<>""),AA91,AB91))) | AM91: =IF(ISNUMBER(H91),H91,IF(AND(ISBLANK(H91),L91="Adelanto",ISNUMBER(M91),M91>0),M91,""))
F92: =IF(R92=0,"",INDEX(criterio!$B$11:$B$22,R92)) | G92: =IFERROR(IF(INDEX(criterio!$B$31:$B$111,MATCH(W92,criterio!$A$31:$A$111,0))=A92,INDEX(criterio!$C$31:$C$111,MATCH(W92,criterio!$A$31:$A$111,0)),""),"") | J92: =IF(AND(ISNUMBER(AM92),OR(ISBLANK(H92),ISNUMBER(I92))),MAX(0,ROUND(AM92-IF(ISBLANK(H92),0,N(I92))-N(N92),3)),"") | O92: =IF(AL92="Reasignar sobrante","Sobran "&ROUND(N92-MAX(0,H92-N(I92)),3)&" "&F92&" para stock",IF(AND(ISNUMBER(H92),L92="Adelanto",AL92="Por confirmar"),IF(J92>0,IF(J92=1,"Falta ","Faltan ")&ROUND(J92,3)&" "&F92&". Elegí «Sí»"&CHAR(10)&"en «¿Mandar a preparar?».","No falta producir."),IF(AL92="Acordar envases",AL92&" ("&INT(AE92/AK92)&" o "&ROUNDUP(AE92/AK92,0)&")",AL92)&IF(P92="","",CHAR(10)&"Adelanto movido al pico"))) | P92: =IFERROR(IF(AND(INDEX(criterio!$I$31:$I$111,MATCH(W92,criterio!$A$31:$A$111,0))=1,INDEX(criterio!$B$31:$B$111,MATCH(W92,criterio!$A$31:$A$111,0))=A92,ISNUMBER(B92),B92>=criterio!$B$5,D92<=criterio!$B$6,E92>=criterio!$B$5),"Fuera de la previa del 20/12",""),"") | Q92: =IF(AND(R92>0,ISNUMBER(B92)),IF(U92="mes",EDATE(B92,T92),B92+T92),"") | R92: =IFERROR(MATCH(A92,criterio!$A$11:$A$22,0),0) -> 0 | S92: =IF(R92=0,"",INDEX(criterio!$E$11:$E$22,R92)) | T92: =IF(R92=0,"",INDEX(criterio!$C$11:$C$22,R92)) | U92: =IF(R92=0,"",INDEX(criterio!$D$11:$D$22,R92)) | V92: =IF(AND(ISNUMBER(B92),B92=Turno!$B$3,OR(AL92="Preparar",AL92="Completar")),MAX($V$8:V91)+1,0) -> 0 | Y92: =IF(R92=0,"",INDEX(criterio!$I$11:$I$22,R92)) | Z92: =IF(AC92=1,0,IF(A92="","",IF(ISNUMBER(H92),MAX(IF(ISNUMBER(N92),N92,0),H92-IF(ISNUMBER(I92),I92,0),0),IF(ISNUMBER(AM92),MAX(AM92,N(N92)),IF(ISNUMBER(G92),MAX(G92,N(N92)),N(N92)))))) | AA92: =IF(OR(A92="",COUNT(B92:C92)<>2),"",IF(OR(WEEKDAY(B92,2)>5,COUNTIF(criterio!$B$25:$E$25,B92)>0),"Cambiar día de elaboración",IF(OR(WEEKDAY(C92,2)>5,COUNTIF(criterio!$B$25:$E$25,C92)>0),"Cambiar día de retiro",IF(SUMIF($B$9:$B$128,B92,$AD$9:$AD$128)>criterio!$D$26,"Más de dos recetas",IF(OR(A92="",NOT(ISNUMBER(B92))),"",IF(OR(NOT(ISNUMBER($Q$2)),NOT(ISNUMBER($Q$3)),$Q$2<=0,$Q$3<=0),"Revisar topes de carga",IF(SUMIFS($Z$9:$Z$128,$B$9:$B$128,B92,$F$9:$F$128,"kg")/$Q$2+SUMIFS($Z$9:$Z$128,$B$9:$B$128,B92,$F$9:$F$128,"L")/$Q$3>1.000001,"Repartir carga del día",""))))))) | AB92: =IF(COUNTA(A92:E92,H92:I92,K92:N92)=0,"",IF(R92=0,"Elegir producto",IF(COUNT(B92:E92)<>4,"Completar fechas",IF(E92<D92,"Revisar días de uso",IF(C92+criterio!$B$3>D92,"El retiro llega tarde",IF(AND(N92<>"",OR(NOT(ISNUMBER(N92)),N92<0)),"Revisar cantidad hecha",IF(AND(M92<>"",OR(NOT(ISNUMBER(M92)),M92<0)),"Revisar cant. a adelantar",IF(AND(AND(ISBLANK(H92),L92="Adelanto"),NOT(ISNUMBER(AM92))),"Cargar cant. a adelantar",IF(AND(AND(ISBLANK(H92),L92="Adelanto"),I92<>"",OR(NOT(ISNUMBER(I92)),I92<>0)),"Revisar stock del adelanto",IF(AND(ISNUMBER(N92),N92>0,L92<>"Sí",L92<>"Adelanto",N(M92)<=0),"Hecho sin liberar",IF(AND(ISBLANK(H92),L92<>"Adelanto",OR(I92<>"",L92="Sí")),"Falta pedido real",IF(AND(H92<>"",OR(NOT(ISNUMBER(H92)),H92<0)),"Revisar pedido",IF(AND(ISNUMBER(H92),H92=0,N(M92)>0,N(N92)>0,N(I92)=0),"Reasignar sobrante",IF(AND(ISNUMBER(H92),H92=0,OR(N92>0,I92>0)),"Revisar pedido y cantidades",IF(AND(ISNUMBER(H92),H92=0),"Sin pedido",IF(AND(ISNUMBER(H92),ISBLANK(I92)),"Falta anotar stock",IF(AND(I92<>"",OR(NOT(ISNUMBER(I92)),I92<0,AND(ISNUMBER(H92),I92>H92))),"Revisar stock asignado",IF(AND(ISNUMBER(I92),I92>0,NOT(ISNUMBER(K92))),"Falta vencimiento de stock",IF(AND(ISNUMBER(I92),I92>0,K92<E92+criterio!$B$4),"El stock no cubre el uso",IF(AND(ISNUMBER(H92),ISNUMBER(I92),H92=I92,OR(N92="",N92=0)),"Cubierto con stock",IF(B92=criterio!$B$25,"Jornada bloqueada",IF(B92+S92>C92,"No llega al retiro",IF(Q92<E92,"Vence antes del último uso",IF(Q92<E92+criterio!$B$4,"Falta margen de vida útil",IF(AND(ISBLANK(H92),L92<>"Adelanto",N(N92)>0,N(M92)>0),"Adelanto en pausa",IF(NOT(ISNUMBER(AM92)),"Previsión",IF(AND(ISNUMBER(H92),N(M92)>0,N(N92)>ROUND(H92-N(I92),3)),"Reasignar sobrante",IF(AND(ISNUMBER(N92),N92>ROUND(AM92-N(I92),3)),"Revisar excedente",IF(AND(ISNUMBER(H92),L92<>"Sí",NOT(AND(N(M92)>0,J92=0))),"Por confirmar",IF(J92=0,"Hecho",IF(AND(ISNUMBER(N92),N92>0),"Completar","Preparar"))))))))))))))))))))))))))))))) | AC92: =IF(OR(W92<>"",AJ92=0),0,IF(COUNTIFS($A$9:$A$128,A92,$AJ$9:$AJ$128,1,$D$9:$D$128,"<="&E92,$E$9:$E$128,">="&D92)>1,1,0)) -> 0 | AD92: =IF(OR(NOT(ISNUMBER(B92)),A92="",NOT(ISNUMBER(Z92)),Z92<=0),0,IF(COUNTIFS($A$9:A92,A92,$B$9:B92,B92,$Z$9:Z92,">0")=1,1,0)) -> 0 | AE92: =IF(OR(AK92<=0,AC92=1),0,IF(AND(A92="Tsue",NOT(AND(ISBLANK(H92),L92="Adelanto"))),IF(ISNUMBER(C92),SUMIFS($H$9:$H$128,$A$9:$A$128,A92,$C$9:$C$128,C92,$AC$9:$AC$128,0,$H$9:$H$128,">0"),0),IF(ISNUMBER(Z92),Z92,0))) -> 0 | AF92: =IF(OR(AE92<=0,AK92<=0),0,IF(ABS(AE92/AK92-ROUND(AE92/AK92,0))>0.000001,1,0)) -> 0 | AG92: =IF(OR(AF92=0,AK92<=0),"",IF(A92="Tsue","Retiro: ","Tanda: ")&ROUND(AE92,3)&" "&F92&". Acordar "&INT(AE92/AK92)&" o "&ROUNDUP(AE92/AK92,0)&IF(A92="Tsue"," envases de 5 L."," porciones de 500 g.")) | AH92: =IF(COUNTA(A92:E92,H92:I92,K92:L92,N92)=0,0,IF(OR(NOT(ISNUMBER(B92)),B92<'Por semana'!$C$45,B92>'Por semana'!$J$46+6),1,0)) -> 0 | AI92: =IF(OR(AC92=1,A92=""),0,IF(ISNUMBER(H92),MAX(0,H92),IF(ISNUMBER(G92),G92,0))) -> 0 | AJ92: =IF(OR(A92="",NOT(ISNUMBER(D92)),NOT(ISNUMBER(E92)),AND(ISNUMBER(H92),H92=0)),0,1) -> 0 | AK92: =IF(R92=0,0,IFERROR(INDEX(criterio!$J$11:$J$22,R92)+0,0)) -> 0 | AL92: =IF(AC92=1,"Usar la fila ya prevista",IF(AND(AF92=1,OR(AB92="Preparar",AB92="Completar",AB92="Por confirmar"),AA92=""),"Acordar envases",IF(AND(OR(AB92="Previsión",AB92="Por confirmar",AB92="Preparar",AB92="Completar"),AA92<>""),AA92,AB92))) | AM92: =IF(ISNUMBER(H92),H92,IF(AND(ISBLANK(H92),L92="Adelanto",ISNUMBER(M92),M92>0),M92,""))
F93: =IF(R93=0,"",INDEX(criterio!$B$11:$B$22,R93)) | G93: =IFERROR(IF(INDEX(criterio!$B$31:$B$111,MATCH(W93,criterio!$A$31:$A$111,0))=A93,INDEX(criterio!$C$31:$C$111,MATCH(W93,criterio!$A$31:$A$111,0)),""),"") | J93: =IF(AND(ISNUMBER(AM93),OR(ISBLANK(H93),ISNUMBER(I93))),MAX(0,ROUND(AM93-IF(ISBLANK(H93),0,N(I93))-N(N93),3)),"") | O93: =IF(AL93="Reasignar sobrante","Sobran "&ROUND(N93-MAX(0,H93-N(I93)),3)&" "&F93&" para stock",IF(AND(ISNUMBER(H93),L93="Adelanto",AL93="Por confirmar"),IF(J93>0,IF(J93=1,"Falta ","Faltan ")&ROUND(J93,3)&" "&F93&". Elegí «Sí»"&CHAR(10)&"en «¿Mandar a preparar?».","No falta producir."),IF(AL93="Acordar envases",AL93&" ("&INT(AE93/AK93)&" o "&ROUNDUP(AE93/AK93,0)&")",AL93)&IF(P93="","",CHAR(10)&"Adelanto movido al pico"))) | P93: =IFERROR(IF(AND(INDEX(criterio!$I$31:$I$111,MATCH(W93,criterio!$A$31:$A$111,0))=1,INDEX(criterio!$B$31:$B$111,MATCH(W93,criterio!$A$31:$A$111,0))=A93,ISNUMBER(B93),B93>=criterio!$B$5,D93<=criterio!$B$6,E93>=criterio!$B$5),"Fuera de la previa del 20/12",""),"") | Q93: =IF(AND(R93>0,ISNUMBER(B93)),IF(U93="mes",EDATE(B93,T93),B93+T93),"") | R93: =IFERROR(MATCH(A93,criterio!$A$11:$A$22,0),0) -> 0 | S93: =IF(R93=0,"",INDEX(criterio!$E$11:$E$22,R93)) | T93: =IF(R93=0,"",INDEX(criterio!$C$11:$C$22,R93)) | U93: =IF(R93=0,"",INDEX(criterio!$D$11:$D$22,R93)) | V93: =IF(AND(ISNUMBER(B93),B93=Turno!$B$3,OR(AL93="Preparar",AL93="Completar")),MAX($V$8:V92)+1,0) -> 0 | Y93: =IF(R93=0,"",INDEX(criterio!$I$11:$I$22,R93)) | Z93: =IF(AC93=1,0,IF(A93="","",IF(ISNUMBER(H93),MAX(IF(ISNUMBER(N93),N93,0),H93-IF(ISNUMBER(I93),I93,0),0),IF(ISNUMBER(AM93),MAX(AM93,N(N93)),IF(ISNUMBER(G93),MAX(G93,N(N93)),N(N93)))))) | AA93: =IF(OR(A93="",COUNT(B93:C93)<>2),"",IF(OR(WEEKDAY(B93,2)>5,COUNTIF(criterio!$B$25:$E$25,B93)>0),"Cambiar día de elaboración",IF(OR(WEEKDAY(C93,2)>5,COUNTIF(criterio!$B$25:$E$25,C93)>0),"Cambiar día de retiro",IF(SUMIF($B$9:$B$128,B93,$AD$9:$AD$128)>criterio!$D$26,"Más de dos recetas",IF(OR(A93="",NOT(ISNUMBER(B93))),"",IF(OR(NOT(ISNUMBER($Q$2)),NOT(ISNUMBER($Q$3)),$Q$2<=0,$Q$3<=0),"Revisar topes de carga",IF(SUMIFS($Z$9:$Z$128,$B$9:$B$128,B93,$F$9:$F$128,"kg")/$Q$2+SUMIFS($Z$9:$Z$128,$B$9:$B$128,B93,$F$9:$F$128,"L")/$Q$3>1.000001,"Repartir carga del día",""))))))) | AB93: =IF(COUNTA(A93:E93,H93:I93,K93:N93)=0,"",IF(R93=0,"Elegir producto",IF(COUNT(B93:E93)<>4,"Completar fechas",IF(E93<D93,"Revisar días de uso",IF(C93+criterio!$B$3>D93,"El retiro llega tarde",IF(AND(N93<>"",OR(NOT(ISNUMBER(N93)),N93<0)),"Revisar cantidad hecha",IF(AND(M93<>"",OR(NOT(ISNUMBER(M93)),M93<0)),"Revisar cant. a adelantar",IF(AND(AND(ISBLANK(H93),L93="Adelanto"),NOT(ISNUMBER(AM93))),"Cargar cant. a adelantar",IF(AND(AND(ISBLANK(H93),L93="Adelanto"),I93<>"",OR(NOT(ISNUMBER(I93)),I93<>0)),"Revisar stock del adelanto",IF(AND(ISNUMBER(N93),N93>0,L93<>"Sí",L93<>"Adelanto",N(M93)<=0),"Hecho sin liberar",IF(AND(ISBLANK(H93),L93<>"Adelanto",OR(I93<>"",L93="Sí")),"Falta pedido real",IF(AND(H93<>"",OR(NOT(ISNUMBER(H93)),H93<0)),"Revisar pedido",IF(AND(ISNUMBER(H93),H93=0,N(M93)>0,N(N93)>0,N(I93)=0),"Reasignar sobrante",IF(AND(ISNUMBER(H93),H93=0,OR(N93>0,I93>0)),"Revisar pedido y cantidades",IF(AND(ISNUMBER(H93),H93=0),"Sin pedido",IF(AND(ISNUMBER(H93),ISBLANK(I93)),"Falta anotar stock",IF(AND(I93<>"",OR(NOT(ISNUMBER(I93)),I93<0,AND(ISNUMBER(H93),I93>H93))),"Revisar stock asignado",IF(AND(ISNUMBER(I93),I93>0,NOT(ISNUMBER(K93))),"Falta vencimiento de stock",IF(AND(ISNUMBER(I93),I93>0,K93<E93+criterio!$B$4),"El stock no cubre el uso",IF(AND(ISNUMBER(H93),ISNUMBER(I93),H93=I93,OR(N93="",N93=0)),"Cubierto con stock",IF(B93=criterio!$B$25,"Jornada bloqueada",IF(B93+S93>C93,"No llega al retiro",IF(Q93<E93,"Vence antes del último uso",IF(Q93<E93+criterio!$B$4,"Falta margen de vida útil",IF(AND(ISBLANK(H93),L93<>"Adelanto",N(N93)>0,N(M93)>0),"Adelanto en pausa",IF(NOT(ISNUMBER(AM93)),"Previsión",IF(AND(ISNUMBER(H93),N(M93)>0,N(N93)>ROUND(H93-N(I93),3)),"Reasignar sobrante",IF(AND(ISNUMBER(N93),N93>ROUND(AM93-N(I93),3)),"Revisar excedente",IF(AND(ISNUMBER(H93),L93<>"Sí",NOT(AND(N(M93)>0,J93=0))),"Por confirmar",IF(J93=0,"Hecho",IF(AND(ISNUMBER(N93),N93>0),"Completar","Preparar"))))))))))))))))))))))))))))))) | AC93: =IF(OR(W93<>"",AJ93=0),0,IF(COUNTIFS($A$9:$A$128,A93,$AJ$9:$AJ$128,1,$D$9:$D$128,"<="&E93,$E$9:$E$128,">="&D93)>1,1,0)) -> 0 | AD93: =IF(OR(NOT(ISNUMBER(B93)),A93="",NOT(ISNUMBER(Z93)),Z93<=0),0,IF(COUNTIFS($A$9:A93,A93,$B$9:B93,B93,$Z$9:Z93,">0")=1,1,0)) -> 0 | AE93: =IF(OR(AK93<=0,AC93=1),0,IF(AND(A93="Tsue",NOT(AND(ISBLANK(H93),L93="Adelanto"))),IF(ISNUMBER(C93),SUMIFS($H$9:$H$128,$A$9:$A$128,A93,$C$9:$C$128,C93,$AC$9:$AC$128,0,$H$9:$H$128,">0"),0),IF(ISNUMBER(Z93),Z93,0))) -> 0 | AF93: =IF(OR(AE93<=0,AK93<=0),0,IF(ABS(AE93/AK93-ROUND(AE93/AK93,0))>0.000001,1,0)) -> 0 | AG93: =IF(OR(AF93=0,AK93<=0),"",IF(A93="Tsue","Retiro: ","Tanda: ")&ROUND(AE93,3)&" "&F93&". Acordar "&INT(AE93/AK93)&" o "&ROUNDUP(AE93/AK93,0)&IF(A93="Tsue"," envases de 5 L."," porciones de 500 g.")) | AH93: =IF(COUNTA(A93:E93,H93:I93,K93:L93,N93)=0,0,IF(OR(NOT(ISNUMBER(B93)),B93<'Por semana'!$C$45,B93>'Por semana'!$J$46+6),1,0)) -> 0 | AI93: =IF(OR(AC93=1,A93=""),0,IF(ISNUMBER(H93),MAX(0,H93),IF(ISNUMBER(G93),G93,0))) -> 0 | AJ93: =IF(OR(A93="",NOT(ISNUMBER(D93)),NOT(ISNUMBER(E93)),AND(ISNUMBER(H93),H93=0)),0,1) -> 0 | AK93: =IF(R93=0,0,IFERROR(INDEX(criterio!$J$11:$J$22,R93)+0,0)) -> 0 | AL93: =IF(AC93=1,"Usar la fila ya prevista",IF(AND(AF93=1,OR(AB93="Preparar",AB93="Completar",AB93="Por confirmar"),AA93=""),"Acordar envases",IF(AND(OR(AB93="Previsión",AB93="Por confirmar",AB93="Preparar",AB93="Completar"),AA93<>""),AA93,AB93))) | AM93: =IF(ISNUMBER(H93),H93,IF(AND(ISBLANK(H93),L93="Adelanto",ISNUMBER(M93),M93>0),M93,""))
F94: =IF(R94=0,"",INDEX(criterio!$B$11:$B$22,R94)) | G94: =IFERROR(IF(INDEX(criterio!$B$31:$B$111,MATCH(W94,criterio!$A$31:$A$111,0))=A94,INDEX(criterio!$C$31:$C$111,MATCH(W94,criterio!$A$31:$A$111,0)),""),"") | J94: =IF(AND(ISNUMBER(AM94),OR(ISBLANK(H94),ISNUMBER(I94))),MAX(0,ROUND(AM94-IF(ISBLANK(H94),0,N(I94))-N(N94),3)),"") | O94: =IF(AL94="Reasignar sobrante","Sobran "&ROUND(N94-MAX(0,H94-N(I94)),3)&" "&F94&" para stock",IF(AND(ISNUMBER(H94),L94="Adelanto",AL94="Por confirmar"),IF(J94>0,IF(J94=1,"Falta ","Faltan ")&ROUND(J94,3)&" "&F94&". Elegí «Sí»"&CHAR(10)&"en «¿Mandar a preparar?».","No falta producir."),IF(AL94="Acordar envases",AL94&" ("&INT(AE94/AK94)&" o "&ROUNDUP(AE94/AK94,0)&")",AL94)&IF(P94="","",CHAR(10)&"Adelanto movido al pico"))) | P94: =IFERROR(IF(AND(INDEX(criterio!$I$31:$I$111,MATCH(W94,criterio!$A$31:$A$111,0))=1,INDEX(criterio!$B$31:$B$111,MATCH(W94,criterio!$A$31:$A$111,0))=A94,ISNUMBER(B94),B94>=criterio!$B$5,D94<=criterio!$B$6,E94>=criterio!$B$5),"Fuera de la previa del 20/12",""),"") | Q94: =IF(AND(R94>0,ISNUMBER(B94)),IF(U94="mes",EDATE(B94,T94),B94+T94),"") | R94: =IFERROR(MATCH(A94,criterio!$A$11:$A$22,0),0) -> 0 | S94: =IF(R94=0,"",INDEX(criterio!$E$11:$E$22,R94)) | T94: =IF(R94=0,"",INDEX(criterio!$C$11:$C$22,R94)) | U94: =IF(R94=0,"",INDEX(criterio!$D$11:$D$22,R94)) | V94: =IF(AND(ISNUMBER(B94),B94=Turno!$B$3,OR(AL94="Preparar",AL94="Completar")),MAX($V$8:V93)+1,0) -> 0 | Y94: =IF(R94=0,"",INDEX(criterio!$I$11:$I$22,R94)) | Z94: =IF(AC94=1,0,IF(A94="","",IF(ISNUMBER(H94),MAX(IF(ISNUMBER(N94),N94,0),H94-IF(ISNUMBER(I94),I94,0),0),IF(ISNUMBER(AM94),MAX(AM94,N(N94)),IF(ISNUMBER(G94),MAX(G94,N(N94)),N(N94)))))) | AA94: =IF(OR(A94="",COUNT(B94:C94)<>2),"",IF(OR(WEEKDAY(B94,2)>5,COUNTIF(criterio!$B$25:$E$25,B94)>0),"Cambiar día de elaboración",IF(OR(WEEKDAY(C94,2)>5,COUNTIF(criterio!$B$25:$E$25,C94)>0),"Cambiar día de retiro",IF(SUMIF($B$9:$B$128,B94,$AD$9:$AD$128)>criterio!$D$26,"Más de dos recetas",IF(OR(A94="",NOT(ISNUMBER(B94))),"",IF(OR(NOT(ISNUMBER($Q$2)),NOT(ISNUMBER($Q$3)),$Q$2<=0,$Q$3<=0),"Revisar topes de carga",IF(SUMIFS($Z$9:$Z$128,$B$9:$B$128,B94,$F$9:$F$128,"kg")/$Q$2+SUMIFS($Z$9:$Z$128,$B$9:$B$128,B94,$F$9:$F$128,"L")/$Q$3>1.000001,"Repartir carga del día",""))))))) | AB94: =IF(COUNTA(A94:E94,H94:I94,K94:N94)=0,"",IF(R94=0,"Elegir producto",IF(COUNT(B94:E94)<>4,"Completar fechas",IF(E94<D94,"Revisar días de uso",IF(C94+criterio!$B$3>D94,"El retiro llega tarde",IF(AND(N94<>"",OR(NOT(ISNUMBER(N94)),N94<0)),"Revisar cantidad hecha",IF(AND(M94<>"",OR(NOT(ISNUMBER(M94)),M94<0)),"Revisar cant. a adelantar",IF(AND(AND(ISBLANK(H94),L94="Adelanto"),NOT(ISNUMBER(AM94))),"Cargar cant. a adelantar",IF(AND(AND(ISBLANK(H94),L94="Adelanto"),I94<>"",OR(NOT(ISNUMBER(I94)),I94<>0)),"Revisar stock del adelanto",IF(AND(ISNUMBER(N94),N94>0,L94<>"Sí",L94<>"Adelanto",N(M94)<=0),"Hecho sin liberar",IF(AND(ISBLANK(H94),L94<>"Adelanto",OR(I94<>"",L94="Sí")),"Falta pedido real",IF(AND(H94<>"",OR(NOT(ISNUMBER(H94)),H94<0)),"Revisar pedido",IF(AND(ISNUMBER(H94),H94=0,N(M94)>0,N(N94)>0,N(I94)=0),"Reasignar sobrante",IF(AND(ISNUMBER(H94),H94=0,OR(N94>0,I94>0)),"Revisar pedido y cantidades",IF(AND(ISNUMBER(H94),H94=0),"Sin pedido",IF(AND(ISNUMBER(H94),ISBLANK(I94)),"Falta anotar stock",IF(AND(I94<>"",OR(NOT(ISNUMBER(I94)),I94<0,AND(ISNUMBER(H94),I94>H94))),"Revisar stock asignado",IF(AND(ISNUMBER(I94),I94>0,NOT(ISNUMBER(K94))),"Falta vencimiento de stock",IF(AND(ISNUMBER(I94),I94>0,K94<E94+criterio!$B$4),"El stock no cubre el uso",IF(AND(ISNUMBER(H94),ISNUMBER(I94),H94=I94,OR(N94="",N94=0)),"Cubierto con stock",IF(B94=criterio!$B$25,"Jornada bloqueada",IF(B94+S94>C94,"No llega al retiro",IF(Q94<E94,"Vence antes del último uso",IF(Q94<E94+criterio!$B$4,"Falta margen de vida útil",IF(AND(ISBLANK(H94),L94<>"Adelanto",N(N94)>0,N(M94)>0),"Adelanto en pausa",IF(NOT(ISNUMBER(AM94)),"Previsión",IF(AND(ISNUMBER(H94),N(M94)>0,N(N94)>ROUND(H94-N(I94),3)),"Reasignar sobrante",IF(AND(ISNUMBER(N94),N94>ROUND(AM94-N(I94),3)),"Revisar excedente",IF(AND(ISNUMBER(H94),L94<>"Sí",NOT(AND(N(M94)>0,J94=0))),"Por confirmar",IF(J94=0,"Hecho",IF(AND(ISNUMBER(N94),N94>0),"Completar","Preparar"))))))))))))))))))))))))))))))) | AC94: =IF(OR(W94<>"",AJ94=0),0,IF(COUNTIFS($A$9:$A$128,A94,$AJ$9:$AJ$128,1,$D$9:$D$128,"<="&E94,$E$9:$E$128,">="&D94)>1,1,0)) -> 0 | AD94: =IF(OR(NOT(ISNUMBER(B94)),A94="",NOT(ISNUMBER(Z94)),Z94<=0),0,IF(COUNTIFS($A$9:A94,A94,$B$9:B94,B94,$Z$9:Z94,">0")=1,1,0)) -> 0 | AE94: =IF(OR(AK94<=0,AC94=1),0,IF(AND(A94="Tsue",NOT(AND(ISBLANK(H94),L94="Adelanto"))),IF(ISNUMBER(C94),SUMIFS($H$9:$H$128,$A$9:$A$128,A94,$C$9:$C$128,C94,$AC$9:$AC$128,0,$H$9:$H$128,">0"),0),IF(ISNUMBER(Z94),Z94,0))) -> 0 | AF94: =IF(OR(AE94<=0,AK94<=0),0,IF(ABS(AE94/AK94-ROUND(AE94/AK94,0))>0.000001,1,0)) -> 0 | AG94: =IF(OR(AF94=0,AK94<=0),"",IF(A94="Tsue","Retiro: ","Tanda: ")&ROUND(AE94,3)&" "&F94&". Acordar "&INT(AE94/AK94)&" o "&ROUNDUP(AE94/AK94,0)&IF(A94="Tsue"," envases de 5 L."," porciones de 500 g.")) | AH94: =IF(COUNTA(A94:E94,H94:I94,K94:L94,N94)=0,0,IF(OR(NOT(ISNUMBER(B94)),B94<'Por semana'!$C$45,B94>'Por semana'!$J$46+6),1,0)) -> 0 | AI94: =IF(OR(AC94=1,A94=""),0,IF(ISNUMBER(H94),MAX(0,H94),IF(ISNUMBER(G94),G94,0))) -> 0 | AJ94: =IF(OR(A94="",NOT(ISNUMBER(D94)),NOT(ISNUMBER(E94)),AND(ISNUMBER(H94),H94=0)),0,1) -> 0 | AK94: =IF(R94=0,0,IFERROR(INDEX(criterio!$J$11:$J$22,R94)+0,0)) -> 0 | AL94: =IF(AC94=1,"Usar la fila ya prevista",IF(AND(AF94=1,OR(AB94="Preparar",AB94="Completar",AB94="Por confirmar"),AA94=""),"Acordar envases",IF(AND(OR(AB94="Previsión",AB94="Por confirmar",AB94="Preparar",AB94="Completar"),AA94<>""),AA94,AB94))) | AM94: =IF(ISNUMBER(H94),H94,IF(AND(ISBLANK(H94),L94="Adelanto",ISNUMBER(M94),M94>0),M94,""))
F95: =IF(R95=0,"",INDEX(criterio!$B$11:$B$22,R95)) | G95: =IFERROR(IF(INDEX(criterio!$B$31:$B$111,MATCH(W95,criterio!$A$31:$A$111,0))=A95,INDEX(criterio!$C$31:$C$111,MATCH(W95,criterio!$A$31:$A$111,0)),""),"") | J95: =IF(AND(ISNUMBER(AM95),OR(ISBLANK(H95),ISNUMBER(I95))),MAX(0,ROUND(AM95-IF(ISBLANK(H95),0,N(I95))-N(N95),3)),"") | O95: =IF(AL95="Reasignar sobrante","Sobran "&ROUND(N95-MAX(0,H95-N(I95)),3)&" "&F95&" para stock",IF(AND(ISNUMBER(H95),L95="Adelanto",AL95="Por confirmar"),IF(J95>0,IF(J95=1,"Falta ","Faltan ")&ROUND(J95,3)&" "&F95&". Elegí «Sí»"&CHAR(10)&"en «¿Mandar a preparar?».","No falta producir."),IF(AL95="Acordar envases",AL95&" ("&INT(AE95/AK95)&" o "&ROUNDUP(AE95/AK95,0)&")",AL95)&IF(P95="","",CHAR(10)&"Adelanto movido al pico"))) | P95: =IFERROR(IF(AND(INDEX(criterio!$I$31:$I$111,MATCH(W95,criterio!$A$31:$A$111,0))=1,INDEX(criterio!$B$31:$B$111,MATCH(W95,criterio!$A$31:$A$111,0))=A95,ISNUMBER(B95),B95>=criterio!$B$5,D95<=criterio!$B$6,E95>=criterio!$B$5),"Fuera de la previa del 20/12",""),"") | Q95: =IF(AND(R95>0,ISNUMBER(B95)),IF(U95="mes",EDATE(B95,T95),B95+T95),"") | R95: =IFERROR(MATCH(A95,criterio!$A$11:$A$22,0),0) -> 0 | S95: =IF(R95=0,"",INDEX(criterio!$E$11:$E$22,R95)) | T95: =IF(R95=0,"",INDEX(criterio!$C$11:$C$22,R95)) | U95: =IF(R95=0,"",INDEX(criterio!$D$11:$D$22,R95)) | V95: =IF(AND(ISNUMBER(B95),B95=Turno!$B$3,OR(AL95="Preparar",AL95="Completar")),MAX($V$8:V94)+1,0) -> 0 | Y95: =IF(R95=0,"",INDEX(criterio!$I$11:$I$22,R95)) | Z95: =IF(AC95=1,0,IF(A95="","",IF(ISNUMBER(H95),MAX(IF(ISNUMBER(N95),N95,0),H95-IF(ISNUMBER(I95),I95,0),0),IF(ISNUMBER(AM95),MAX(AM95,N(N95)),IF(ISNUMBER(G95),MAX(G95,N(N95)),N(N95)))))) | AA95: =IF(OR(A95="",COUNT(B95:C95)<>2),"",IF(OR(WEEKDAY(B95,2)>5,COUNTIF(criterio!$B$25:$E$25,B95)>0),"Cambiar día de elaboración",IF(OR(WEEKDAY(C95,2)>5,COUNTIF(criterio!$B$25:$E$25,C95)>0),"Cambiar día de retiro",IF(SUMIF($B$9:$B$128,B95,$AD$9:$AD$128)>criterio!$D$26,"Más de dos recetas",IF(OR(A95="",NOT(ISNUMBER(B95))),"",IF(OR(NOT(ISNUMBER($Q$2)),NOT(ISNUMBER($Q$3)),$Q$2<=0,$Q$3<=0),"Revisar topes de carga",IF(SUMIFS($Z$9:$Z$128,$B$9:$B$128,B95,$F$9:$F$128,"kg")/$Q$2+SUMIFS($Z$9:$Z$128,$B$9:$B$128,B95,$F$9:$F$128,"L")/$Q$3>1.000001,"Repartir carga del día",""))))))) | AB95: =IF(COUNTA(A95:E95,H95:I95,K95:N95)=0,"",IF(R95=0,"Elegir producto",IF(COUNT(B95:E95)<>4,"Completar fechas",IF(E95<D95,"Revisar días de uso",IF(C95+criterio!$B$3>D95,"El retiro llega tarde",IF(AND(N95<>"",OR(NOT(ISNUMBER(N95)),N95<0)),"Revisar cantidad hecha",IF(AND(M95<>"",OR(NOT(ISNUMBER(M95)),M95<0)),"Revisar cant. a adelantar",IF(AND(AND(ISBLANK(H95),L95="Adelanto"),NOT(ISNUMBER(AM95))),"Cargar cant. a adelantar",IF(AND(AND(ISBLANK(H95),L95="Adelanto"),I95<>"",OR(NOT(ISNUMBER(I95)),I95<>0)),"Revisar stock del adelanto",IF(AND(ISNUMBER(N95),N95>0,L95<>"Sí",L95<>"Adelanto",N(M95)<=0),"Hecho sin liberar",IF(AND(ISBLANK(H95),L95<>"Adelanto",OR(I95<>"",L95="Sí")),"Falta pedido real",IF(AND(H95<>"",OR(NOT(ISNUMBER(H95)),H95<0)),"Revisar pedido",IF(AND(ISNUMBER(H95),H95=0,N(M95)>0,N(N95)>0,N(I95)=0),"Reasignar sobrante",IF(AND(ISNUMBER(H95),H95=0,OR(N95>0,I95>0)),"Revisar pedido y cantidades",IF(AND(ISNUMBER(H95),H95=0),"Sin pedido",IF(AND(ISNUMBER(H95),ISBLANK(I95)),"Falta anotar stock",IF(AND(I95<>"",OR(NOT(ISNUMBER(I95)),I95<0,AND(ISNUMBER(H95),I95>H95))),"Revisar stock asignado",IF(AND(ISNUMBER(I95),I95>0,NOT(ISNUMBER(K95))),"Falta vencimiento de stock",IF(AND(ISNUMBER(I95),I95>0,K95<E95+criterio!$B$4),"El stock no cubre el uso",IF(AND(ISNUMBER(H95),ISNUMBER(I95),H95=I95,OR(N95="",N95=0)),"Cubierto con stock",IF(B95=criterio!$B$25,"Jornada bloqueada",IF(B95+S95>C95,"No llega al retiro",IF(Q95<E95,"Vence antes del último uso",IF(Q95<E95+criterio!$B$4,"Falta margen de vida útil",IF(AND(ISBLANK(H95),L95<>"Adelanto",N(N95)>0,N(M95)>0),"Adelanto en pausa",IF(NOT(ISNUMBER(AM95)),"Previsión",IF(AND(ISNUMBER(H95),N(M95)>0,N(N95)>ROUND(H95-N(I95),3)),"Reasignar sobrante",IF(AND(ISNUMBER(N95),N95>ROUND(AM95-N(I95),3)),"Revisar excedente",IF(AND(ISNUMBER(H95),L95<>"Sí",NOT(AND(N(M95)>0,J95=0))),"Por confirmar",IF(J95=0,"Hecho",IF(AND(ISNUMBER(N95),N95>0),"Completar","Preparar"))))))))))))))))))))))))))))))) | AC95: =IF(OR(W95<>"",AJ95=0),0,IF(COUNTIFS($A$9:$A$128,A95,$AJ$9:$AJ$128,1,$D$9:$D$128,"<="&E95,$E$9:$E$128,">="&D95)>1,1,0)) -> 0 | AD95: =IF(OR(NOT(ISNUMBER(B95)),A95="",NOT(ISNUMBER(Z95)),Z95<=0),0,IF(COUNTIFS($A$9:A95,A95,$B$9:B95,B95,$Z$9:Z95,">0")=1,1,0)) -> 0 | AE95: =IF(OR(AK95<=0,AC95=1),0,IF(AND(A95="Tsue",NOT(AND(ISBLANK(H95),L95="Adelanto"))),IF(ISNUMBER(C95),SUMIFS($H$9:$H$128,$A$9:$A$128,A95,$C$9:$C$128,C95,$AC$9:$AC$128,0,$H$9:$H$128,">0"),0),IF(ISNUMBER(Z95),Z95,0))) -> 0 | AF95: =IF(OR(AE95<=0,AK95<=0),0,IF(ABS(AE95/AK95-ROUND(AE95/AK95,0))>0.000001,1,0)) -> 0 | AG95: =IF(OR(AF95=0,AK95<=0),"",IF(A95="Tsue","Retiro: ","Tanda: ")&ROUND(AE95,3)&" "&F95&". Acordar "&INT(AE95/AK95)&" o "&ROUNDUP(AE95/AK95,0)&IF(A95="Tsue"," envases de 5 L."," porciones de 500 g.")) | AH95: =IF(COUNTA(A95:E95,H95:I95,K95:L95,N95)=0,0,IF(OR(NOT(ISNUMBER(B95)),B95<'Por semana'!$C$45,B95>'Por semana'!$J$46+6),1,0)) -> 0 | AI95: =IF(OR(AC95=1,A95=""),0,IF(ISNUMBER(H95),MAX(0,H95),IF(ISNUMBER(G95),G95,0))) -> 0 | AJ95: =IF(OR(A95="",NOT(ISNUMBER(D95)),NOT(ISNUMBER(E95)),AND(ISNUMBER(H95),H95=0)),0,1) -> 0 | AK95: =IF(R95=0,0,IFERROR(INDEX(criterio!$J$11:$J$22,R95)+0,0)) -> 0 | AL95: =IF(AC95=1,"Usar la fila ya prevista",IF(AND(AF95=1,OR(AB95="Preparar",AB95="Completar",AB95="Por confirmar"),AA95=""),"Acordar envases",IF(AND(OR(AB95="Previsión",AB95="Por confirmar",AB95="Preparar",AB95="Completar"),AA95<>""),AA95,AB95))) | AM95: =IF(ISNUMBER(H95),H95,IF(AND(ISBLANK(H95),L95="Adelanto",ISNUMBER(M95),M95>0),M95,""))
